BEGIN:VCALENDAR
VERSION:2.0
PRODID:-//Julie Diversy - ECPv6.15.17//NONSGML v1.0//EN
CALSCALE:GREGORIAN
METHOD:PUBLISH
X-ORIGINAL-URL:https://www.juliediversy.com
X-WR-CALDESC:Évènements pour Julie Diversy
REFRESH-INTERVAL;VALUE=DURATION:PT1H
X-Robots-Tag:noindex
X-PUBLISHED-TTL:PT1H
BEGIN:VTIMEZONE
TZID:Europe/Paris
BEGIN:DAYLIGHT
TZOFFSETFROM:+0100
TZOFFSETTO:+0200
TZNAME:CEST
DTSTART:20200329T010000
END:DAYLIGHT
BEGIN:STANDARD
TZOFFSETFROM:+0200
TZOFFSETTO:+0100
TZNAME:CET
DTSTART:20201025T010000
END:STANDARD
BEGIN:DAYLIGHT
TZOFFSETFROM:+0100
TZOFFSETTO:+0200
TZNAME:CEST
DTSTART:20210328T010000
END:DAYLIGHT
BEGIN:STANDARD
TZOFFSETFROM:+0200
TZOFFSETTO:+0100
TZNAME:CET
DTSTART:20211031T010000
END:STANDARD
BEGIN:DAYLIGHT
TZOFFSETFROM:+0100
TZOFFSETTO:+0200
TZNAME:CEST
DTSTART:20220327T010000
END:DAYLIGHT
BEGIN:STANDARD
TZOFFSETFROM:+0200
TZOFFSETTO:+0100
TZNAME:CET
DTSTART:20221030T010000
END:STANDARD
END:VTIMEZONE
BEGIN:VEVENT
DTSTART;VALUE=DATE:20211010
DTEND;VALUE=DATE:20211011
DTSTAMP:20260426T071636
CREATED:20210830T113543Z
LAST-MODIFIED:20210830T113558Z
UID:7633-1633824000-1633910399@www.juliediversy.com
SUMMARY:Atelier Reliance (Se) Faire Confiance
DESCRIPTION:Venez vous détendre à l’occasion d’un atelier découverte de 3 heures de peinture reliance dans le joli village classé d’Ansouis au sein d’une Galerie d’Art. \nVous découvrirez comment le fait d’oeuvrer avec l’eau salée et les pigments de couleurs vous apportera un temps de retour à vous-même ressourçant et précieux qui vous fera lâcher et ressentir plus de confiance. \nLes modalités pratiques : \n\nAtelier en co-animation avec Pierre pour 4-6 personnes uniquement. \nTarif  : 40€  (matériel inclus) de 15h00 à 18h00.\nIl n’est pas nécessaire de savoir peindre pour venir… juste avoir envie de tester un procédé unique en s’installant au coeur d’une magnifique galerie d’art.\nInscription directement au 07 64 33 00 81 auprès de la Galerie Éphémère d’Ansouis ou par message en cliquant sur le bouton ci-dessous.\n\nA bientôt\, \n\nJe m’inscris\n\nDécouvrir tous mes livres et ateliers d’écritures
URL:https://www.juliediversy.com/evenement/peintureansouis10oct2021/
LOCATION:Atelier Éphémère\, 8 Rue Basse\, Ansouis\, 84240\, France
CATEGORIES:Anouk et les mystères de l'eau,Workshop créatifs
ATTACH;FMTTYPE=image/jpeg:https://www.juliediversy.com/wp-content/uploads/2020/10/sandra-seitamaa-7-3cGWyQlV0-unsplash-1-scaled.jpg
END:VEVENT
END:VCALENDAR