BEGIN:VCALENDAR
VERSION:2.0
PRODID:-//Julie Diversy - ECPv6.15.17//NONSGML v1.0//EN
CALSCALE:GREGORIAN
METHOD:PUBLISH
X-WR-CALNAME:Julie Diversy
X-ORIGINAL-URL:https://www.juliediversy.com
X-WR-CALDESC:Évènements pour Julie Diversy
REFRESH-INTERVAL;VALUE=DURATION:PT1H
X-Robots-Tag:noindex
X-PUBLISHED-TTL:PT1H
BEGIN:VTIMEZONE
TZID:Europe/Helsinki
BEGIN:DAYLIGHT
TZOFFSETFROM:+0200
TZOFFSETTO:+0300
TZNAME:EEST
DTSTART:20180325T010000
END:DAYLIGHT
BEGIN:STANDARD
TZOFFSETFROM:+0300
TZOFFSETTO:+0200
TZNAME:EET
DTSTART:20181028T010000
END:STANDARD
BEGIN:DAYLIGHT
TZOFFSETFROM:+0200
TZOFFSETTO:+0300
TZNAME:EEST
DTSTART:20190331T010000
END:DAYLIGHT
BEGIN:STANDARD
TZOFFSETFROM:+0300
TZOFFSETTO:+0200
TZNAME:EET
DTSTART:20191027T010000
END:STANDARD
BEGIN:DAYLIGHT
TZOFFSETFROM:+0200
TZOFFSETTO:+0300
TZNAME:EEST
DTSTART:20200329T010000
END:DAYLIGHT
BEGIN:STANDARD
TZOFFSETFROM:+0300
TZOFFSETTO:+0200
TZNAME:EET
DTSTART:20201025T010000
END:STANDARD
END:VTIMEZONE
BEGIN:VEVENT
DTSTART;VALUE=DATE:20191011
DTEND;VALUE=DATE:20191015
DTSTAMP:20260426T064052
CREATED:20190703T170025Z
LAST-MODIFIED:20190703T170025Z
UID:6248-1570752000-1571097599@www.juliediversy.com
SUMMARY:Lecture d'âme (consultation akashique) - Paris sur RDV uniquement
DESCRIPTION:Akasha en sanskrit désigne l’éther\, l’essence primordiale\, vibratoire\, à la source de toute création. C’est la matrice qui sous-tend et embrasse l’Univers ; le champ d’énergie où tout se relie et s’imprime : nos actes\, nos émotions\, nos croyances\, nos pensées\, une existence après l’autre… Cette vaste bibliothèque\, cette âme du monde\, est l’espace de conscience auquel se branchent les chamanes\, les mystiques\, les médiums. Cette matrice universelle est partout autour de nous\, accessible à qui sait se caler sur sa fréquence\, au-delà des frontières de nos perceptions ordinaires. \nLes Archives Akashiques constituent donc le savoir passé\, présent et futur de toute chose. Elles contiennent l’enregistrement du voyage de l’Âme depuis sa conception et les possibilités de son déploiement dans le futur. On se réfère aux Archives Akashiques dans pratiquement tous les anciens enseignements spirituels. Elles sont connues dans la Bible comme “Le Livre de Vie”. \nUne consultation consiste à ouvrir les Archives Akashiques de votre âme\, avec votre autorisation\, et à transmettre les informations de ce niveau spirituel sacré et profond. Les perceptions\, éclairages et conseils que vous recevrez de cette expérience vous seront utiles pour résoudre les défis de la vie courante. Ils amèneront votre attention et votre énergie au moment présent\, ce qui vous permettra de revenir à l’essentiel. Cette session vous aidera à gagner de la clarté dans votre croissance spirituelle et personnelle pour votre bien le plus élevé. \nConsultante* en lecture akashique depuis près de 10 ans\, je vous invite à venir en faire l’expérience. \nJe consulte habituellement par skype ou téléphone mais désireuse de répondre à la demande d’une rencontre de visu de certain(e)s d’entre vous\, je vous propose de nouvelles dates parisiennes. \nLe vendredi 11 octobre et le lundi 14 octobre matinée. \nUne consultation dure 1h30 et je vous demande de choisir votre tarif entre 70€/ heure et 110€ /heure ( nb : pour répondre souvent aux questions à ce sujet 🙂 Il n’y a pas de différence de qualité ni de temps\, juste un souhait de ma part de répondre aux bourses de chacune et chacun. Je vous laisse donc choisir en conscience dans cette fourchette \, en prêtant attention au fait qu’il sera nécessaire d’ajouter une demi-heure au tarif horaire que vous aurez choisi puisque le rdv dure 1h30. \nIntéressé(e) ? Alors à vos agendas 😉 Pour prendre rdv\, c’est ici : contact \nBesoin de plus d’informations ? Consultez ma page sur les Lectures Akashiques ainsi que les témoignages des clients. \nBelle journée\, \nJulie \n* certifiée par « Journey2theHeart » Don Ernesto Ortiz
URL:https://www.juliediversy.com/evenement/lecture-dame-consultation-akashique-paris-octobre2019-sur-rdv-uniquement/
LOCATION:AEPP\, 4 Rue Titon\, Paris\, 75011\, France
CATEGORIES:Ateliers Akashiques
ATTACH;FMTTYPE=image/jpeg:https://www.juliediversy.com/wp-content/uploads/2016/07/pexels-photo-52062.jpeg
END:VEVENT
BEGIN:VEVENT
DTSTART;VALUE=DATE:20191021
DTEND;VALUE=DATE:20191022
DTSTAMP:20260426T064052
CREATED:20190609T184505Z
LAST-MODIFIED:20191005T100824Z
UID:6216-1571616000-1571702399@www.juliediversy.com
SUMMARY:Lecture d'âme (consultation akashique) - Proche Bordeaux sur RDV uniquement
DESCRIPTION:Akasha en sanskrit désigne l’éther\, l’essence primordiale\, vibratoire\, à la source de toute création. C’est la matrice qui sous-tend et embrasse l’Univers ; le champ d’énergie où tout se relie et s’imprime : nos actes\, nos émotions\, nos croyances\, nos pensées\, une existence après l’autre… Cette vaste bibliothèque\, cette âme du monde\, est l’espace de conscience auquel se branchent les chamanes\, les mystiques\, les médiums. Cette matrice universelle est partout autour de nous\, accessible à qui sait se caler sur sa fréquence\, au-delà des frontières de nos perceptions ordinaires. \nLes Archives Akashiques constituent donc le savoir passé\, présent et futur de toute chose. Elles contiennent l’enregistrement du voyage de l’Âme depuis sa conception et les possibilités de son déploiement dans le futur. On se réfère aux Archives Akashiques dans pratiquement tous les anciens enseignements spirituels. Elles sont connues dans la Bible comme “Le Livre de Vie”. \nUne consultation consiste à ouvrir les Archives Akashiques de votre âme\, avec votre autorisation\, et à transmettre les informations de ce niveau spirituel sacré et profond. Les perceptions\, éclairages et conseils que vous recevrez de cette expérience vous seront utiles pour résoudre les défis de la vie courante. Ils amèneront votre attention et votre énergie au moment présent\, ce qui vous permettra de revenir à l’essentiel. Cette session vous aidera à gagner de la clarté dans votre croissance spirituelle et personnelle pour votre bien le plus élevé. \nConsultante* en lecture akashique depuis près de 10 ans\, je vous invite à venir en faire l’expérience. \nJe consulte habituellement par skype ou téléphone mais désireuse de répondre à la demande d’une rencontre de visu de certain(e)s d’entre vous\, je vous propose une date à Yogaland\, à La Lande de fronsac à la rentrée prochaine. \nUne consultation dure 1h30 et je vous demande de choisir votre tarif entre 70€/ heure et 110€ /heure ( nb : pour répondre souvent aux questions à ce sujet 🙂 Il n’y a pas de différence de qualité ni de temps\, juste un souhait de ma part de répondre aux bourses de chacune et chacun. Je vous laisse donc choisir en conscience dans cette fourchette\, en prêtant attention au fait qu’il sera nécessaire d’ajouter une demi-heure au tarif horaire que vous aurez choisi puisque le rdv dure 1h30. \nJournée avec votre rdv qui peut être suivi le lendemain de l’atelier créatif sur l’élan de vie et la créativité. Possibilité d’hébergement la veille et le jour même : \nEn chambre individuelle : 90€/pers/jour en pension complète* \nEn chambre à 2 lits : 75€/pers/jour en pension complète \n`En chambre à 3 lits : 65€/pers/jour en pension complète \n*La pension complète comprend petit-déjeuner\, pause infusions\, repas végétariens\, la literie est  équipée de draps et couette fournis. \nIntéressé(e) ? Alors à vos agendas 😉 Pour prendre rdv\, c’est ici : contact \nBesoin de plus d’informations ? Consultez ma page sur les Lectures Akashiques ainsi que les témoignages des clients. \nBelle journée\, \nJulie \n* certifiée par « Journey2theHeart » Don Ernesto Ortiz
URL:https://www.juliediversy.com/evenement/lecture-dame-consultation-akashique-yogaland-octobre-sur-rdv-uniquement/
LOCATION:La Lande de Fronsac\, 33240\, France
CATEGORIES:Ateliers Akashiques
ATTACH;FMTTYPE=image/jpeg:https://www.juliediversy.com/wp-content/uploads/2018/08/IMG_1901.jpg
END:VEVENT
END:VCALENDAR