BEGIN:VCALENDAR
VERSION:2.0
PRODID:-//Julie Diversy - ECPv6.15.17//NONSGML v1.0//EN
CALSCALE:GREGORIAN
METHOD:PUBLISH
X-WR-CALNAME:Julie Diversy
X-ORIGINAL-URL:https://www.juliediversy.com
X-WR-CALDESC:Évènements pour Julie Diversy
REFRESH-INTERVAL;VALUE=DURATION:PT1H
X-Robots-Tag:noindex
X-PUBLISHED-TTL:PT1H
BEGIN:VTIMEZONE
TZID:Europe/Paris
BEGIN:DAYLIGHT
TZOFFSETFROM:+0100
TZOFFSETTO:+0200
TZNAME:CEST
DTSTART:20190331T010000
END:DAYLIGHT
BEGIN:STANDARD
TZOFFSETFROM:+0200
TZOFFSETTO:+0100
TZNAME:CET
DTSTART:20191027T010000
END:STANDARD
BEGIN:DAYLIGHT
TZOFFSETFROM:+0100
TZOFFSETTO:+0200
TZNAME:CEST
DTSTART:20200329T010000
END:DAYLIGHT
BEGIN:STANDARD
TZOFFSETFROM:+0200
TZOFFSETTO:+0100
TZNAME:CET
DTSTART:20201025T010000
END:STANDARD
BEGIN:DAYLIGHT
TZOFFSETFROM:+0100
TZOFFSETTO:+0200
TZNAME:CEST
DTSTART:20210328T010000
END:DAYLIGHT
BEGIN:STANDARD
TZOFFSETFROM:+0200
TZOFFSETTO:+0100
TZNAME:CET
DTSTART:20211031T010000
END:STANDARD
END:VTIMEZONE
BEGIN:VEVENT
DTSTART;VALUE=DATE:20200620
DTEND;VALUE=DATE:20200622
DTSTAMP:20260425T142243
CREATED:20191210T133321Z
LAST-MODIFIED:20200328T135310Z
UID:6386-1592611200-1592783999@www.juliediversy.com
SUMMARY:Mon rapport à l'Argent- Mon rapport à la Vie - Module 3 - Aix
DESCRIPTION:Ce module 3 s’adresse aux personnes ayant déjà suivi les modules Argent 1 et 2. \nCe dernier atelier a pour but de libérer sur un plan énergétique les blocages en lien avec l’argent qui pourraient subsister à des niveaux plus subtils . \nHoraires : Samedi 13h00 – 19h00 – Dimanche 9h00-19h00 \nNota Bene : Ces dates ont été choisies avec le groupe lors du module 1 en décembre 2019. Elles sont donc spécifiques aux personnes qui ont déjà participé aux autres modules. Elles servent de mémo à celles et ceux qui en auraient besoin 😉 Elles ne constituent donc pas des dates ouvertes pour y participer. \nSi vous souhaitez démarrer un cycle\, vous devez vous inscrire à un module 1 ; les dates des modules 2 et 3 seront définies de concert à cette occasion. Cependant\, si il n’y a pas de dates encore ouvertes pour un module 1 mais que vous désirez former un groupe avant\, n’hésitez pas à me contacter en cliquant sur le bouton ci-dessous ou via le formulaire de contact sur mon site. 🙂 \n  \n\nBesoin d’information ?
URL:https://www.juliediversy.com/evenement/argent3-aix-11et12avril2020/
LOCATION:28 Bis\, 28 bis boulevard François et Émile Zola\, Aix-en-Provence\, 13100\, France
CATEGORIES:Ateliers Argent
ATTACH;FMTTYPE=image/jpeg:https://www.juliediversy.com/wp-content/uploads/2017/07/20157156_1551967488207464_3061702685354489983_o.jpg
END:VEVENT
END:VCALENDAR