BEGIN:VCALENDAR
VERSION:2.0
PRODID:-//Julie Diversy - ECPv6.15.17//NONSGML v1.0//EN
CALSCALE:GREGORIAN
METHOD:PUBLISH
X-WR-CALNAME:Julie Diversy
X-ORIGINAL-URL:https://www.juliediversy.com
X-WR-CALDESC:Évènements pour Julie Diversy
REFRESH-INTERVAL;VALUE=DURATION:PT1H
X-Robots-Tag:noindex
X-PUBLISHED-TTL:PT1H
BEGIN:VTIMEZONE
TZID:Europe/Paris
BEGIN:DAYLIGHT
TZOFFSETFROM:+0100
TZOFFSETTO:+0200
TZNAME:CEST
DTSTART:20210328T010000
END:DAYLIGHT
BEGIN:STANDARD
TZOFFSETFROM:+0200
TZOFFSETTO:+0100
TZNAME:CET
DTSTART:20211031T010000
END:STANDARD
BEGIN:DAYLIGHT
TZOFFSETFROM:+0100
TZOFFSETTO:+0200
TZNAME:CEST
DTSTART:20220327T010000
END:DAYLIGHT
BEGIN:STANDARD
TZOFFSETFROM:+0200
TZOFFSETTO:+0100
TZNAME:CET
DTSTART:20221030T010000
END:STANDARD
BEGIN:DAYLIGHT
TZOFFSETFROM:+0100
TZOFFSETTO:+0200
TZNAME:CEST
DTSTART:20230326T010000
END:DAYLIGHT
BEGIN:STANDARD
TZOFFSETFROM:+0200
TZOFFSETTO:+0100
TZNAME:CET
DTSTART:20231029T010000
END:STANDARD
END:VTIMEZONE
BEGIN:VEVENT
DTSTART;VALUE=DATE:20220430
DTEND;VALUE=DATE:20220613
DTSTAMP:20260424T070546
CREATED:20220330T164910Z
LAST-MODIFIED:20220613T191053Z
UID:7761-1651276800-1655078399@www.juliediversy.com
SUMMARY:Rencontres-dédicaces : toutes les dates et les lieux
DESCRIPTION:Chères étincelles\, \nVenez me retrouver pour échanger au sujet des archives akashiques lors de rencontres-dédicaces. \nMes 3 livres pourront être à l’honneur mais je ferai la part belle au dernier né « À la découverte des mémoires akashiques » à paraitre aux éditions Eyrolles le 14 avril 2022.  \nVous trouverez ici le calendrier des rencontres\, d’avril à août\, dans différentes régions\, dates qui s’actualiseront au fur et à mesure de mes contacts donc n’hésitez pas à refaire un petit tour sur cette page\, de temps en temps.  \n  \n📚 Agenda des rencontres 2022 \n👉 le samedi 30 avril à la Librairie Derain de 14h30 à 18h30 à Lyon \n👉 le samedi 7 mai à la Librairie L’Initié de 14h à 18h – près d’Aix-en-Provence \n👉 le vendredi 12 août à la Librairie La Chaloupe de 11h à 18h – dans le Cotentin \nParis et Montpellier sont en préparation. \n  \n📍 Les adresses où se retrouver \nLibrairie Derain – 25 Rue Bugeaud – 69006 Lyon \nLibrairie L’Initié – 60 avenue de la grande Bégude – Les terrasses du Cellier – 13770 Venelles \nLibrairie la Chaloupe – 32&35 Rue de Verrüe –  50550 Saint-Vaast-la-Hougue \n  \nA bientôt  💫 \nJulie \n\nJe me renseigne
URL:https://www.juliediversy.com/evenement/rencontresdedicaces/
LOCATION:En France\, France
CATEGORIES:Dédicaces
ATTACH;FMTTYPE=image/jpeg:https://www.juliediversy.com/wp-content/uploads/2022/03/1èrecouvertureMémoiresaak-scaled-e1650715853843.jpg
END:VEVENT
END:VCALENDAR