BEGIN:VCALENDAR
VERSION:2.0
PRODID:-//Julie Diversy - ECPv6.15.17//NONSGML v1.0//EN
CALSCALE:GREGORIAN
METHOD:PUBLISH
X-WR-CALNAME:Julie Diversy
X-ORIGINAL-URL:https://www.juliediversy.com
X-WR-CALDESC:Évènements pour Julie Diversy
REFRESH-INTERVAL;VALUE=DURATION:PT1H
X-Robots-Tag:noindex
X-PUBLISHED-TTL:PT1H
BEGIN:VTIMEZONE
TZID:Europe/Paris
BEGIN:DAYLIGHT
TZOFFSETFROM:+0100
TZOFFSETTO:+0200
TZNAME:CEST
DTSTART:20210328T010000
END:DAYLIGHT
BEGIN:STANDARD
TZOFFSETFROM:+0200
TZOFFSETTO:+0100
TZNAME:CET
DTSTART:20211031T010000
END:STANDARD
BEGIN:DAYLIGHT
TZOFFSETFROM:+0100
TZOFFSETTO:+0200
TZNAME:CEST
DTSTART:20220327T010000
END:DAYLIGHT
BEGIN:STANDARD
TZOFFSETFROM:+0200
TZOFFSETTO:+0100
TZNAME:CET
DTSTART:20221030T010000
END:STANDARD
BEGIN:DAYLIGHT
TZOFFSETFROM:+0100
TZOFFSETTO:+0200
TZNAME:CEST
DTSTART:20230326T010000
END:DAYLIGHT
BEGIN:STANDARD
TZOFFSETFROM:+0200
TZOFFSETTO:+0100
TZNAME:CET
DTSTART:20231029T010000
END:STANDARD
END:VTIMEZONE
BEGIN:VEVENT
DTSTART;TZID=Europe/Paris:20221203T140000
DTEND;TZID=Europe/Paris:20221203T183000
DTSTAMP:20260423T222017
CREATED:20221023T163515Z
LAST-MODIFIED:20221023T171650Z
UID:8024-1670076000-1670092200@www.juliediversy.com
SUMMARY:Conf'échanges à L'Initié à Venelles (13)
DESCRIPTION:Chères étincelles\, \nJe suis en Joie de vous retrouver à la Librairie L’Initié à Venelles le samedi 3 décembre\, de 14h à 18h30 pour une conf’échanges sur nos liens avec l’invisible et l’Akasha\, le rôle qu’ils jouent dans nos vies à tous\, et plus particulièrement dans celui qu’ils ont joué dans l’écriture de mes 3 livres : Anouk & les mystères de l’eau paru aux éditions Aluna en 2017\, Le Prince de Feu paru en auto-édition en 2021 et À la découverte des mémoires akashiques paru aux éditions Eyrolles en avril 2022. \nNous serons heureux également avec Pierre Porta\, illustrateur d’Anouk et du Prince de Feu de répondre à vos questions sur l’aventure de ces livres et de vous offrir quelques surprises\, dont un cadeau\, sur tirage au sort\, pour inaugurer la préparation des fêtes de Noël qui approchent 😉 \n14h-15h : conf’échanges \n15h-18h :  dédicaces et temps informel pour répondre à vos questions \n18h : tirage au sort et remise du cadeau. \n📍 Librairie L’Initié \n60 Avenue de la Grande Bégude \nLes terrasses du Cellier\n13770 VENELLES  \nParking en bas des Terrasses – https://librairie-initie.com/ \nLes livres seront en vente à la Librairie. \nUn livre pour Noël\, cela fait toujours plaisir à offrir ! Pensez à vos ami.e.s !  \nA bientôt💫 \nJulie et Pierre \n\nPlus d’infos ?
URL:https://www.juliediversy.com/evenement/confechangeslinitievenelles/
LOCATION:Librairie L’Initié Venelles\, France
CATEGORIES:Ateliers Akashiques,Dédicaces
ATTACH;FMTTYPE=image/jpeg:https://www.juliediversy.com/wp-content/uploads/2017/07/WhatsApp-Image-2021-08-04-at-14.24.16-1.jpeg
END:VEVENT
END:VCALENDAR