BEGIN:VCALENDAR
VERSION:2.0
PRODID:-//Julie Diversy - ECPv6.15.17//NONSGML v1.0//EN
CALSCALE:GREGORIAN
METHOD:PUBLISH
X-WR-CALNAME:Julie Diversy
X-ORIGINAL-URL:https://www.juliediversy.com
X-WR-CALDESC:Évènements pour Julie Diversy
REFRESH-INTERVAL;VALUE=DURATION:PT1H
X-Robots-Tag:noindex
X-PUBLISHED-TTL:PT1H
BEGIN:VTIMEZONE
TZID:Europe/Helsinki
BEGIN:DAYLIGHT
TZOFFSETFROM:+0200
TZOFFSETTO:+0300
TZNAME:EEST
DTSTART:20250330T010000
END:DAYLIGHT
BEGIN:STANDARD
TZOFFSETFROM:+0300
TZOFFSETTO:+0200
TZNAME:EET
DTSTART:20251026T010000
END:STANDARD
BEGIN:DAYLIGHT
TZOFFSETFROM:+0200
TZOFFSETTO:+0300
TZNAME:EEST
DTSTART:20260329T010000
END:DAYLIGHT
BEGIN:STANDARD
TZOFFSETFROM:+0300
TZOFFSETTO:+0200
TZNAME:EET
DTSTART:20261025T010000
END:STANDARD
BEGIN:DAYLIGHT
TZOFFSETFROM:+0200
TZOFFSETTO:+0300
TZNAME:EEST
DTSTART:20270328T010000
END:DAYLIGHT
BEGIN:STANDARD
TZOFFSETFROM:+0300
TZOFFSETTO:+0200
TZNAME:EET
DTSTART:20271031T010000
END:STANDARD
END:VTIMEZONE
BEGIN:VEVENT
DTSTART;TZID=Europe/Helsinki:20260321T143000
DTEND;TZID=Europe/Helsinki:20260321T170000
DTSTAMP:20260421T124652
CREATED:20260131T073934Z
LAST-MODIFIED:20260211T151629Z
UID:14330-1774103400-1774112400@www.juliediversy.com
SUMMARY:Signature-évènement "Les battements de ton coeur" 21 mars - Paris
DESCRIPTION:Chères étincelles\,\nJe suis en joie de vous inviter à venir fêter la sortie de mon nouveau livre\n« Les Battements de ton coeur »\nle samedi 21 mars de 14h30 à 17h au 55\, attenant à la librairie Eyrolles à Paris.\nEmma Chedid qui a préfacé le livre sera également des nôtres pour nous faire profiter de ses oeuvres ludiques et immersives – les BoPi-LLuly – et accompagner agréablement notre rencontre\, en plus d’un petit cocktail de bienvenue. ✨\nAlors\, on vous attend nombreux !\n📍 Retrouvez-nous au Le 55 – Librairie Eyrolles – 55 bvd St Germain\, dans le 6ème à Paris.\n👉 Pour réserver votre place\, cliquer sur ce lien – vous serez ensuite redirigé.e.s vers Eventbrite pour vous inscrire. N’hésitez pas à revenir vers moi en cas de problème mais je ne pourrai pas prendre les réservations en direct. 🙏\n⚠️ Réservation obligatoire car les places sont limitées.\nChaleureusement\,\nJulie
URL:https://www.juliediversy.com/evenement/signature-evenement-les-battements-de-ton-coeur-21-mars-paris/
LOCATION:55 – Librairie Eyrolles
CATEGORIES:Dédicaces
ATTACH;FMTTYPE=image/png:https://www.juliediversy.com/wp-content/uploads/2026/01/C1-battements-de-ton-coeur.png
END:VEVENT
END:VCALENDAR