BEGIN:VCALENDAR
VERSION:2.0
PRODID:-//Julie Diversy - ECPv6.15.17//NONSGML v1.0//EN
CALSCALE:GREGORIAN
METHOD:PUBLISH
X-WR-CALNAME:Julie Diversy
X-ORIGINAL-URL:https://www.juliediversy.com
X-WR-CALDESC:Évènements pour Julie Diversy
REFRESH-INTERVAL;VALUE=DURATION:PT1H
X-Robots-Tag:noindex
X-PUBLISHED-TTL:PT1H
BEGIN:VTIMEZONE
TZID:Europe/Helsinki
BEGIN:DAYLIGHT
TZOFFSETFROM:+0200
TZOFFSETTO:+0300
TZNAME:EEST
DTSTART:20250330T010000
END:DAYLIGHT
BEGIN:STANDARD
TZOFFSETFROM:+0300
TZOFFSETTO:+0200
TZNAME:EET
DTSTART:20251026T010000
END:STANDARD
BEGIN:DAYLIGHT
TZOFFSETFROM:+0200
TZOFFSETTO:+0300
TZNAME:EEST
DTSTART:20260329T010000
END:DAYLIGHT
BEGIN:STANDARD
TZOFFSETFROM:+0300
TZOFFSETTO:+0200
TZNAME:EET
DTSTART:20261025T010000
END:STANDARD
BEGIN:DAYLIGHT
TZOFFSETFROM:+0200
TZOFFSETTO:+0300
TZNAME:EEST
DTSTART:20270328T010000
END:DAYLIGHT
BEGIN:STANDARD
TZOFFSETFROM:+0300
TZOFFSETTO:+0200
TZNAME:EET
DTSTART:20271031T010000
END:STANDARD
END:VTIMEZONE
BEGIN:VEVENT
DTSTART;TZID=Europe/Helsinki:20260429T173000
DTEND;TZID=Europe/Helsinki:20260429T200000
DTSTAMP:20260421T111612
CREATED:20260210T155323Z
LAST-MODIFIED:20260410T155210Z
UID:14484-1777483800-1777492800@www.juliediversy.com
SUMMARY:Échanges-dédicaces - 29 avril - Paris (report de la date du 27 mars)
DESCRIPTION:Chères étincelles\,\nRetrouvez nous à la librairie La Cédille\, le mercredi 29 avril de 17h30 à 20h\, pour un échange autour de mon livre « les battements de ton coeur » paru le 19 mars aux éditions Eyrolles et préfacé par Louis et Emma Chedid.\nAu croisement des traditions anciennes\, des découvertes en neurosciences et des approches énergétiques contemporaines\, ce livre propose une exploration du cœur dans toutes ses dimensions : physique\, émotionnelle\, électromagnétique\, symbolique. Car le cœur ne fait pas que battre – il ressent\, il capte\, il rayonne.\nJe vous relaterai au gré de vos questions\, quelques expériences fabuleuses et découvertes sur son fonctionnement et sa connexion avec ce que l’on appelle l’éveil…\n📍 Librairie La Cédille – 33 rue des volontaires – 75015 Paris (métro Volontaires)\nUn petit apéritif vous souhaitera la bienvenue.\n👉 Merci de revenir vers moi pour vous inscrire.\nChaleureusement\,\nJulie
URL:https://www.juliediversy.com/evenement/echanges-dedicaces-29-avril-paris/
CATEGORIES:Dédicaces
ATTACH;FMTTYPE=image/jpeg:https://www.juliediversy.com/wp-content/uploads/2026/02/Insta-ete-2024-12.jpg
END:VEVENT
END:VCALENDAR