BEGIN:VCALENDAR
VERSION:2.0
PRODID:-//Julie Diversy - ECPv6.15.17//NONSGML v1.0//EN
CALSCALE:GREGORIAN
METHOD:PUBLISH
X-ORIGINAL-URL:https://www.juliediversy.com
X-WR-CALDESC:Évènements pour Julie Diversy
REFRESH-INTERVAL;VALUE=DURATION:PT1H
X-Robots-Tag:noindex
X-PUBLISHED-TTL:PT1H
BEGIN:VTIMEZONE
TZID:Europe/Paris
BEGIN:DAYLIGHT
TZOFFSETFROM:+0100
TZOFFSETTO:+0200
TZNAME:CEST
DTSTART:20180325T010000
END:DAYLIGHT
BEGIN:STANDARD
TZOFFSETFROM:+0200
TZOFFSETTO:+0100
TZNAME:CET
DTSTART:20181028T010000
END:STANDARD
BEGIN:DAYLIGHT
TZOFFSETFROM:+0100
TZOFFSETTO:+0200
TZNAME:CEST
DTSTART:20190331T010000
END:DAYLIGHT
BEGIN:STANDARD
TZOFFSETFROM:+0200
TZOFFSETTO:+0100
TZNAME:CET
DTSTART:20191027T010000
END:STANDARD
BEGIN:DAYLIGHT
TZOFFSETFROM:+0100
TZOFFSETTO:+0200
TZNAME:CEST
DTSTART:20200329T010000
END:DAYLIGHT
BEGIN:STANDARD
TZOFFSETFROM:+0200
TZOFFSETTO:+0100
TZNAME:CET
DTSTART:20201025T010000
END:STANDARD
END:VTIMEZONE
BEGIN:VEVENT
DTSTART;VALUE=DATE:20191019
DTEND;VALUE=DATE:20191215
DTSTAMP:20260426T070122
CREATED:20190928T165126Z
LAST-MODIFIED:20190928T165126Z
UID:6326-1571443200-1576367999@www.juliediversy.com
SUMMARY:3 Ateliers Écriture et Peinture en Provence // Automne-Hiver
DESCRIPTION:Vous avez envie de prendre quelques heures rien que pour vous ? d’écrire ou de peindre depuis longtemps ? Vous n’arrivez pas à vous y mettre ? Vous avez le souhait de sortir des sentiers battus\, d’explorer autre chose\, de faire émerger de nouvelles idées ?\nNous vous apprendrons au cours de ces ateliers d’une demi-journée comment débloquer\, favoriser\, développer votre créativité ; comment accueillir les mots\, le geste\, la couleur\, la forme comme ils émergent et à vous laisser porter par ce qui vient.\nNous vous ferons découvrir comment l’eau utilisée comme média vous accompagnera avec une simplicité enfantine.\nVous risquez d’être agréablement surpris.e.s !\nNous vous raconterons également comment en accueillant ainsi l’évidence\, Pierre Porta et moi-même avons donné naissance à notre conte illustré « Anouk et les mystères de l’eau »\, paru aux éditions Aluna en Novembre 2017.\n∼\nModalités pratiques\nAtelier entre 6-8 personnes.\nTarif  : 40€  (matériel inclus) de 15h00 à 18h00 le samedi 19 octobre\, le dimanche 24 novembre et le samedi 14 décembre 2019. \nIl n’est pas nécessaire de savoir écrire ou peindre ni de suivre les 3 ateliers ; chaque atelier est indépendant même si l’ensemble offre une progression.\nInscription directement au 04 90 07 47 27 auprès de l’Atelier ou en cliquant sur le bouton ci- dessous 😉\nA bientôt\,\n\nJe m’inscris\n\nDécouvrir tous mes livres et ateliers d’écritures
URL:https://www.juliediversy.com/evenement/ecritureansouisautomnehiver2019/
LOCATION:Atelier Éphémère\, 8 Rue Basse\, Ansouis\, 84240\, France
CATEGORIES:Workshop créatifs
ATTACH;FMTTYPE=image/jpeg:https://www.juliediversy.com/wp-content/uploads/2018/11/IMG_8709.jpg
END:VEVENT
END:VCALENDAR