BEGIN:VCALENDAR
VERSION:2.0
PRODID:-//Julie Diversy - ECPv6.15.17//NONSGML v1.0//EN
CALSCALE:GREGORIAN
METHOD:PUBLISH
X-ORIGINAL-URL:https://www.juliediversy.com
X-WR-CALDESC:Évènements pour Julie Diversy
REFRESH-INTERVAL;VALUE=DURATION:PT1H
X-Robots-Tag:noindex
X-PUBLISHED-TTL:PT1H
BEGIN:VTIMEZONE
TZID:Europe/Paris
BEGIN:DAYLIGHT
TZOFFSETFROM:+0100
TZOFFSETTO:+0200
TZNAME:CEST
DTSTART:20190331T010000
END:DAYLIGHT
BEGIN:STANDARD
TZOFFSETFROM:+0200
TZOFFSETTO:+0100
TZNAME:CET
DTSTART:20191027T010000
END:STANDARD
BEGIN:DAYLIGHT
TZOFFSETFROM:+0100
TZOFFSETTO:+0200
TZNAME:CEST
DTSTART:20200329T010000
END:DAYLIGHT
BEGIN:STANDARD
TZOFFSETFROM:+0200
TZOFFSETTO:+0100
TZNAME:CET
DTSTART:20201025T010000
END:STANDARD
BEGIN:DAYLIGHT
TZOFFSETFROM:+0100
TZOFFSETTO:+0200
TZNAME:CEST
DTSTART:20210328T010000
END:DAYLIGHT
BEGIN:STANDARD
TZOFFSETFROM:+0200
TZOFFSETTO:+0100
TZNAME:CET
DTSTART:20211031T010000
END:STANDARD
END:VTIMEZONE
BEGIN:VEVENT
DTSTART;VALUE=DATE:20200918
DTEND;VALUE=DATE:20200922
DTSTAMP:20260425T165112
CREATED:20200307T182912Z
LAST-MODIFIED:20200830T074155Z
UID:6392-1600387200-1600732799@www.juliediversy.com
SUMMARY:Retraite Équinoxe d'Automne 2020 : Se relier au sacré grâce à l'eau-miroir de l'âme
DESCRIPTION:L’eau est l’élément de base de la Vie. Matrice par excellence\, elle relie les continents comme elle scelle la double hélice de notre ADN…. \nEn oeuvrant avec Elle\, comme élément vivant\, à travers nos peintures et nos retraites\, Pierre et moi avons fait le constat que l’eau recevait et transmettait l’information de l’âme. \nPour que cela fonctionne\, l’eau à laquelle nous ajoutons du sel est chauffée puis utilisée dans un état de conscience spécifique pour peindre\, en travaillant certaines couleurs les unes après les autres. Ce procédé alchimique pourrait-on dire\, est venu à nous il y a 2.5 ans au cours des 9 mois de création des illustrations d’Anouk et les mystères de l’eau. Ce procédé invite et permet la connexion à ce plan d’informations non ordinaire qu’est l’âme. \nC’est cela que nous vous proposons d’explorer : travailler votre reliance à cette partie plus subtile afin de mettre de côté les questions du mental et de retrouver une présence à vous-même claire et sereine. \nCette expérience transformatrice vous offrira la possibilité de développer votre intuition\, votre écoute\, de vous rencontrer pleinement\, de libérer\, d’ouvrir peut-être des espaces inconnus de vous-même. Apprendre à percevoir les messages subtils de votre âme conduira progressivement votre geste sur la toile et ancrera plus de confiance en vous et de foi en la vie. \nNous privilégions pour cela un cadre intime où la nature est reine et où tout converge pour toucher votre propre grandeur d’âme. \nNous proposons cette retraite à l’Automne et au Printemps\, aux équinoxes pour profiter des énergies toutes particulières qui sont déversées sur Terre durant ces noeuds astrologiques importants. \nNous réservons cette retraite à 6 personnes uniquement. \n\n\n\nÀ qui s’adresse cette retraite ? \n\n\n\n\n\n\n\nÀ toutes les personnes qui souhaitent créer à partir du cœur et (ré)apprendre à se relier à leur inspiration ou leur guidance supérieure. \nIl n’est absolument pas nécessaire de savoir dessiner ou peindre pour suivre la retraite. Seule votre envie d’explorer et de vous relier à votre partie sacrée… compte. \n\n\n\n\nOù se déroulera notre séjour ? \nLe séjour se déroulera à Saint Martin-Vésubie à l’entrée du Parc du Mercantour dans un écolodge haut de gamme propice au calme et à la beauté. \nWebsite de notre partenaire : Moonlightchalet \nComment venir ? \nPossibilité de co-voiturage à organiser entre les participants ou avec nous selon les horaires des trajets ; Navettes régulières à partir de Nice gare et aéroport. \nD’autres modalités  ? \nLe tarif est de 450 € pour les 4 jours (3 nuits) de co-animation avec Pierre + tout le matériel inclus. \nNous offrons la possibilité de payer en plusieurs fois si nécessaire. \nEn sus hébergement et repas : il existe différentes formules réservées à notre séjour et selon le nombre de participants ; merci de me consulter ; compter 15€/jour pour les repas (nous faisons 2 repas\, un brunch vers 11h et un repas du soir) et entre 60 et 130€nuit/personne selon le nombre de personnes qui partagent un chalet 1\, 2 ou 3. \nÀ la carte : possibilité d’une lecture akashique (à réserver à l’avance avec moi-même). \nÀ la carte : possibilité d’un massage balinais (à réserver sur place). \nLa restauration est végétarienne (si vous avez des régimes spécifiques\, n’hésitez pas à nous en informer). \nLes lits sont faits à l’arrivée ; les serviettes sont fournies ; les chalets disposent d’un mini frigo et d’un coin kitchenette ou salon (avec bouilloire\, thé et tisane à disposition). \nLa retraite débutera le 18 septembre à partir de 16 h et se terminera le 21 septembre à 15h. \nPour plus d’informations ou vous inscrire\, cliquer sur le bouton. 🙂 \nA bientôt\, \n\nJe me renseigne
URL:https://www.juliediversy.com/evenement/retraite-automne2020/
LOCATION:Moonlight Chalet\, 8 Rue Rumpelmayer\, Saint Martin Vésubie\, 06450\, France
CATEGORIES:Anouk et les mystères de l'eau,Workshop créatifs
ATTACH;FMTTYPE=image/png:https://www.juliediversy.com/wp-content/uploads/2020/03/Capture-d’écran-2020-02-29-à-17.46.14-2.png
END:VEVENT
END:VCALENDAR