BEGIN:VCALENDAR
VERSION:2.0
PRODID:-//Julie Diversy - ECPv6.15.17//NONSGML v1.0//EN
CALSCALE:GREGORIAN
METHOD:PUBLISH
X-ORIGINAL-URL:https://www.juliediversy.com
X-WR-CALDESC:Évènements pour Julie Diversy
REFRESH-INTERVAL;VALUE=DURATION:PT1H
X-Robots-Tag:noindex
X-PUBLISHED-TTL:PT1H
BEGIN:VTIMEZONE
TZID:Europe/Paris
BEGIN:DAYLIGHT
TZOFFSETFROM:+0100
TZOFFSETTO:+0200
TZNAME:CEST
DTSTART:20170326T010000
END:DAYLIGHT
BEGIN:STANDARD
TZOFFSETFROM:+0200
TZOFFSETTO:+0100
TZNAME:CET
DTSTART:20171029T010000
END:STANDARD
BEGIN:DAYLIGHT
TZOFFSETFROM:+0100
TZOFFSETTO:+0200
TZNAME:CEST
DTSTART:20180325T010000
END:DAYLIGHT
BEGIN:STANDARD
TZOFFSETFROM:+0200
TZOFFSETTO:+0100
TZNAME:CET
DTSTART:20181028T010000
END:STANDARD
BEGIN:DAYLIGHT
TZOFFSETFROM:+0100
TZOFFSETTO:+0200
TZNAME:CEST
DTSTART:20190331T010000
END:DAYLIGHT
BEGIN:STANDARD
TZOFFSETFROM:+0200
TZOFFSETTO:+0100
TZNAME:CET
DTSTART:20191027T010000
END:STANDARD
END:VTIMEZONE
BEGIN:VTIMEZONE
TZID:Europe/Helsinki
BEGIN:DAYLIGHT
TZOFFSETFROM:+0200
TZOFFSETTO:+0300
TZNAME:EEST
DTSTART:20170326T010000
END:DAYLIGHT
BEGIN:STANDARD
TZOFFSETFROM:+0300
TZOFFSETTO:+0200
TZNAME:EET
DTSTART:20171029T010000
END:STANDARD
BEGIN:DAYLIGHT
TZOFFSETFROM:+0200
TZOFFSETTO:+0300
TZNAME:EEST
DTSTART:20180325T010000
END:DAYLIGHT
BEGIN:STANDARD
TZOFFSETFROM:+0300
TZOFFSETTO:+0200
TZNAME:EET
DTSTART:20181028T010000
END:STANDARD
BEGIN:DAYLIGHT
TZOFFSETFROM:+0200
TZOFFSETTO:+0300
TZNAME:EEST
DTSTART:20190331T010000
END:DAYLIGHT
BEGIN:STANDARD
TZOFFSETFROM:+0300
TZOFFSETTO:+0200
TZNAME:EET
DTSTART:20191027T010000
END:STANDARD
END:VTIMEZONE
BEGIN:VEVENT
DTSTART;TZID=Europe/Paris:20181208T100000
DTEND;TZID=Europe/Paris:20181208T180000
DTSTAMP:20260425T225640
CREATED:20181107T144649Z
LAST-MODIFIED:20181107T183251Z
UID:5822-1544263200-1544292000@www.juliediversy.com
SUMMARY:Journée-Atelier et dédicaces de Noël autour d'Anouk au Forum "Arts&Livres" de Mouans-Sartoux
DESCRIPTION:Le Forum Arts&Livres organise une journée-atelier et dédicaces le 8 décembre dans son magnifique espace de 1000m2 à Mouans-Sartoux un peu avant Noël.\nAu cours de cette journée\, Pierre Porta et moi-même présenterons le processus alchimique que nous avons reçu de l’Akasha pour la création d’« Anouk et les mystères de l’eau »\, une aventure débutée en 2013 en Inde\, à Auroville de façon tout à fait inattendue…\nPour l’occasion\, vous aurez la possibilité de tester sur place et de traduire votre envie en art éphémère au cours de 2 ateliers de 2 heures où pinceaux\, feuilles et peintures seront mis à votre disposition 🙂\nHoraires des ateliers: de 10h30 à 12h30 et de 14h à 16h avec dédicaces en continu de 10h00 à 18h.\nEntrée libre sur inscription auprès du Forum (coordonnées ci-contre) ou ci-dessous.\nPlus d’informations et inscription ? cliquer sur le bouton. 🙂\nA bientôt\,\n\nJe me renseigne
URL:https://www.juliediversy.com/evenement/anouk-journeededicaceanoukartsetlivres/
LOCATION:Forum Arts et Livres\, 1075 Chemin des Gourettes\, 06370 MOUANS-SARTOUX\, France
CATEGORIES:Anouk et les mystères de l'eau,Workshop créatifs
ATTACH;FMTTYPE=image/jpeg:https://www.juliediversy.com/wp-content/uploads/2017/11/ANOUK-2.1.jpg
END:VEVENT
BEGIN:VEVENT
DTSTART;VALUE=DATE:20181214
DTEND;VALUE=DATE:20181215
DTSTAMP:20260425T225640
CREATED:20180827T144453Z
LAST-MODIFIED:20181201T132546Z
UID:5733-1544745600-1544831999@www.juliediversy.com
SUMMARY:Lecture d'âme (consultation akashique) - Paris le 14 décembre sur RDV uniquement
DESCRIPTION:Les Archives Akashiques sont le savoir passé\, présent et futur de toute chose. Elles contiennent l’enregistrement du voyage de l’Ame depuis sa conception et les possibilités de son déploiement dans le futur. On se réfère aux Archives Akashiques dans pratiquement tous les anciens enseignements spirituels. Elles sont connues dans la Bible comme “Le Livre de Vie”. \nUne consultation consiste à ouvrir les Archives Akashiques de votre âme\, avec votre autorisation\, et à transmettre les informations de ce niveau spirituel sacré et profond. Les perceptions\, éclairages et conseils que vous recevrez de cette expérience vous seront utiles pour résoudre les défis de la vie courante. Ils amèneront votre attention et votre énergie au moment présent\, ce qui vous permettra de vous concentrer sur la compréhension de votre mission de vie et son accomplissement. Cette session vous aidera à gagner de la clarté dans votre croissance spirituelle et personnelle pour votre bien le plus élevé. \nConsultante* en lecture akashique depuis près de 10 ans\, je vous invite à venir en faire l’expérience. \nJe consulte habituellement par skype ou téléphone mais désireuse de répondre à la demande d’une rencontre de visu de certain(e)s d’entre vous\, je vous propose une nouvelle date parisienne. \nUne consultation dure 1h30 et je vous demande de choisir votre tarif entre 65€/ heure et 105€ /heure ( nb : pour répondre souvent aux questions à ce sujet 🙂 Il n’y a pas de différence de qualité ni de temps\, juste un souhait de ma part de répondre aux bourses de chacune et chacun. Je vous laisse donc choisir en conscience). \nIntéressé(e) ? Alors à vos agendas 😉 Pour prendre rdv\, c’est ici : contact \nBesoin de plus d’informations ? Consultez ma page sur les Lectures Akashiques ainsi que les témoignages des clients. \nBelle journée\, \nJulie \n* certifiée par « Journey2theHeart » Don Ernesto Ortiz
URL:https://www.juliediversy.com/evenement/lecture-dame-consultation-akashique-paris-le-13-decembre-sur-rdv-uniquement/
LOCATION:AEPP\, 4 Rue Titon\, Paris\, 75011\, France
CATEGORIES:Ateliers Akashiques
ATTACH;FMTTYPE=image/jpeg:https://www.juliediversy.com/wp-content/uploads/2018/08/IMG_3755.jpg
END:VEVENT
END:VCALENDAR