BEGIN:VCALENDAR
VERSION:2.0
PRODID:-//Julie Diversy - ECPv6.15.17//NONSGML v1.0//EN
CALSCALE:GREGORIAN
METHOD:PUBLISH
X-ORIGINAL-URL:https://www.juliediversy.com
X-WR-CALDESC:Évènements pour Julie Diversy
REFRESH-INTERVAL;VALUE=DURATION:PT1H
X-Robots-Tag:noindex
X-PUBLISHED-TTL:PT1H
BEGIN:VTIMEZONE
TZID:Europe/Paris
BEGIN:DAYLIGHT
TZOFFSETFROM:+0100
TZOFFSETTO:+0200
TZNAME:CEST
DTSTART:20180325T010000
END:DAYLIGHT
BEGIN:STANDARD
TZOFFSETFROM:+0200
TZOFFSETTO:+0100
TZNAME:CET
DTSTART:20181028T010000
END:STANDARD
BEGIN:DAYLIGHT
TZOFFSETFROM:+0100
TZOFFSETTO:+0200
TZNAME:CEST
DTSTART:20190331T010000
END:DAYLIGHT
BEGIN:STANDARD
TZOFFSETFROM:+0200
TZOFFSETTO:+0100
TZNAME:CET
DTSTART:20191027T010000
END:STANDARD
BEGIN:DAYLIGHT
TZOFFSETFROM:+0100
TZOFFSETTO:+0200
TZNAME:CEST
DTSTART:20200329T010000
END:DAYLIGHT
BEGIN:STANDARD
TZOFFSETFROM:+0200
TZOFFSETTO:+0100
TZNAME:CET
DTSTART:20201025T010000
END:STANDARD
END:VTIMEZONE
BEGIN:VEVENT
DTSTART;VALUE=DATE:20190202
DTEND;VALUE=DATE:20190204
DTSTAMP:20260425T195651
CREATED:20181204T125556Z
LAST-MODIFIED:20181204T153223Z
UID:5939-1549065600-1549238399@www.juliediversy.com
SUMMARY:Argent Module 1 - Narbonne
DESCRIPTION:Et vous\, quelle est votre relation à l’argent ? Etes-vous gêné(e) ou à l’aise avec l’argent ? Avez-vous peur d’en parler ? Rencontrez-vous des difficultés par exemple pour fixer vos tarifs en tant qu’indépendant ou thérapeute ? Vous sentez-vous coupable d’avoir puisé dans votre compte en banque après vous avoir fait plaisir ? \nLa société\, notre éducation et nos pensées nous conditionnent au-delà de ce que nous pouvons même imaginer ; les jugements et les stéréotypes sont « monnaies courantes » et ne sont pas toujours en harmonie avec notre Soi profond. \nCe 1er module de 2 jours a pour objectif de visiter votre mythe personnel par rapport à l’argent. Nous explorerons vos croyances\, les héritages laissés par l’entourage ou les filiations\, la société. Puis\, nous expérimenterons ce que signifie le flux\, l’énergie de l’argent. Je vous donnerai également des clés pour comprendre et dénouer des blocages liés à cette énergie si singulière. \nPour qui ?\nToute personne souhaitant dépasser ses peurs sur le sujet\, y voir clair\, sonder profondément en quoi l’argent est intriqué avec ses amours\, sa famille\, ses amis et plus généralement sa Vie. \nComment ? \n…dans la joie et la bonne humeur 😉\nSéminaires-ateliers en cercle de 6 à 8-10 personnes.\nPrix variables selon un financement personnel ou entreprise. Plus d’informations  ici  Ou merci de contacter en local Isabelle Gaubert au 0681091578 ou isabelle.gaubert047@orange.fr \nHoraires : 13h00 – 19h00 le samedi / 9h00-19h00 le dimanche \n\nJe m’inscris
URL:https://www.juliediversy.com/evenement/argent1-narbonne-fevrier2019/
LOCATION:Narbonne\, Centre les Ursulines 4 rue Denfert Rochereau\, Narbonne\, 11100\, France
CATEGORIES:Ateliers Argent
ATTACH;FMTTYPE=image/jpeg:https://www.juliediversy.com/wp-content/uploads/2018/12/Argent-image-.jpg
END:VEVENT
END:VCALENDAR