BEGIN:VCALENDAR
VERSION:2.0
PRODID:-//Julie Diversy - ECPv6.15.17//NONSGML v1.0//EN
CALSCALE:GREGORIAN
METHOD:PUBLISH
X-ORIGINAL-URL:https://www.juliediversy.com
X-WR-CALDESC:Évènements pour Julie Diversy
REFRESH-INTERVAL;VALUE=DURATION:PT1H
X-Robots-Tag:noindex
X-PUBLISHED-TTL:PT1H
BEGIN:VTIMEZONE
TZID:Europe/Paris
BEGIN:DAYLIGHT
TZOFFSETFROM:+0100
TZOFFSETTO:+0200
TZNAME:CEST
DTSTART:20180325T010000
END:DAYLIGHT
BEGIN:STANDARD
TZOFFSETFROM:+0200
TZOFFSETTO:+0100
TZNAME:CET
DTSTART:20181028T010000
END:STANDARD
BEGIN:DAYLIGHT
TZOFFSETFROM:+0100
TZOFFSETTO:+0200
TZNAME:CEST
DTSTART:20190331T010000
END:DAYLIGHT
BEGIN:STANDARD
TZOFFSETFROM:+0200
TZOFFSETTO:+0100
TZNAME:CET
DTSTART:20191027T010000
END:STANDARD
BEGIN:DAYLIGHT
TZOFFSETFROM:+0100
TZOFFSETTO:+0200
TZNAME:CEST
DTSTART:20200329T010000
END:DAYLIGHT
BEGIN:STANDARD
TZOFFSETFROM:+0200
TZOFFSETTO:+0100
TZNAME:CET
DTSTART:20201025T010000
END:STANDARD
END:VTIMEZONE
BEGIN:VTIMEZONE
TZID:Europe/Helsinki
BEGIN:DAYLIGHT
TZOFFSETFROM:+0200
TZOFFSETTO:+0300
TZNAME:EEST
DTSTART:20180325T010000
END:DAYLIGHT
BEGIN:STANDARD
TZOFFSETFROM:+0300
TZOFFSETTO:+0200
TZNAME:EET
DTSTART:20181028T010000
END:STANDARD
BEGIN:DAYLIGHT
TZOFFSETFROM:+0200
TZOFFSETTO:+0300
TZNAME:EEST
DTSTART:20190331T010000
END:DAYLIGHT
BEGIN:STANDARD
TZOFFSETFROM:+0300
TZOFFSETTO:+0200
TZNAME:EET
DTSTART:20191027T010000
END:STANDARD
BEGIN:DAYLIGHT
TZOFFSETFROM:+0200
TZOFFSETTO:+0300
TZNAME:EEST
DTSTART:20200329T010000
END:DAYLIGHT
BEGIN:STANDARD
TZOFFSETFROM:+0300
TZOFFSETTO:+0200
TZNAME:EET
DTSTART:20201025T010000
END:STANDARD
END:VTIMEZONE
BEGIN:VEVENT
DTSTART;VALUE=DATE:20190309
DTEND;VALUE=DATE:20190311
DTSTAMP:20260425T183934
CREATED:20181023T164719Z
LAST-MODIFIED:20181023T165811Z
UID:5808-1552089600-1552262399@www.juliediversy.com
SUMMARY:Journée Atelier Anouk "savoir accueillir sans désirer : tout un programme !"
DESCRIPTION:L’association « MayBe » organise un atelier les 9 et/ou 10 mars prochains à Mouans-Sartoux où Pierre et moi-même animerons une journée de pratiques autour du « geste à l’état pur ».\nIl s’agira d’une rencontre de Soi à soi dans l’intimité du sacré où le « faire » passera au second plan pour laisser agir « l’être » et révéler ce que nous sommes par l’entremise de l’eau\, du sel et des couleurs primaires.\nAu cours de cette journée\, nous nous appuierons sur le processus alchimique que nous avons reçu de l’Akasha pour la création de notre livre « Anouk et les mystères de l’eau »\, une aventure débutée en 2013 en Inde\, à Auroville de façon tout à fait inattendue…\nTenue confortable conseillée car nous débuterons la journée par une méditation en mouvement et des exercices de respiration.\nEn fonction du nombre de participants ( groupe de 10 personnes maximum) nous proposerons 1 ou 2 journées d’intervention  le samedi 9 mars et/ou le dimanche 10 mars          ( merci d’indiquer votre préférence et vos disponibilités lors de votre mail d’inscription ).\nD’autres modalités  ?\nIl n’est pas nécessaire de savoir peindre ou dessiner pour vous inscrire.\nTarif : 88€ la journée / personne  (matériel inclus).\nHoraires : de 9h à 18h30 avec pause pique-nique tiré du sac apporté par chacun(e) entre 12h30 et 14h.\nPlus d’informations et inscription ? cliquer sur le bouton. 🙂\nA bientôt\,\n\nJe me renseigne
URL:https://www.juliediversy.com/evenement/anouk-journeeanoukmaybe-mars2019/
LOCATION:Mouans Sartoux association MayBe\, France
CATEGORIES:Anouk et les mystères de l'eau,Workshop créatifs
ATTACH;FMTTYPE=image/jpeg:https://www.juliediversy.com/wp-content/uploads/2018/10/Dessin-atelier-anouk2.jpg
END:VEVENT
BEGIN:VEVENT
DTSTART;VALUE=DATE:20190315
DTEND;VALUE=DATE:20190319
DTSTAMP:20260425T183934
CREATED:20181218T142538Z
LAST-MODIFIED:20190221T104250Z
UID:5961-1552608000-1552953599@www.juliediversy.com
SUMMARY:Lecture d'âme (consultation akashique) - Paris les 15 et 18 mars 2019 sur RDV uniquement
DESCRIPTION:Akasha en sanskrit désigne l’éther\, l’essence primordiale\, vibratoire\, à la source de toute création. C’est la matrice qui sous-tend et embrasse l’Univers ; le champ d’énergie où tout se relie et s’imprime : nos actes\, nos émotions\, nos croyances\, nos pensées\, une existence après l’autre… Cette vaste bibliothèque\, cette âme du monde\, est l’espace de conscience auquel se branchent les chamanes\, les mystiques\, les médiums. Cette matrice universelle est partout autour de nous\, accessible à qui sait se caler sur sa fréquence\, au-delà des frontières de nos perceptions ordinaires. \nLes Archives Akashiques constituent donc le savoir passé\, présent et futur de toute chose. Elles contiennent l’enregistrement du voyage de l’Âme depuis sa conception et les possibilités de son déploiement dans le futur. On se réfère aux Archives Akashiques dans pratiquement tous les anciens enseignements spirituels. Elles sont connues dans la Bible comme “Le Livre de Vie”. \nUne consultation consiste à ouvrir les Archives Akashiques de votre âme\, avec votre autorisation\, et à transmettre les informations de ce niveau spirituel sacré et profond. Les perceptions\, éclairages et conseils que vous recevrez de cette expérience vous seront utiles pour résoudre les défis de la vie courante. Ils amèneront votre attention et votre énergie au moment présent\, ce qui vous permettra de revenir à l’essentiel. Cette session vous aidera à gagner de la clarté dans votre croissance spirituelle et personnelle pour votre bien le plus élevé. \nConsultante* en lecture akashique depuis près de 10 ans\, je vous invite à venir en faire l’expérience. \nJe consulte habituellement par skype ou téléphone mais désireuse de répondre à la demande d’une rencontre de visu de certain(e)s d’entre vous\, je vous propose de nouvelles dates parisiennes. \nUne consultation dure 1h30 et je vous demande de choisir votre tarif entre 70€/ heure et 110€ /heure ( nb : pour répondre souvent aux questions à ce sujet 🙂 Il n’y a pas de différence de qualité ni de temps\, juste un souhait de ma part de répondre aux bourses de chacune et chacun. Je vous laisse donc choisir en conscience\, en prêtant attention au fait qu’il sera nécessaire d’ajouter une demi-heure au tarif horaire que vous aurez choisi puisque le rdv dure 1h30. \nIntéressé(e) ? Alors à vos agendas 😉 Pour prendre rdv\, c’est ici : contact \nBesoin de plus d’informations ? Consultez ma page sur les Lectures Akashiques ainsi que les témoignages des clients. \nBelle journée\, \nJulie \n* certifiée par « Journey2theHeart » Don Ernesto Ortiz
URL:https://www.juliediversy.com/evenement/lecture-dame-consultation-akashique-paris-le-15et18-mars-sur-rdv-uniquement/
LOCATION:AEPP\, 4 Rue Titon\, Paris\, 75011\, France
CATEGORIES:Ateliers Akashiques
ATTACH;FMTTYPE=image/jpeg:https://www.juliediversy.com/wp-content/uploads/2018/08/IMG_3755.jpg
END:VEVENT
BEGIN:VEVENT
DTSTART;VALUE=DATE:20190316
DTEND;VALUE=DATE:20190318
DTSTAMP:20260425T183934
CREATED:20181017T161925Z
LAST-MODIFIED:20190308T133335Z
UID:5798-1552694400-1552867199@www.juliediversy.com
SUMMARY:Argent Module 3 - Paris
DESCRIPTION:Ce module 3 s’adresse aux personnes ayant déjà suivi les modules Argent 1 et 2. \nNota Bene : Ces dates ont été choisies avec le groupe lors du module 1 en Octobre dernier. Elles sont donc spécifiques et servent de mémo à celles et ceux qui en auraient besoin 😉 \nCe dernier atelier a pour but de libérer sur un plan énergétique les blocages en lien avec l’argent qui pourraient subsister à des niveaux plus subtils . \nHoraires : Samedi 13h00 – 19h00 – Dimanche 9h00-19h00 \n  \n\nBesoin d’information ?
URL:https://www.juliediversy.com/evenement/argent3-paris-16-et-17-mars-2019/
LOCATION:Place d’Italie\, 75013\, France
CATEGORIES:Ateliers Argent
ATTACH;FMTTYPE=image/jpeg:https://www.juliediversy.com/wp-content/uploads/2017/07/20157156_1551967488207464_3061702685354489983_o.jpg
END:VEVENT
BEGIN:VEVENT
DTSTART;VALUE=DATE:20190322
DTEND;VALUE=DATE:20190325
DTSTAMP:20260425T183934
CREATED:20180924T182908Z
LAST-MODIFIED:20180924T182908Z
UID:5762-1553212800-1553471999@www.juliediversy.com
SUMMARY:Au Coeur du Coeur - Moonlight Chalet (06) - Mars 2019
DESCRIPTION:Ce module 4 est un module optionnel né de la demande des participants à la toute fin du cycle argent . Dans le cercle de conclusion \, l’un d’entre eux a rebaptisé le cycle « Au coeur du coeur  » en partageant le fait que ces 6 jours  lui avait apporté bien au-delà d’un « travail » sur l’argent. Nous revoilà donc repartis cette fois avec un groupe de 7 merveilleuses femmes pour une nouvelle aventure. \nNous profiterons de l’Équinoxe pour aller au coeur du coeur\,  laisser choir ce qui devra l’être et planter les graines du changement à venir parallèlement à l’éclosion du printemps et de ses bourgeons. Le travail proposé se fera dans la continuité du cycle argent\, en lien avec la Nature et les 4 forces primordiales qui constituent le vivant. \nEn résidentiel en Nature du vendredi 22 mars au dimanche 24 mars. \n\nJe m’inscris
URL:https://www.juliediversy.com/evenement/argent4-aix-mars2019-2/
LOCATION:LE RUBAN VERT\, 4 impasse Notre-dame\, Aix en Provence\, 13100\, France
CATEGORIES:Ateliers Argent
ATTACH;FMTTYPE=image/jpeg:https://www.juliediversy.com/wp-content/uploads/2017/10/P1040051.jpg
END:VEVENT
END:VCALENDAR