BEGIN:VCALENDAR
VERSION:2.0
PRODID:-//Julie Diversy - ECPv6.15.17//NONSGML v1.0//EN
CALSCALE:GREGORIAN
METHOD:PUBLISH
X-WR-CALNAME:Julie Diversy
X-ORIGINAL-URL:https://www.juliediversy.com
X-WR-CALDESC:Évènements pour Julie Diversy
REFRESH-INTERVAL;VALUE=DURATION:PT1H
X-Robots-Tag:noindex
X-PUBLISHED-TTL:PT1H
BEGIN:VTIMEZONE
TZID:Europe/Helsinki
BEGIN:DAYLIGHT
TZOFFSETFROM:+0200
TZOFFSETTO:+0300
TZNAME:EEST
DTSTART:20180325T010000
END:DAYLIGHT
BEGIN:STANDARD
TZOFFSETFROM:+0300
TZOFFSETTO:+0200
TZNAME:EET
DTSTART:20181028T010000
END:STANDARD
BEGIN:DAYLIGHT
TZOFFSETFROM:+0200
TZOFFSETTO:+0300
TZNAME:EEST
DTSTART:20190331T010000
END:DAYLIGHT
BEGIN:STANDARD
TZOFFSETFROM:+0300
TZOFFSETTO:+0200
TZNAME:EET
DTSTART:20191027T010000
END:STANDARD
BEGIN:DAYLIGHT
TZOFFSETFROM:+0200
TZOFFSETTO:+0300
TZNAME:EEST
DTSTART:20200329T010000
END:DAYLIGHT
BEGIN:STANDARD
TZOFFSETFROM:+0300
TZOFFSETTO:+0200
TZNAME:EET
DTSTART:20201025T010000
END:STANDARD
END:VTIMEZONE
BEGIN:VTIMEZONE
TZID:Europe/Paris
BEGIN:DAYLIGHT
TZOFFSETFROM:+0100
TZOFFSETTO:+0200
TZNAME:CEST
DTSTART:20180325T010000
END:DAYLIGHT
BEGIN:STANDARD
TZOFFSETFROM:+0200
TZOFFSETTO:+0100
TZNAME:CET
DTSTART:20181028T010000
END:STANDARD
BEGIN:DAYLIGHT
TZOFFSETFROM:+0100
TZOFFSETTO:+0200
TZNAME:CEST
DTSTART:20190331T010000
END:DAYLIGHT
BEGIN:STANDARD
TZOFFSETFROM:+0200
TZOFFSETTO:+0100
TZNAME:CET
DTSTART:20191027T010000
END:STANDARD
BEGIN:DAYLIGHT
TZOFFSETFROM:+0100
TZOFFSETTO:+0200
TZNAME:CEST
DTSTART:20200329T010000
END:DAYLIGHT
BEGIN:STANDARD
TZOFFSETFROM:+0200
TZOFFSETTO:+0100
TZNAME:CET
DTSTART:20201025T010000
END:STANDARD
END:VTIMEZONE
BEGIN:VEVENT
DTSTART;VALUE=DATE:20190405
DTEND;VALUE=DATE:20190409
DTSTAMP:20260425T164107
CREATED:20190221T105605Z
LAST-MODIFIED:20190221T163533Z
UID:6061-1554422400-1554767999@www.juliediversy.com
SUMMARY:Lecture d'âme (consultation akashique) - Paris les 5 et 8 avril 2019 sur RDV uniquement
DESCRIPTION:Akasha en sanskrit désigne l’éther\, l’essence primordiale\, vibratoire\, à la source de toute création. C’est la matrice qui sous-tend et embrasse l’Univers ; le champ d’énergie où tout se relie et s’imprime : nos actes\, nos émotions\, nos croyances\, nos pensées\, une existence après l’autre… Cette vaste bibliothèque\, cette âme du monde\, est l’espace de conscience auquel se branchent les chamanes\, les mystiques\, les médiums. Cette matrice universelle est partout autour de nous\, accessible à qui sait se caler sur sa fréquence\, au-delà des frontières de nos perceptions ordinaires. \nLes Archives Akashiques constituent donc le savoir passé\, présent et futur de toute chose. Elles contiennent l’enregistrement du voyage de l’Âme depuis sa conception et les possibilités de son déploiement dans le futur. On se réfère aux Archives Akashiques dans pratiquement tous les anciens enseignements spirituels. Elles sont connues dans la Bible comme “Le Livre de Vie”. \nUne consultation consiste à ouvrir les Archives Akashiques de votre âme\, avec votre autorisation\, et à transmettre les informations de ce niveau spirituel sacré et profond. Les perceptions\, éclairages et conseils que vous recevrez de cette expérience vous seront utiles pour résoudre les défis de la vie courante. Ils amèneront votre attention et votre énergie au moment présent\, ce qui vous permettra de revenir à l’essentiel. Cette session vous aidera à gagner de la clarté dans votre croissance spirituelle et personnelle pour votre bien le plus élevé. \nConsultante* en lecture akashique depuis près de 10 ans\, je vous invite à venir en faire l’expérience. \nJe consulte habituellement par skype ou téléphone mais désireuse de répondre à la demande d’une rencontre de visu de certain(e)s d’entre vous\, je vous propose de nouvelles dates parisiennes. Le vendredi 5 avril après-midi et le lundi 8 avril matinée. \nUne consultation dure 1h30 et je vous demande de choisir votre tarif entre 70€/ heure et 110€ /heure ( nb : pour répondre souvent aux questions à ce sujet 🙂 Il n’y a pas de différence de qualité ni de temps\, juste un souhait de ma part de répondre aux bourses de chacune et chacun. Je vous laisse donc choisir en conscience dans cette fourchette \, en prêtant attention au fait qu’il sera nécessaire d’ajouter une demi-heure au tarif horaire que vous aurez choisi puisque le rdv dure 1h30. \nIntéressé(e) ? Alors à vos agendas 😉 Pour prendre rdv\, c’est ici : contact \nBesoin de plus d’informations ? Consultez ma page sur les Lectures Akashiques ainsi que les témoignages des clients. \nBelle journée\, \nJulie \n* certifiée par « Journey2theHeart » Don Ernesto Ortiz
URL:https://www.juliediversy.com/evenement/lecture-dame-consultation-akashique-paris-5-et-8-avril-sur-rdv-uniquement/
LOCATION:AEPP\, 4 Rue Titon\, Paris\, 75011\, France
CATEGORIES:Ateliers Akashiques
ATTACH;FMTTYPE=image/jpeg:https://www.juliediversy.com/wp-content/uploads/2019/01/sebastien-gabriel-62528-unsplash.jpg
END:VEVENT
BEGIN:VEVENT
DTSTART;VALUE=DATE:20190406
DTEND;VALUE=DATE:20190408
DTSTAMP:20260425T164107
CREATED:20190119T112749Z
LAST-MODIFIED:20190119T120043Z
UID:5988-1554508800-1554681599@www.juliediversy.com
SUMMARY:Argent Module 2 - Paris
DESCRIPTION:Je constate qu’un changement vers une vie plus épanouissante parait « impossible » dans 80 % des cas à cause de l’argent\, disons plus exactement de la peur d’en manquer … et ce quelle que soit la réalité de ses revenus. \nLibérer cette énergie « argent » de façon à ce qu’elle reprenne une juste place dans ce qui motive vos choix et vos décisions sera l’intention de cet atelier. Nous y abordons votre relation concrète à l’argent\, les flux chiffrés en regard de ce que vous voulez accomplir. Nous construirons également votre « Roue de fortune » qui vous permettra de définir au service de quoi vous voulez « mettre » votre argent. \nPour réaliser le module 2 intitulé « comptabilité et synchronicités » il est nécessaire d’avoir réalisé le module 1 « Découvrir votre mythe personnel ». \nNota Bene : ces dates sur début avril ont été définies avec les personnes ayant suivi le module 1 en Janvier.  Elles ne constituent donc pas des dates ouvertes pour y participer. Si vous souhaitez démarrer un cycle\, vous devez vous inscrire à un module 1 ; les dates des modules 2 et 3 seront définies de concert à cette occasion. Cependant\, si il n’y a pas de dates encore ouvertes pour un module 1 mais que vous désirez former un groupe avant\, n’hésitez pas à me contacter en cliquant sur le bouton ci-dessous ou via le formulaire de contact sur mon site. 🙂 \nHoraires : 13h00-19h00 le samedi / 9h00-19h00 le dimanche. \n\nBesoin d’information ?
URL:https://www.juliediversy.com/evenement/argent-module-2-paris-6et7-avril2019/
LOCATION:Place d’Italie Paris\, 75013\, France
CATEGORIES:Ateliers Argent
ATTACH;FMTTYPE=image/jpeg:https://www.juliediversy.com/wp-content/uploads/2017/07/18121073_1451833704887510_7472197424444883110_o.jpg
END:VEVENT
BEGIN:VEVENT
DTSTART;VALUE=DATE:20190412
DTEND;VALUE=DATE:20190416
DTSTAMP:20260425T164107
CREATED:20181003T151340Z
LAST-MODIFIED:20190306T130157Z
UID:5767-1555027200-1555372799@www.juliediversy.com
SUMMARY:Retraite Créative Anouk "Corps\, Coeur\, Esprit" 3 jours -  Printemps 2019
DESCRIPTION:Bien souvent\, avant de faire quelque chose\, nous avons appris à donner une forme (en faisant des suppositions\, en n’osant pas\, en imaginant des obstacles… ) que cela soit pour dessiner\, écrire ou s’exprimer. Durant cette retraite-atelier vous (ré)apprendrez à écouter ce qui se présente à vous\, dans l’instant\, tout en subtilité et en présence. \nLe Corps\, le Coeur et l’Esprit\, supports de cette écoute spécifique\, forment un tout indissociable de l’acte créateur. C’est pourquoi Pierre Porta et moi-même vous proposerons d’explorer « ce trio » pour planter la graine du changement que vous désirez voir émerger dans votre vie. \nNos guides seront l’eau\, les couleurs\, la musique\, la géométrie sacrée\, le mouvement et la respiration afin d’ouvrir des portes et de recevoir la forme\, celle qui émergera naturellement sans faux pas\, sans jugements\, sans erreurs … \nCe travail au sens de l’artiste qui crée\, vous offrira la possibilité de vous rencontrer pleinement\, de libérer\, d’ouvrir des espaces peut-être inconnus de vous-même et de planter votre Intention pour demain. L’écoute subtile du geste sur la toile saura vous révéler de belles surprises et constituera « le » passage pour ancrer pour la suite plus de confiance en vous et de confiance en la vie. \nNous privilégions pour cela un cadre intime où la nature est reine et où tout converge pour toucher votre propre grandeur d’âme. \n\n\n\nÀ qui s’adresse cette retraite ? \n\n\n\n\n\n\n\nÀ toutes les personnes qui souhaitent créer à partir du cœur et de leur intuition et qui ressentent l’élan de peindre sans passer par des techniques académiques. \nVotre point de départ peut être l’envie de développer votre guidance intérieure\, d’équilibrer vos polarités « féminin-masculin »\,  l’envie de créer ou juste celle de faire une pause\, de vous laisser guider par la magie de l’eau\, du son\, du souffle et des couleurs… \nIl n’est donc pas nécessaire de savoir peindre ou dessiner pour vous inscrire 😉 \n\n\n\n\nOù se déroulera notre séjour ? \nLe séjour se déroulera à Saint Martin- Vésubie à l’entrée du Parc du Mercantour dans un écolodge magnifique propice au calme et à la beauté. \nWebsite de notre partenaire : http://www.moonlightchalet.com/accueil.php \nComment venir ? \nPossibilité de co-voiturage à organiser entre les participants ; Navettes régulières à partir de Nice gare et aéroport. \nD’autres modalités  ? \nLe tarif est de 390€ pour les 4 jours (3 nuits) de co-animation avec tout le matériel inclus + en sus hébergement et repas (il existe différentes formules réservées à notre séjour et selon le nombre de participants ; merci de me consulter). \nLa retraite débutera le 12 avril à partir de 17h et se terminera le 15 avril à 15h. \nPour plus d’informations\, cliquer sur le bouton. 🙂 \nA bientôt\, \n\nJe me renseigne
URL:https://www.juliediversy.com/evenement/anouk-retraite-printemps2019/
LOCATION:LE RUBAN VERT\, 4 impasse Notre-dame\, Aix en Provence\, 13100\, France
CATEGORIES:Anouk et les mystères de l'eau,Workshop créatifs
ATTACH;FMTTYPE=image/jpeg:https://www.juliediversy.com/wp-content/uploads/2018/07/IMG_0463.jpg
END:VEVENT
END:VCALENDAR