BEGIN:VCALENDAR
VERSION:2.0
PRODID:-//Julie Diversy - ECPv6.15.17//NONSGML v1.0//EN
CALSCALE:GREGORIAN
METHOD:PUBLISH
X-ORIGINAL-URL:https://www.juliediversy.com
X-WR-CALDESC:Évènements pour Julie Diversy
REFRESH-INTERVAL;VALUE=DURATION:PT1H
X-Robots-Tag:noindex
X-PUBLISHED-TTL:PT1H
BEGIN:VTIMEZONE
TZID:Europe/Helsinki
BEGIN:DAYLIGHT
TZOFFSETFROM:+0200
TZOFFSETTO:+0300
TZNAME:EEST
DTSTART:20180325T010000
END:DAYLIGHT
BEGIN:STANDARD
TZOFFSETFROM:+0300
TZOFFSETTO:+0200
TZNAME:EET
DTSTART:20181028T010000
END:STANDARD
BEGIN:DAYLIGHT
TZOFFSETFROM:+0200
TZOFFSETTO:+0300
TZNAME:EEST
DTSTART:20190331T010000
END:DAYLIGHT
BEGIN:STANDARD
TZOFFSETFROM:+0300
TZOFFSETTO:+0200
TZNAME:EET
DTSTART:20191027T010000
END:STANDARD
BEGIN:DAYLIGHT
TZOFFSETFROM:+0200
TZOFFSETTO:+0300
TZNAME:EEST
DTSTART:20200329T010000
END:DAYLIGHT
BEGIN:STANDARD
TZOFFSETFROM:+0300
TZOFFSETTO:+0200
TZNAME:EET
DTSTART:20201025T010000
END:STANDARD
END:VTIMEZONE
BEGIN:VTIMEZONE
TZID:Europe/Paris
BEGIN:DAYLIGHT
TZOFFSETFROM:+0100
TZOFFSETTO:+0200
TZNAME:CEST
DTSTART:20180325T010000
END:DAYLIGHT
BEGIN:STANDARD
TZOFFSETFROM:+0200
TZOFFSETTO:+0100
TZNAME:CET
DTSTART:20181028T010000
END:STANDARD
BEGIN:DAYLIGHT
TZOFFSETFROM:+0100
TZOFFSETTO:+0200
TZNAME:CEST
DTSTART:20190331T010000
END:DAYLIGHT
BEGIN:STANDARD
TZOFFSETFROM:+0200
TZOFFSETTO:+0100
TZNAME:CET
DTSTART:20191027T010000
END:STANDARD
BEGIN:DAYLIGHT
TZOFFSETFROM:+0100
TZOFFSETTO:+0200
TZNAME:CEST
DTSTART:20200329T010000
END:DAYLIGHT
BEGIN:STANDARD
TZOFFSETFROM:+0200
TZOFFSETTO:+0100
TZNAME:CET
DTSTART:20201025T010000
END:STANDARD
END:VTIMEZONE
BEGIN:VEVENT
DTSTART;VALUE=DATE:20190614
DTEND;VALUE=DATE:20190615
DTSTAMP:20260425T133610
CREATED:20190425T140053Z
LAST-MODIFIED:20190426T154659Z
UID:6136-1560470400-1560556799@www.juliediversy.com
SUMMARY:Lecture d'âme (consultation akashique) - Paris sur RDV uniquement
DESCRIPTION:Akasha en sanskrit désigne l’éther\, l’essence primordiale\, vibratoire\, à la source de toute création. C’est la matrice qui sous-tend et embrasse l’Univers ; le champ d’énergie où tout se relie et s’imprime : nos actes\, nos émotions\, nos croyances\, nos pensées\, une existence après l’autre… Cette vaste bibliothèque\, cette âme du monde\, est l’espace de conscience auquel se branchent les chamanes\, les mystiques\, les médiums. Cette matrice universelle est partout autour de nous\, accessible à qui sait se caler sur sa fréquence\, au-delà des frontières de nos perceptions ordinaires. \nLes Archives Akashiques constituent donc le savoir passé\, présent et futur de toute chose. Elles contiennent l’enregistrement du voyage de l’Âme depuis sa conception et les possibilités de son déploiement dans le futur. On se réfère aux Archives Akashiques dans pratiquement tous les anciens enseignements spirituels. Elles sont connues dans la Bible comme “Le Livre de Vie”. \nUne consultation consiste à ouvrir les Archives Akashiques de votre âme\, avec votre autorisation\, et à transmettre les informations de ce niveau spirituel sacré et profond. Les perceptions\, éclairages et conseils que vous recevrez de cette expérience vous seront utiles pour résoudre les défis de la vie courante. Ils amèneront votre attention et votre énergie au moment présent\, ce qui vous permettra de revenir à l’essentiel. Cette session vous aidera à gagner de la clarté dans votre croissance spirituelle et personnelle pour votre bien le plus élevé. \nConsultante* en lecture akashique depuis près de 10 ans\, je vous invite à venir en faire l’expérience. \nJe consulte habituellement par skype ou téléphone mais désireuse de répondre à la demande d’une rencontre de visu de certain(e)s d’entre vous\, je vous propose de nouvelles dates parisiennes. Le vendredi 5 avril après-midi et le lundi 8 avril matinée. \nUne consultation dure 1h30 et je vous demande de choisir votre tarif entre 70€/ heure et 110€ /heure ( nb : pour répondre souvent aux questions à ce sujet 🙂 Il n’y a pas de différence de qualité ni de temps\, juste un souhait de ma part de répondre aux bourses de chacune et chacun. Je vous laisse donc choisir en conscience dans cette fourchette \, en prêtant attention au fait qu’il sera nécessaire d’ajouter une demi-heure au tarif horaire que vous aurez choisi puisque le rdv dure 1h30. \nIntéressé(e) ? Alors à vos agendas 😉 Pour prendre rdv\, c’est ici : contact \nBesoin de plus d’informations ? Consultez ma page sur les Lectures Akashiques ainsi que les témoignages des clients. \nBelle journée\, \nJulie \n* certifiée par « Journey2theHeart » Don Ernesto Ortiz
URL:https://www.juliediversy.com/evenement/lecture-dame-consultation-akashique-paris-juin-sur-rdv-uniquement/
LOCATION:AEPP\, 4 Rue Titon\, Paris\, 75011\, France
CATEGORIES:Ateliers Akashiques
ATTACH;FMTTYPE=image/jpeg:https://www.juliediversy.com/wp-content/uploads/2019/04/adrien-converse-576033-unsplash.jpg
END:VEVENT
BEGIN:VEVENT
DTSTART;VALUE=DATE:20190615
DTEND;VALUE=DATE:20190617
DTSTAMP:20260425T133610
CREATED:20190221T105000Z
LAST-MODIFIED:20190425T143915Z
UID:6063-1560556800-1560729599@www.juliediversy.com
SUMMARY:Argent Module 1 - Paris
DESCRIPTION:Et vous\, quelle est votre relation à l’argent ? Etes-vous gêné(e) ou à l’aise avec l’argent ? Avez-vous peur d’en parler ? Rencontrez-vous des difficultés par exemple pour fixer vos tarifs en tant qu’indépendant ou thérapeute ? Avez-vous peur de manquer d’argent ou de ne pas arriver à en gagner suffisamment ? Vous sentez-vous coupable de puiser dans vos économies ? \nLa société\, notre éducation et nos pensées nous conditionnent au-delà de ce que nous pouvons même imaginer ; les jugements et les stéréotypes sont « monnaies courantes » et ne sont pas toujours en harmonie avec notre Soi profond. \nCe 1er module de 2 jours a pour objectif de visiter votre mythe personnel par rapport à l’argent. Nous explorerons vos croyances\, les héritages laissés par l’entourage ou les filiations\, la société. Puis\, nous expérimenterons ce que signifie le flux\, l’énergie de l’argent. Je vous donnerai également des clés pour comprendre et dénouer des blocages liés à cette énergie si singulière. \nPour qui ?\nToute personne souhaitant dépasser ses peurs sur le sujet\, y voir clair\, sonder profondément en quoi l’argent est intriqué avec ses amours\, sa famille\, ses amis et plus généralement sa Vie. \nComment ? \n…dans la joie et la bonne humeur 😉\nSéminaires-ateliers en cercle de 6 à 8-10 personnes.\nPrix variables selon un financement personnel ou entreprise. Plus d’informations  ici   \nHoraires : 13h00 – 19h00 le samedi / 9h00-19h00 le dimanche \nLes dates des modules 2 et 3 seront définies ensemble lors de l’atelier. L’ensemble du cycle varie entre 4 et 9 mois selon les groupes.  \n\nJe m’inscris
URL:https://www.juliediversy.com/evenement/argent1-paris-juin-2019/
LOCATION:Place d’Italie Paris\, 75013\, France
CATEGORIES:Ateliers Argent
ATTACH;FMTTYPE=image/jpeg:https://www.juliediversy.com/wp-content/uploads/2018/04/50-rupee-banknote-currency-68912.jpg
END:VEVENT
BEGIN:VEVENT
DTSTART;TZID=Europe/Paris:20190620T194500
DTEND;TZID=Europe/Paris:20190620T213000
DTSTAMP:20260425T133610
CREATED:20190309T234451Z
LAST-MODIFIED:20190326T200033Z
UID:6107-1561059900-1561066200@www.juliediversy.com
SUMMARY:Méditation silencieuse du Coeur - MukeshAnand Brahmachari
DESCRIPTION:Mukeshanand Brahmachari\, moine et adepte de la philosophie de Ramana Maharshi\, pratique la méditation silencieuse du cœur depuis près de trois décennies. Il guide les individus à aller au-delà de l’esprit pour dévoiler leur vraie nature. Il a formé des étudiants en Inde\, à Dubaï\, en Égypte\, en Europe\, au Royaume-Uni et aux États-Unis et vient nous visiter prochainement en France. \n\n\n\n\n\n\n\n\n\n\n\nLe Récit de la « Méditation silencieuse du cœur »  \nAprès une quête de nombreuses années en Inde où MukeshAnand rencontre de nombreux saints spirituels et yogis\, expérimente des pratiques allant du silence profond aux longs discours\, avec des Guru (*) dont les vies se déroulent pour certains dans un isolement intense et pour d’autres au cœur de la création de communautés dans les Ashrams\, MukeshAnand recueille pendant des années des connaissances sur les techniques et leurs différents parcours. Et quelque soit le chemin suivi\, le but est identique – la réalisation de soi. \n(* Guru est un terme sanskrit qui signifie « guide spirituel » et « maître spirituel ». Il est très simplement utilisé dans la culture indienne et considéré comme essentiel au cheminement. Afin de faciliter notre regard occidental sur ce terme\, nous avons choisi d’utiliser le mot Guide.) \nTout en cheminant et attentif à ce qu’il observe\, sa voix intérieure se fait plus pressante. Celle-ci ne cesse de lui souffler que les Maîtres spirituels auxquels il s’est abandonné toutes ces années\, ne mènent pas toujours la vie qu’ils prêchent. Sa confiance est alors brisée\, il quitte tout pour chercher « son Guide ». \nPerdu\, il demande alors avec ferveur « Où aller à présent et où trouver un Guide ? » … jusqu’à ce qu’il entende une voix au fond de lui\, lui diant : « Arrête de regarder dehors ! A partir d’aujourd’hui\, suis ton propre Guide ». \nMukesh Anand vient en Europe pour deux mois à partir d’Avril 2019 et sera sur Aix-en-Provence quelques jours pour nous permettre d’expérimenter la Méditation silencieuse du Cœur le Jeudi 20 Juin 2019. \nModalités : « Soirée Méditation silencieuse du Cœur »  \n– Adresse : LAYAMA – 785 chemin de Bibémus – 13100 Aix en Provence.\n– Accueil : 19 h 15 (19 h 45 fermeture des portes) / temps de partage\, questions-réponses et méditation de 30-40 minutes environ.\n– Fin : 21 h 30\n– Places limitées : inscription obligatoire via le formulaire ci-dessous.\n– Contribution : suggestion à 20 € tout en permettant une participation libre en fonction de vos moyens. \nComment circule votre participation financière ? \nMukesh est dans le don\, il vit au service de l’Energie Universelle. Il est tourné vers ses semblables afin de faciliter l’ouverture de notre cœur spirituel. Ses besoins personnels sont très limités et tout en ayant quitté sa cellule dans l’Ashram de Nadjad où il a résidé 28 ans. Il continue d’œuvrer auprès de plus de 4000 personnes pauvres qui viennent quotidiennement chercher nourriture et soin à l’Ashram. Il assure également les frais d’éducation et de santé de jeunes issus des bidonvilles de Nadiad et autres cités\, dont Bombay. L’argent recueilli lors des méditations collectives et des consultations individuelles permet d’assurer ses frais de voyages\, sa vie quotidienne et surtout de poursuivre son soutien auprès des plus démunis. Il est particulièrement attentif à la destination des dons reçus\, tant il en connaît la valeur et la destination. Il connaît en effet chaque personne à qui il confie un budget pour le soutenir dans son action ou pour porter directement assistance à une personne en difficulté. \nLe lendemain de la méditation\, c’est à dire le vendredi 21 juin\, il sera possible de rencontrer Mukesh pour un soin individuel dans le centre d’Aix (participation libre et consciente – une participation de 60€ est suggérée). \nLe processus à l’oeuvre lors d’une session individuelle : balayage corporel et harmonisation  \nLes graines de la maladie prennent racine bien avant de se manifester dans le corps physique. Grâce à la Méditation Silencieuse du Coeur\, Mukesh Anand « scanne » le corps\, traverse ses couches de conditionnement et accède à des informations sur son corps\, ses énergies vitales\, son esprit et ses émotions. Cette pratique peut le conduire à la découverte étonnante de maladies à un stade précoce\, qui ne seraient pas détectées par les instruments et les praticiens de la science médicale moderne. En canalisant l’Energie Universelle\, Mukesh Anand aide l’esprit et harmonise le corps et ses organes\, initiant le processus d’inversion de la maladie\, manifeste et non manifeste. Par la suite\, le méditant a le potentiel de continuer à soutenir ce bien-être intérieur et à prévenir d’autres maladies en s’établissant dans sa pratique de méditation et en progressant sur son chemin spirituel. \nAttention\, tant pour la soirée que pour les soins\, les places sont limitées et les inscriptions obligatoires.  \nLes inscriptions à la méditation et les demandes de soins individuels se font via le bouton « Vous inscrire » en bas de page ; Si vous avez besoin d’informations\, merci de cliquer sur le bouton  « Je me renseigne » en bas de page également. \nMerci de bien préciser lors de votre inscription à la soirée de méditation avec combien de personnes vous viendrez (les enfants sont les bienvenus s’ils savent restés en silence pendant 30-40 minutes\, nb : généralement ils sont portés par l’énergie de groupe et y arrivent très bien) et/ou si vous demandez la possibilité de recevoir un soin le lendemain (qui restera à confirmer en fonction des places disponibles). \n\n\n\n\n\n\n\n\n\n\n\n\n\n\n\n\n\n\n\n\n\n\n\n\n\n\n\n\n\n\n\n\n\n\n\n\n\n\n\n\n\n\n\nMukesh Anand \n\n\n\n\n\n\n\n\n\n\n\n\n\n\n\n\nA bientôt\, \nJulie \n\nVous inscrire\nJe me renseigne
URL:https://www.juliediversy.com/evenement/mukeshjuin2019/
LOCATION:Fontaine de l’Aube\, 11 chemin de Lauris\, Cadenet\, 84160\, France
CATEGORIES:Méditation
ATTACH;FMTTYPE=image/jpeg:https://www.juliediversy.com/wp-content/uploads/2018/08/IMG_7730.jpg
END:VEVENT
BEGIN:VEVENT
DTSTART;VALUE=DATE:20190630
DTEND;VALUE=DATE:20190826
DTSTAMP:20260425T133610
CREATED:20190426T155111Z
LAST-MODIFIED:20190815T175032Z
UID:6192-1561852800-1566777599@www.juliediversy.com
SUMMARY:3 Ateliers Écriture et Peinture en Provence cet été
DESCRIPTION:Vous avez envie de prendre quelques heures rien que pour vous ? d’écrire ou de peindre depuis longtemps ? Vous n’arrivez pas à vous y mettre ? Vous avez le souhait de sortir des sentiers battus\, d’explorer autre chose\, de faire émerger de nouvelles idées ?\nNous vous apprendrons au cours de ces ateliers d’été d’une demi-journée comment débloquer\, favoriser\, développer votre créativité ; comment accueillir les mots\, le geste\, la couleur\, la forme comme ils émergent et à vous laisser porter par ce qui vient.\nNous vous ferons découvrir comment l’eau utilisée comme média vous accompagnera avec douceur et élégance.\nVous risquez d’être agréablement surpris(e)s !\nNous vous raconterons également comment en accueillant ainsi l’évidence\, Pierre Porta et moi-même avons donné naissance à notre conte illustré « Anouk et les mystères de l’eau »\, paru aux éditions Aluna en Novembre 2017.\n∼\nModalités pratiques\nAtelier entre 4 à 6 personnes.\nTarif  : 40€  (matériel inclus) de 15h30 à 18h30 les dimanches  30 Juin\, 28 Juillet et 25 Août. \nIl n’est pas nécessaire de savoir écrire ou peindre ni de suivre les 3 ateliers ; chaque atelier est indépendant même si l’ensemble offre une progression.\nInscription directement au 04 90 07 47 27 auprès de l’Atelier ou en cliquant sur le bouton ci- dessous 😉\nA bientôt\,\n\nJe m’inscris\n\nDécouvrir tous mes livres et ateliers d’écritures
URL:https://www.juliediversy.com/evenement/ecritureansouisete2019/
LOCATION:Atelier Éphémère\, 8 Rue Basse\, Ansouis\, 84240\, France
CATEGORIES:Workshop créatifs
ATTACH;FMTTYPE=image/jpeg:https://www.juliediversy.com/wp-content/uploads/2019/04/beautiful-bloom-blossom-541484.jpg
END:VEVENT
END:VCALENDAR