BEGIN:VCALENDAR
VERSION:2.0
PRODID:-//Julie Diversy - ECPv6.15.17//NONSGML v1.0//EN
CALSCALE:GREGORIAN
METHOD:PUBLISH
X-ORIGINAL-URL:https://www.juliediversy.com
X-WR-CALDESC:Évènements pour Julie Diversy
REFRESH-INTERVAL;VALUE=DURATION:PT1H
X-Robots-Tag:noindex
X-PUBLISHED-TTL:PT1H
BEGIN:VTIMEZONE
TZID:Europe/Paris
BEGIN:DAYLIGHT
TZOFFSETFROM:+0100
TZOFFSETTO:+0200
TZNAME:CEST
DTSTART:20190331T010000
END:DAYLIGHT
BEGIN:STANDARD
TZOFFSETFROM:+0200
TZOFFSETTO:+0100
TZNAME:CET
DTSTART:20191027T010000
END:STANDARD
BEGIN:DAYLIGHT
TZOFFSETFROM:+0100
TZOFFSETTO:+0200
TZNAME:CEST
DTSTART:20200329T010000
END:DAYLIGHT
BEGIN:STANDARD
TZOFFSETFROM:+0200
TZOFFSETTO:+0100
TZNAME:CET
DTSTART:20201025T010000
END:STANDARD
BEGIN:DAYLIGHT
TZOFFSETFROM:+0100
TZOFFSETTO:+0200
TZNAME:CEST
DTSTART:20210328T010000
END:DAYLIGHT
BEGIN:STANDARD
TZOFFSETFROM:+0200
TZOFFSETTO:+0100
TZNAME:CET
DTSTART:20211031T010000
END:STANDARD
END:VTIMEZONE
BEGIN:VEVENT
DTSTART;VALUE=DATE:20200111
DTEND;VALUE=DATE:20200113
DTSTAMP:20260425T022003
CREATED:20191014T190753Z
LAST-MODIFIED:20191120T152955Z
UID:6343-1578700800-1578873599@www.juliediversy.com
SUMMARY:Le couple : mythes et réalités module 2 - Paris
DESCRIPTION:Il existe de nombreux « schémas de couple »\, le mariage en est un\, la vie en concubinage\, l’amour plurielle\, le chacun chez soi\, la vie commune\, le « de temps en temps » sont d’autres possibles… Mais au fond\, peu importe la forme que le couple revêt\, la question reste toujours la même : Qui suis-je ? et par voie de conséquence\, qu’ai-je envie de vivre et comment ? L’autre n’est qu’un miroir pour toucher à sa propre grandeur. Dans tous les cas\, le meilleur cadeau que vous pourrez vous offrir et offrir à l’autre est de vous connaitre intimement et de vous aimer sans conditions. \nQue vous soyez célibataire ou en couple\, ce séminaire de 2X2 jours débutera par l’exploration de vos premiers liens d’attachement. Le couple\, rêvé ou vécu\, quoiqu’on en pense est toujours modelé\, façonné par la relation à ses parents qu’ils aient été présents ou absents. Ces deux « figures » constituent la pierre angulaire de votre relation à l’autre\, de vos représentations du féminin et du masculin et des rôles de chacun. Ils ont été « choisis » pour vous permettre de vous rencontrer au cœur et d’embrasser totalement qui vous êtes. \nVous pourrez déposer ici vos doutes et vos peurs issues de vos croyances et de vos attentes par rapport au couple espéré\, rêvé\, vécu ou subi. Ce séminaire sera l’occasion de faire un bilan\, un point\, un arrêt sur image sur votre relation à vous-même et à l’autre. Il vous permettra également de savoir si vos polarités sont à l’équilibre et éventuellement de les ré-harmoniser\, de vous libérer de certains attachements et de poser les premières pierres de ce que vous voulez vivre vraiment. \nNous aborderons également les questions du couple sous l’angle de l’âme (concepts de flammes jumelles\, âmes sœurs\, rencontres karmiques\, couple du Verseau etc…) et de l’énergie (champs magnétique – électrique et sexualité). \nPour qui ? \nToute personne souhaitant dépasser ses peurs sur le sujet\, y voir clair\, sonder profondément ses représentations\, ses attentes sur le couple\, visiter ses schémas et croyances liées à l’amour et prête à se défaire de patterns limitants. \nNb avoir déjà travaillé le sujet (en thérapie par ex)  ne sera qu’un plus pour atteindre le coeur du « problème » ou des doutes avec plus d’aisance et de simplicité. \nComment ? \n…dans la joie et la bonne humeur avec feutres et crayons de couleur 😉 Des temps de méditation\, des exercices de respiration avec la possibilité d’ouvrir vos archives akashiques seront également proposés pour accompagner le processus.\nSéminaires-ateliers en cercle de 5 à 8-10 personnes. \nLe tarif ? \n230 € le module de 2 jours (avec pauses thé\, café & surprises) \nLes horaires ? \n13h00 – 19h00 le samedi / 9h00-19h00 le dimanche \nNota Bene :  un nouveau cycle de 4 jours en 2 modules vous sera proposé bientôt. Restez connecté.e.s ! \n\nJe m’inscris
URL:https://www.juliediversy.com/evenement/couple2-paris-janvier-2020/
LOCATION:Place d’Italie Paris\, 75013\, France
CATEGORIES:Ateliers Couple
ATTACH;FMTTYPE=image/jpeg:https://www.juliediversy.com/wp-content/uploads/2019/04/michael-schaffler-1056151-unsplash.jpg
END:VEVENT
BEGIN:VEVENT
DTSTART;VALUE=DATE:20200118
DTEND;VALUE=DATE:20200120
DTSTAMP:20260425T022003
CREATED:20190703T165333Z
LAST-MODIFIED:20190703T165333Z
UID:6243-1579305600-1579478399@www.juliediversy.com
SUMMARY:Mon rapport à l'Argent - Mon rapport à la Vie  - Module 1 - Paris
DESCRIPTION:Et vous\, quelle est votre relation à l’argent ? Etes-vous gêné(e) ou à l’aise avec l’argent ? Avez-vous peur d’en parler ? Rencontrez-vous des difficultés par exemple pour fixer vos tarifs en tant qu’indépendant ou thérapeute ? Avez-vous peur de manquer d’argent ou de ne pas arriver à en gagner suffisamment ? Vous sentez-vous coupable de puiser dans vos économies ? d’avoir reçu de l’argent en héritage ? \nLa société\, notre éducation et nos pensées nous conditionnent au-delà de ce que nous pouvons même imaginer ; les jugements et les stéréotypes sont « monnaies courantes » et ne sont pas toujours en harmonie avec notre Soi profond. \nCe 1er module de 2 jours a pour objectif de visiter votre mythe personnel par rapport à l’argent. Nous explorerons vos croyances\, les héritages laissés par l’entourage ou les filiations\, la société. Puis\, nous expérimenterons ce que signifie le flux\, l’énergie de l’argent. Je vous donnerai également des clés pour comprendre et dénouer des blocages liés à cette énergie si singulière. \nPour qui ?\nToute personne souhaitant dépasser ses peurs sur le sujet\, y voir clair\, sonder profondément en quoi l’argent est intriqué avec ses amours\, sa famille\, ses amis et plus généralement sa Vie. \nComment ? \n…dans la joie et la bonne humeur\, dans un lieu qui a une vue imprenable sur Paris.\nSéminaires-ateliers en cercle de 5 à 8-10 personnes. \nPlus d’informations  ?  ici   \nHoraires : 13h00 – 19h00 le samedi / 9h00-19h00 le dimanche ( soit 16h en présentiel). \nLes dates des modules 2 et 3 seront définies ensemble lors de l’atelier. L’ensemble du cycle varie entre 4 et 9 mois selon les groupes.  \n\nJe m’inscris
URL:https://www.juliediversy.com/evenement/argent1-paris-janvier-2020/
LOCATION:Place d’Italie\, 75013\, France
CATEGORIES:Ateliers Argent
ATTACH;FMTTYPE=image/jpeg:https://www.juliediversy.com/wp-content/uploads/2019/07/agl-fotos-U3GEBCdc6po-unsplash.jpg
END:VEVENT
END:VCALENDAR