BEGIN:VCALENDAR
VERSION:2.0
PRODID:-//Julie Diversy - ECPv6.15.17//NONSGML v1.0//EN
CALSCALE:GREGORIAN
METHOD:PUBLISH
X-WR-CALNAME:Julie Diversy
X-ORIGINAL-URL:https://www.juliediversy.com
X-WR-CALDESC:Évènements pour Julie Diversy
REFRESH-INTERVAL;VALUE=DURATION:PT1H
X-Robots-Tag:noindex
X-PUBLISHED-TTL:PT1H
BEGIN:VTIMEZONE
TZID:Europe/Paris
BEGIN:DAYLIGHT
TZOFFSETFROM:+0100
TZOFFSETTO:+0200
TZNAME:CEST
DTSTART:20190331T010000
END:DAYLIGHT
BEGIN:STANDARD
TZOFFSETFROM:+0200
TZOFFSETTO:+0100
TZNAME:CET
DTSTART:20191027T010000
END:STANDARD
BEGIN:DAYLIGHT
TZOFFSETFROM:+0100
TZOFFSETTO:+0200
TZNAME:CEST
DTSTART:20200329T010000
END:DAYLIGHT
BEGIN:STANDARD
TZOFFSETFROM:+0200
TZOFFSETTO:+0100
TZNAME:CET
DTSTART:20201025T010000
END:STANDARD
BEGIN:DAYLIGHT
TZOFFSETFROM:+0100
TZOFFSETTO:+0200
TZNAME:CEST
DTSTART:20210328T010000
END:DAYLIGHT
BEGIN:STANDARD
TZOFFSETFROM:+0200
TZOFFSETTO:+0100
TZNAME:CET
DTSTART:20211031T010000
END:STANDARD
END:VTIMEZONE
BEGIN:VTIMEZONE
TZID:Europe/Helsinki
BEGIN:DAYLIGHT
TZOFFSETFROM:+0200
TZOFFSETTO:+0300
TZNAME:EEST
DTSTART:20190331T010000
END:DAYLIGHT
BEGIN:STANDARD
TZOFFSETFROM:+0300
TZOFFSETTO:+0200
TZNAME:EET
DTSTART:20191027T010000
END:STANDARD
BEGIN:DAYLIGHT
TZOFFSETFROM:+0200
TZOFFSETTO:+0300
TZNAME:EEST
DTSTART:20200329T010000
END:DAYLIGHT
BEGIN:STANDARD
TZOFFSETFROM:+0300
TZOFFSETTO:+0200
TZNAME:EET
DTSTART:20201025T010000
END:STANDARD
BEGIN:DAYLIGHT
TZOFFSETFROM:+0200
TZOFFSETTO:+0300
TZNAME:EEST
DTSTART:20210328T010000
END:DAYLIGHT
BEGIN:STANDARD
TZOFFSETFROM:+0300
TZOFFSETTO:+0200
TZNAME:EET
DTSTART:20211031T010000
END:STANDARD
END:VTIMEZONE
BEGIN:VEVENT
DTSTART;VALUE=DATE:20200229
DTEND;VALUE=DATE:20200302
DTSTAMP:20260424T231943
CREATED:20191210T132632Z
LAST-MODIFIED:20200123T130329Z
UID:6382-1582934400-1583107199@www.juliediversy.com
SUMMARY:Mon rapport à l'Argent - Mon rapport à la Vie - Module 2 - Aix
DESCRIPTION:Je constate qu’un changement vers une vie plus épanouissante parait « impossible » dans 80 % des cas à cause de l’argent\, disons plus exactement de la peur d’en manquer … et ce quelle que soit la réalité de ses revenus. \nLibérer cette énergie « argent » de façon à ce qu’elle reprenne une juste place dans ce qui motive vos choix et vos décisions sera l’intention de cet atelier. Nous y abordons votre relation concrète à l’argent\, les flux chiffrés en regard de ce que vous voulez accomplir. Nous construirons également votre « Roue de fortune » qui vous permettra de définir au service de quoi vous voulez « mettre » votre argent. \nPour réaliser le module 2 intitulé « comptabilité et synchronicités » il est nécessaire d’avoir réalisé le module 1 « Découvrir votre mythe personnel ». \nNota Bene : ces dates sur fin février- début mars ont été définies avec les personnes ayant suivi le module 1 en Décembre.  Elles ne constituent donc pas des dates ouvertes pour y participer. Si vous souhaitez démarrer un cycle\, vous devez vous inscrire à un module 1 ; les dates des modules 2 et 3 seront définies de concert à cette occasion. \nCependant\, si il n’y a pas de dates encore ouvertes pour un module 1 mais que vous désirez former un groupe avant\, n’hésitez pas à me contacter en cliquant sur le bouton ci-dessous ou via le formulaire de contact sur mon site. 🙂 \nHoraires : 13h00-19h00 le samedi / 9h00-19h00 le dimanche. \n\nBesoin d’information ?
URL:https://www.juliediversy.com/evenement/argent-module-2-aix-29fev1ermars2020/
LOCATION:28 Bis\, 28 bis boulevard François et Émile Zola\, Aix-en-Provence\, 13100\, France
CATEGORIES:Ateliers Argent
ATTACH;FMTTYPE=image/jpeg:https://www.juliediversy.com/wp-content/uploads/2018/08/IMG_3302.jpg
END:VEVENT
BEGIN:VEVENT
DTSTART;VALUE=DATE:20200307
DTEND;VALUE=DATE:20200309
DTSTAMP:20260424T231943
CREATED:20200119T164246Z
LAST-MODIFIED:20200126T163456Z
UID:6412-1583539200-1583711999@www.juliediversy.com
SUMMARY:Le couple : mythes et réalités 1 - Paris (cursus de 2x2 jours)
DESCRIPTION:Il existe de nombreux « schémas de couple »\, le mariage en est un\, la vie en concubinage\, l’amour plurielle\, le chacun chez soi\, la vie commune\, le « de temps en temps » sont d’autres possibles… Mais au fond\, peu importe la forme que le couple revêt\, la question reste toujours la même : Qui suis-je ? et par voie de conséquence\, qu’ai-je envie de vivre et comment ? L’autre n’est qu’un miroir pour toucher à sa propre grandeur. Dans tous les cas\, le meilleur cadeau que vous pourrez vous offrir et offrir à l’autre est de vous connaitre intimement et de vous aimer sans conditions. \nQue vous soyez célibataire ou en couple\, ce séminaire de 2X2 jours débutera par l’exploration de vos premiers liens d’attachement. Le couple\, rêvé ou vécu\, quoiqu’on en pense est toujours modelé\, façonné par la relation à ses parents qu’ils aient été présents ou absents. Ces deux « figures » constituent la pierre angulaire de votre relation à l’autre\, de vos représentations du féminin et du masculin et des rôles de chacun. Ils ont été « choisis » pour vous permettre de vous rencontrer au cœur et d’embrasser totalement qui vous êtes. \nVous pourrez déposer ici vos doutes et vos peurs issues de vos croyances et de vos attentes par rapport au couple espéré\, rêvé\, vécu ou subi. Ce séminaire sera l’occasion de faire un bilan\, un point\, un arrêt sur image sur votre relation à vous-même et à l’autre. Il vous permettra également de savoir si vos polarités sont à l’équilibre et éventuellement de les ré-harmoniser\, de vous libérer de certains attachements ou dépendances et de poser les premières pierres de ce que vous voulez vivre vraiment. \nNous aborderons également les questions du couple sous l’angle de l’âme (concepts de flammes jumelles\, âmes sœurs\, rencontres karmiques\, couple du Verseau etc…) et de l’énergie (champs magnétique – électrique et sexualité). \nPour qui ? \nToute personne souhaitant dépasser ses peurs sur le sujet\, y voir clair\, sonder profondément ses représentations\, ses attentes sur le couple\, visiter ses schémas et croyances liées à l’amour et qui est prête à se défaire de patterns limitants. \nNb avoir déjà travaillé le sujet (en thérapie par ex)  ne sera qu’un plus pour atteindre le coeur du « problème » avec plus d’aisance et de simplicité. \nComment ? \n…dans la joie et la bonne humeur avec feutres et crayons de couleur 😉 Des temps de méditation\, des exercices de respiration avec la possibilité d’ouvrir vos archives akashiques seront également proposés pour accompagner le processus.\nSéminaires-ateliers en cercle de 5 à 8-10 personnes maximum pour favoriser des échanges individualisés et un travail de qualité. \nLe tarif ? \nTarif Early Bird 230 € (jusqu’au 18 février ) // 290 € ( à partir du 19 février ) le module de 2 jours en co-animation avec Pierre Porta  +  pauses thé\, tisane\, café & snack incluses. \nLes horaires ? \n13h00 – 19h00 le samedi / 9h00-19h00 le dimanche ( 16 h de présentiel ). \nNota Bene : les dates du modules 2  seront définies tous ensemble lors de l’atelier.  Les 2 modules forment un cycle de 4 jours et ne sont pas dissociables.  \n\nJe m’inscris
URL:https://www.juliediversy.com/evenement/couple1-paris-mars-2020/
CATEGORIES:Ateliers Couple
ATTACH;FMTTYPE=image/jpeg:https://www.juliediversy.com/wp-content/uploads/2020/01/nick-fewings-UiSuawnPypw-unsplash-scaled.jpg
END:VEVENT
BEGIN:VEVENT
DTSTART;VALUE=DATE:20200320
DTEND;VALUE=DATE:20200324
DTSTAMP:20260424T231943
CREATED:20190928T183900Z
LAST-MODIFIED:20200310T121443Z
UID:6332-1584662400-1585007999@www.juliediversy.com
SUMMARY:Retraite "Corps\, Coeur\, Esprit" 4 jours -  Équinoxe de Printemps 2020
DESCRIPTION:L’Équinoxe de Printemps est un noeud de forces cosmiques important c’est-à-dire un moment où de nouvelles énergies se déversent sur Terre. La nature en est nourrie comme nous tous chaque année ! Ce renouveau dans la nature peut être pris comme synonyme de régénération pour l’Homme et donc aussi comme période propice à un nouveau départ. C’est pourquoi Pierre Porta et moi-même vous proposons de vous relier à votre Essence de créateur afin de planter la graine du changement que vous désirez voir émerger. \nNos guides seront l’eau\, les couleurs\, la musique\, le mouvement et la respiration afin d’ouvrir des portes et vous offrir la possibilité de vous rencontrer pleinement\, de libérer\, d’ouvrir des espaces peut-être inconnus de vous-même. L’écoute subtile du geste sur la toile saura vous révéler de belles surprises et constituera « le » passage pour ancrer plus de confiance en vous et de foi en la vie. \nNous privilégions pour cela un cadre intime où la nature est reine et où tout converge pour toucher votre propre grandeur d’âme. \n\n\n\nÀ qui s’adresse cette retraite ? \n\n\n\n\n\n\n\nÀ toutes les personnes qui souhaitent créer à partir du cœur et de leur intuition et qui ressentent l’élan de peindre sans passer par des techniques académiques. \nVotre point de départ peut être l’envie de développer votre guidance intérieure\, d’équilibrer vos polarités « féminin-masculin »\,  l’envie de créer ou juste celle de faire une pause\, de vous laisser guider par la magie de l’eau\, du son\, du souffle et des couleurs… \nIl n’est donc pas nécessaire de savoir peindre ou dessiner pour vous inscrire 😉 \n\n\n\n\nOù se déroulera notre séjour ? \nLe séjour se déroulera à Saint Martin- Vésubie à l’entrée du Parc du Mercantour dans un écolodge magnifique propice au calme et à la beauté. Avec possibilité de massage balinais à la carte. \nWebsite de notre partenaire : http://www.moonlightchalet.com/accueil.php \nComment venir ? \nPossibilité de co-voiturage à organiser entre les participants ; Navettes régulières à partir de Nice gare et aéroport. \nD’autres modalités  ? \nLe tarif est de 390€ pour les 4 jours (3 nuits) de co-animation avec tout le matériel inclus + en sus hébergement et repas (il existe différentes formules réservées à notre séjour et selon le nombre de participants ; merci de me consulter). \nLa retraite débutera le 20 mars à partir de 17h et se terminera le 23 mars à 15h. \nPour plus d’informations\, cliquer sur le bouton. 🙂 \nA bientôt\, \n\nJe me renseigne
URL:https://www.juliediversy.com/evenement/retraite-printemps2020/
LOCATION:Moonlight Chalet\, 8 Rue Rumpelmayer\, Saint Martin Vésubie\, 06450\, France
CATEGORIES:Anouk et les mystères de l'eau,Workshop créatifs
ATTACH;FMTTYPE=image/jpeg:https://www.juliediversy.com/wp-content/uploads/2019/09/IMG_0463-scaled.jpg
END:VEVENT
BEGIN:VEVENT
DTSTART;VALUE=DATE:20200330
DTEND;VALUE=DATE:20200531
DTSTAMP:20260424T231943
CREATED:20200328T135809Z
LAST-MODIFIED:20200414T153518Z
UID:6576-1585526400-1590883199@www.juliediversy.com
SUMMARY:Lecture d'âme (consultation akashique) - A distance sur RDV uniquement
DESCRIPTION:Akasha en sanskrit désigne l’éther\, l’essence primordiale\, vibratoire\, à la source de toute création. C’est la matrice qui sous-tend et embrasse l’Univers ; le champ d’énergie où tout se relie et s’imprime : nos actes\, nos émotions\, nos croyances\, nos pensées\, une existence après l’autre… Cette vaste bibliothèque\, cette âme du monde\, est l’espace de conscience auquel se branchent les chamanes\, les mystiques\, les médiums. Cette matrice universelle est partout autour de nous\, accessible à qui sait se caler sur sa fréquence\, au-delà des frontières de nos perceptions ordinaires. \nLes Archives Akashiques constituent donc le savoir passé\, présent et futur de toute chose. Elles contiennent l’enregistrement du voyage de l’Âme depuis sa conception et les possibilités de son déploiement dans le futur. On se réfère aux Archives Akashiques dans pratiquement tous les anciens enseignements spirituels. Elles sont connues dans la Bible comme “Le Livre de Vie”. \nUne consultation consiste à ouvrir les Archives Akashiques de votre âme\, avec votre autorisation\, et à transmettre les informations de ce niveau spirituel sacré et profond. Les perceptions\, éclairages et conseils que vous recevrez de cette expérience vous seront utiles pour résoudre les défis de la vie courante. Ils amèneront votre attention et votre énergie au moment présent\, ce qui vous permettra de revenir à l’essentiel. Cette session vous aidera à gagner de la clarté dans votre croissance spirituelle et personnelle pour votre bien le plus élevé. \nConsultante* en lecture akashique depuis près de 10 ans\, je vous invite à venir en faire l’expérience. \nJe consulte par téléphone ou skype ( ou assimilé : zoom\, hangout\, facetime…). \nUne consultation dure 1h30 et je vous demande de choisir votre tarif entre 70€/ heure et 110€ /heure ( nb : pour répondre souvent aux questions à ce sujet 🙂 Il n’y a pas de différence de qualité ni de temps\, juste un souhait de ma part de répondre aux bourses de chacune et chacun. Je vous laisse donc choisir en conscience dans cette fourchette \, en prêtant attention au fait qu’il sera nécessaire d’ajouter une demi-heure au tarif horaire que vous aurez choisi puisque le rdv dure 1h30.) \nIntéressé(e) ? Alors à vos agendas 😉 Pour prendre rdv\, c’est ici : contact \nBesoin de plus d’informations ? Consultez ma page sur les Lectures Akashiques ainsi que les témoignages des clients. \nBelle journée\, \nJulie \n* certifiée par « Journey2theHeart » Don Ernesto Ortiz
URL:https://www.juliediversy.com/evenement/lecture-dame-consultation-akashique-dechezvous-sur-rdv-uniquement/
LOCATION:De chez vous\, France
CATEGORIES:Ateliers Akashiques
ATTACH;FMTTYPE=image/jpeg:https://www.juliediversy.com/wp-content/uploads/2018/08/IMG_1901.jpg
END:VEVENT
END:VCALENDAR