BEGIN:VCALENDAR
VERSION:2.0
PRODID:-//Julie Diversy - ECPv6.15.17//NONSGML v1.0//EN
CALSCALE:GREGORIAN
METHOD:PUBLISH
X-ORIGINAL-URL:https://www.juliediversy.com
X-WR-CALDESC:Évènements pour Julie Diversy
REFRESH-INTERVAL;VALUE=DURATION:PT1H
X-Robots-Tag:noindex
X-PUBLISHED-TTL:PT1H
BEGIN:VTIMEZONE
TZID:Europe/Helsinki
BEGIN:DAYLIGHT
TZOFFSETFROM:+0200
TZOFFSETTO:+0300
TZNAME:EEST
DTSTART:20190331T010000
END:DAYLIGHT
BEGIN:STANDARD
TZOFFSETFROM:+0300
TZOFFSETTO:+0200
TZNAME:EET
DTSTART:20191027T010000
END:STANDARD
BEGIN:DAYLIGHT
TZOFFSETFROM:+0200
TZOFFSETTO:+0300
TZNAME:EEST
DTSTART:20200329T010000
END:DAYLIGHT
BEGIN:STANDARD
TZOFFSETFROM:+0300
TZOFFSETTO:+0200
TZNAME:EET
DTSTART:20201025T010000
END:STANDARD
BEGIN:DAYLIGHT
TZOFFSETFROM:+0200
TZOFFSETTO:+0300
TZNAME:EEST
DTSTART:20210328T010000
END:DAYLIGHT
BEGIN:STANDARD
TZOFFSETFROM:+0300
TZOFFSETTO:+0200
TZNAME:EET
DTSTART:20211031T010000
END:STANDARD
BEGIN:DAYLIGHT
TZOFFSETFROM:+0200
TZOFFSETTO:+0300
TZNAME:EEST
DTSTART:20220327T010000
END:DAYLIGHT
BEGIN:STANDARD
TZOFFSETFROM:+0300
TZOFFSETTO:+0200
TZNAME:EET
DTSTART:20221030T010000
END:STANDARD
END:VTIMEZONE
BEGIN:VTIMEZONE
TZID:Europe/Paris
BEGIN:DAYLIGHT
TZOFFSETFROM:+0100
TZOFFSETTO:+0200
TZNAME:CEST
DTSTART:20200329T010000
END:DAYLIGHT
BEGIN:STANDARD
TZOFFSETFROM:+0200
TZOFFSETTO:+0100
TZNAME:CET
DTSTART:20201025T010000
END:STANDARD
BEGIN:DAYLIGHT
TZOFFSETFROM:+0100
TZOFFSETTO:+0200
TZNAME:CEST
DTSTART:20210328T010000
END:DAYLIGHT
BEGIN:STANDARD
TZOFFSETFROM:+0200
TZOFFSETTO:+0100
TZNAME:CET
DTSTART:20211031T010000
END:STANDARD
BEGIN:DAYLIGHT
TZOFFSETFROM:+0100
TZOFFSETTO:+0200
TZNAME:CEST
DTSTART:20220327T010000
END:DAYLIGHT
BEGIN:STANDARD
TZOFFSETFROM:+0200
TZOFFSETTO:+0100
TZNAME:CET
DTSTART:20221030T010000
END:STANDARD
END:VTIMEZONE
BEGIN:VEVENT
DTSTART;VALUE=DATE:20201207
DTEND;VALUE=DATE:20210207
DTSTAMP:20260424T083306
CREATED:20201203T193509Z
LAST-MODIFIED:20201207T121507Z
UID:6819-1607299200-1612655999@www.juliediversy.com
SUMMARY:Lecture d'âme (consultation akashique) - A distance sur RDV uniquement
DESCRIPTION:Akasha en sanskrit désigne l’éther\, l’essence primordiale\, vibratoire\, à la source de toute création. C’est la matrice qui sous-tend et embrasse l’Univers ; le champ d’énergie où tout se relie et s’imprime : nos actes\, nos émotions\, nos croyances\, nos pensées\, une existence après l’autre… Cette vaste bibliothèque\, cette âme du monde\, est l’espace de conscience auquel se branchent les chamanes\, les mystiques\, les médiums. Cette matrice universelle est partout autour de nous\, accessible à qui sait se caler sur sa fréquence\, au-delà des frontières de nos perceptions ordinaires. \nLes Archives Akashiques constituent donc le savoir passé\, présent et futur de toute chose. Elles contiennent l’enregistrement du voyage de l’Âme depuis sa conception et les possibilités de son déploiement dans le futur. On se réfère aux Archives Akashiques dans pratiquement tous les anciens enseignements spirituels. Elles sont connues dans la Bible comme “Le Livre de Vie”. \nUne consultation consiste à ouvrir les Archives Akashiques de votre âme\, avec votre autorisation\, et à transmettre les informations de ce niveau spirituel sacré et profond. Les perceptions\, éclairages et conseils que vous recevrez de cette expérience vous seront utiles pour résoudre les défis de la vie courante. Ils amèneront votre attention et votre énergie au moment présent\, ce qui vous permettra de revenir à l’essentiel. Cette session vous aidera à gagner de la clarté dans votre croissance spirituelle et personnelle pour votre bien le plus élevé. \nConsultante* en lecture akashique depuis plus de 10 ans\, je vous invite à venir en faire l’expérience. \nJe consulte par téléphone ou skype ( ou assimilé : zoom\, hangout\, facetime…). \nUne consultation dure 1h30 et je vous demande de choisir votre tarif entre 70€ de l’heure et 110€ de l’heure ( nb : pour répondre souvent aux questions à ce sujet 🙂 Il n’y a pas de différence de qualité ni de temps\, juste un souhait de ma part de répondre aux bourses de chacune et chacun. Je vous laisse donc choisir en conscience dans cette fourchette \, en prêtant attention au fait qu’il sera nécessaire d’ajouter une demi-heure au tarif horaire que vous aurez choisi puisque le rdv dure 1h30.) \nIntéressé(e) ? Alors à vos agendas 😉 Pour prendre rdv\, c’est ici : contact \nBesoin de plus d’informations ? Consultez ma page sur les Lectures Akashiques ainsi que les témoignages des clients. \nBelle journée\, \nJulie \n* certifiée par « Journey2theHeart » Don Ernesto Ortiz
URL:https://www.juliediversy.com/evenement/lecture-dame-consultation-akashique-dechezvous-sur-rdv-uniquement-hiver/
LOCATION:De chez vous\, France
CATEGORIES:Ateliers Akashiques
ATTACH;FMTTYPE=image/png:https://www.juliediversy.com/wp-content/uploads/2020/11/70CC5C7E-A2BC-4826-B30D-5A9B3F7F8F78.png
END:VEVENT
BEGIN:VEVENT
DTSTART;VALUE=DATE:20210109
DTEND;VALUE=DATE:20210111
DTSTAMP:20260424T083306
CREATED:20201124T124757Z
LAST-MODIFIED:20201124T125548Z
UID:6810-1610150400-1610323199@www.juliediversy.com
SUMMARY:Mon rapport à l'Argent - Mon rapport à la Vie - Module 2 - Aix
DESCRIPTION:Je constate qu’un changement vers une vie plus épanouissante parait « impossible » dans 80 % des cas à cause de l’argent\, disons plus exactement de la peur d’en manquer … et ce quelle que soit la réalité de ses revenus. \nLibérer cette énergie « argent » de façon à ce qu’elle reprenne une juste place dans ce qui motive vos choix et vos décisions sera l’intention de cet atelier. Nous y abordons votre relation concrète à l’argent\, les flux chiffrés en regard de ce que vous voulez accomplir. Nous construirons également votre « Roue de fortune » qui vous permettra de définir au service de quoi vous voulez « mettre » votre argent. \nPour réaliser le module 2 intitulé « comptabilité et synchronicités » il est nécessaire d’avoir réalisé le module 1 « Découvrir votre mythe personnel ». \nNota Bene : ces dates sur Janvier ont été définies avec les personnes ayant suivi le module 1 en Novembre.  Elles ne constituent donc pas des dates ouvertes pour y participer. Si vous souhaitez démarrer un cycle\, vous devez vous inscrire à un module 1 ; les dates des modules 2 et 3 seront toujours définies de concert à cette occasion. \nCependant\, si il n’y a pas de dates encore ouvertes pour un module 1 mais que vous désirez former un groupe avant\, n’hésitez pas à me contacter en cliquant sur le bouton ci-dessous ou via le formulaire de contact sur mon site. 🙂 \nHoraires : 13h00-19h00 le samedi / 9h00-19h00 le dimanche. \n\nBesoin d’information ?
URL:https://www.juliediversy.com/evenement/argent-module-2-aix-janvier2021/
LOCATION:28 Bis\, 28 bis boulevard François et Émile Zola\, Aix-en-Provence\, 13100\, France
CATEGORIES:Ateliers Argent
ATTACH;FMTTYPE=image/jpeg:https://www.juliediversy.com/wp-content/uploads/2020/10/sharon-pittaway-iMdsjoiftZo-unsplash-scaled.jpg
END:VEVENT
BEGIN:VEVENT
DTSTART;VALUE=DATE:20210116
DTEND;VALUE=DATE:20210117
DTSTAMP:20260424T083306
CREATED:20201021T165641Z
LAST-MODIFIED:20210104T200428Z
UID:6738-1610755200-1610841599@www.juliediversy.com
SUMMARY:Atelier Reliance
DESCRIPTION:Vous avez envie de prendre quelques heures rien que pour vous ? d’écrire ou de peindre depuis longtemps ? Vous n’arrivez pas à vous y mettre ? Vous avez le souhait de sortir des sentiers battus\, d’explorer autre chose\, de faire émerger de nouvelles idées ? \nNous vous apprendrons au cours de ces ateliers d’une demi-journée comment débloquer\, favoriser\, développer votre créativité ; comment accueillir les mots\, le geste\, la couleur\, la forme comme ils émergent et à vous laisser porter par ce qui vient. \nNous vous ferons découvrir comment l’eau utilisée comme média vous accompagnera avec douceur et élégance. \nVous risquez d’être agréablement surpris(e)s ! \nNous vous raconterons également comment en accueillant ainsi l’évidence\, Pierre Porta et moi-même avons donné naissance à notre conte illustré « Anouk et les mystères de l’eau »\, paru aux éditions Aluna en Novembre 2017. \nLes modalités pratiques : \n\nAtelier pour 4 personnes uniquement. Mesures sanitaires respectées. \nTarif  : 40€  (matériel inclus) de 15h00 à 18h00 \nIl n’est pas nécessaire de savoir écrire ou peindre pour venir… juste avoir envie de tester un procédé unique en plein au coeur d’une galerie d’art 🙂\nInscription directement au 06 23 37 30 22 auprès de la Galerie.\n\nA bientôt\, \n\nJe m’inscris\n\nDécouvrir tous mes livres et ateliers d’écritures
URL:https://www.juliediversy.com/evenement/ecritureansouis16-janvier2021/
LOCATION:Atelier Éphémère\, 8 Rue Basse\, Ansouis\, 84240\, France
CATEGORIES:Anouk et les mystères de l'eau,Workshop créatifs
ATTACH;FMTTYPE=image/jpeg:https://www.juliediversy.com/wp-content/uploads/2016/12/plume-de-paon-001.jpg
END:VEVENT
BEGIN:VEVENT
DTSTART;VALUE=DATE:20210130
DTEND;VALUE=DATE:20210201
DTSTAMP:20260424T083306
CREATED:20201203T192513Z
LAST-MODIFIED:20210105T094059Z
UID:6815-1611964800-1612137599@www.juliediversy.com
SUMMARY:Mon rapport à l'Argent - Mon rapport à la Vie  - Module 1 - Paris
DESCRIPTION:Et vous\, quelle est votre relation à l’argent ? Etes-vous gêné.e ou à l’aise avec l’argent ? Avez-vous peur d’en parler ? Rencontrez-vous des difficultés par exemple pour fixer vos tarifs en tant qu’indépendant ou thérapeute ? Avez-vous peur de manquer d’argent ou de ne pas arriver à en gagner suffisamment ? Vous sentez-vous coupable de puiser dans vos économies ? d’avoir reçu de l’argent en héritage ? \nLa société\, notre éducation et nos pensées nous conditionnent au-delà de ce que nous pouvons même imaginer ; les jugements et les stéréotypes sont « monnaies courantes » et ne sont pas toujours en harmonie avec notre Soi profond. \nCe 1er module de 2 jours a pour objectif de visiter votre mythe personnel par rapport à l’argent. Nous explorerons vos croyances\, les héritages laissés par l’entourage ou les filiations\, la société. Puis\, nous expérimenterons ce que signifie le flux\, l’énergie de l’argent. Je vous donnerai également des clés pour comprendre et dénouer des blocages liés à cette énergie si singulière. \nPour qui ? \nToute personne souhaitant dépasser ses peurs sur le sujet\, y voir clair\, sonder profondément en quoi l’argent est intriqué avec ses amours\, sa famille\, ses amis et plus généralement sa Vie. \nComment ? \n… dans la joie et la bonne humeur. 😉 A noter que ce 1er module pourra se dérouler sur Zoom si les circonstances ne permettaient pas de nous retrouver en présentiel.  \nSéminaires-ateliers jusqu’à 5 personnes. Mesures sanitaires respectées. \nPlus d’informations  sur l’ensemble du cycle ?  ici   \nHoraires : 13h00 – 19h00 le samedi / 9h00-19h00 le dimanche ( soit 16h en présentiel). \nTarif : 230€ le module. Régler en plusieurs fois est possible sur demande. \nL’inscription au module 1 engage pour l’ensemble du cycle. Les dates des modules 2 et 3 sont définies lors du module 1. L’ensemble du cycle varie entre 4 et 9 mois selon les groupes.  \n\nJe m’inscris
URL:https://www.juliediversy.com/evenement/argent1-paris-janvier2021/
LOCATION:Paris\, 75015\, France
CATEGORIES:Ateliers Argent
ATTACH;FMTTYPE=image/jpeg:https://www.juliediversy.com/wp-content/uploads/2020/09/9432A5B5-40D8-432C-88D4-D198F39ECA4D-e1604583255243.jpeg
END:VEVENT
END:VCALENDAR