BEGIN:VCALENDAR
VERSION:2.0
PRODID:-//Julie Diversy - ECPv6.15.17//NONSGML v1.0//EN
CALSCALE:GREGORIAN
METHOD:PUBLISH
X-ORIGINAL-URL:https://www.juliediversy.com
X-WR-CALDESC:Évènements pour Julie Diversy
REFRESH-INTERVAL;VALUE=DURATION:PT1H
X-Robots-Tag:noindex
X-PUBLISHED-TTL:PT1H
BEGIN:VTIMEZONE
TZID:Europe/Helsinki
BEGIN:DAYLIGHT
TZOFFSETFROM:+0200
TZOFFSETTO:+0300
TZNAME:EEST
DTSTART:20200329T010000
END:DAYLIGHT
BEGIN:STANDARD
TZOFFSETFROM:+0300
TZOFFSETTO:+0200
TZNAME:EET
DTSTART:20201025T010000
END:STANDARD
BEGIN:DAYLIGHT
TZOFFSETFROM:+0200
TZOFFSETTO:+0300
TZNAME:EEST
DTSTART:20210328T010000
END:DAYLIGHT
BEGIN:STANDARD
TZOFFSETFROM:+0300
TZOFFSETTO:+0200
TZNAME:EET
DTSTART:20211031T010000
END:STANDARD
BEGIN:DAYLIGHT
TZOFFSETFROM:+0200
TZOFFSETTO:+0300
TZNAME:EEST
DTSTART:20220327T010000
END:DAYLIGHT
BEGIN:STANDARD
TZOFFSETFROM:+0300
TZOFFSETTO:+0200
TZNAME:EET
DTSTART:20221030T010000
END:STANDARD
END:VTIMEZONE
BEGIN:VTIMEZONE
TZID:Europe/Paris
BEGIN:DAYLIGHT
TZOFFSETFROM:+0100
TZOFFSETTO:+0200
TZNAME:CEST
DTSTART:20200329T010000
END:DAYLIGHT
BEGIN:STANDARD
TZOFFSETFROM:+0200
TZOFFSETTO:+0100
TZNAME:CET
DTSTART:20201025T010000
END:STANDARD
BEGIN:DAYLIGHT
TZOFFSETFROM:+0100
TZOFFSETTO:+0200
TZNAME:CEST
DTSTART:20210328T010000
END:DAYLIGHT
BEGIN:STANDARD
TZOFFSETFROM:+0200
TZOFFSETTO:+0100
TZNAME:CET
DTSTART:20211031T010000
END:STANDARD
BEGIN:DAYLIGHT
TZOFFSETFROM:+0100
TZOFFSETTO:+0200
TZNAME:CEST
DTSTART:20220327T010000
END:DAYLIGHT
BEGIN:STANDARD
TZOFFSETFROM:+0200
TZOFFSETTO:+0100
TZNAME:CET
DTSTART:20221030T010000
END:STANDARD
END:VTIMEZONE
BEGIN:VEVENT
DTSTART;VALUE=DATE:20210215
DTEND;VALUE=DATE:20210601
DTSTAMP:20260424T041125
CREATED:20210216T181545Z
LAST-MODIFIED:20210324T110249Z
UID:6927-1613347200-1622505599@www.juliediversy.com
SUMMARY:consultation akashique - A distance sur RDV uniquement
DESCRIPTION:Akasha en sanskrit désigne l’éther\, l’essence primordiale\, vibratoire\, à la source de toute création. C’est la matrice qui sous-tend et embrasse l’Univers ; le champ d’énergie où tout se relie et s’imprime : nos actes\, nos émotions\, nos croyances\, nos pensées\, une existence après l’autre… Cette vaste bibliothèque\, cette âme du monde\, est l’espace de conscience auquel se branchent les chamanes\, les mystiques\, les médiums. Cette matrice universelle est partout autour de nous\, accessible à qui sait se caler sur sa fréquence\, au-delà des frontières de nos perceptions ordinaires. \nLes Archives Akashiques constituent donc le savoir passé\, présent et futur de toute chose. Elles contiennent l’enregistrement du voyage de l’Âme depuis sa conception et les possibilités de son déploiement dans le futur. On se réfère aux Archives Akashiques dans pratiquement tous les anciens enseignements spirituels. Elles sont connues dans la Bible comme “Le Livre de Vie”. \nUne consultation consiste à ouvrir vos Archives Akashiques \, avec votre autorisation\, et à transmettre les informations de ce niveau spirituel sacré et profond. Les perceptions\, éclairages et conseils que vous recevrez de cette expérience vous seront utiles pour résoudre les défis de la vie courante. Ils amèneront votre attention et votre énergie au moment présent\, ce qui vous permettra de revenir à l’essentiel. Cette session vous aidera à gagner de la clarté dans votre croissance spirituelle et personnelle pour votre bien le plus élevé. \nConsultante* en lecture akashique depuis plus de 10 ans\, je vous invite à venir en faire l’expérience. \nJe consulte par téléphone ou skype ( ou assimilé : zoom\, hangout\, facetime…). \nUne consultation dure 1h30 et je vous demande de choisir votre tarif entre 75€ de l’heure et 120€ de l’heure ( nb : pour répondre souvent aux questions à ce sujet 🙂 Il n’y a pas de différence de qualité ni de temps\, juste un souhait de ma part de répondre aux bourses de chacune et chacun. Je vous laisse donc choisir en conscience dans cette fourchette \, en prêtant attention au fait qu’il sera nécessaire d’ajouter une demi-heure au tarif horaire que vous aurez choisi puisque le rdv dure 1h30.) \nIntéressé(e) ? Alors à vos agendas 😉 Pour prendre rdv\, c’est ici : contact \nBesoin de plus d’informations ? Consultez ma page sur les Lectures Akashiques ainsi que les témoignages des clients. \nBelle journée\, \nJulie \n* certifiée par « Journey2theHeart » Don Ernesto Ortiz
URL:https://www.juliediversy.com/evenement/lecture-dame-consultation-akashique-dechezvous-sur-rdv-uniquement-02032021/
LOCATION:De chez vous\, France
CATEGORIES:Ateliers Akashiques
ATTACH;FMTTYPE=image/png:https://www.juliediversy.com/wp-content/uploads/2020/11/70CC5C7E-A2BC-4826-B30D-5A9B3F7F8F78.png
END:VEVENT
BEGIN:VEVENT
DTSTART;VALUE=DATE:20210410
DTEND;VALUE=DATE:20210412
DTSTAMP:20260424T041125
CREATED:20210222T174256Z
LAST-MODIFIED:20210316T101042Z
UID:6932-1618012800-1618185599@www.juliediversy.com
SUMMARY:Argent et Mission de vie  - Module 1 - Aix-en-Provence
DESCRIPTION:Et vous\, quelle est votre relation à l’argent ? Etes-vous gêné.e ou à l’aise avec l’argent ? Avez-vous peur d’en parler ? Rencontrez-vous des difficultés par exemple pour fixer vos tarifs en tant qu’indépendant ou thérapeute ? Avez-vous peur de manquer d’argent ou de ne pas arriver à en gagner suffisamment ? Vous sentez-vous coupable de puiser dans vos économies ? d’avoir reçu de l’argent en héritage ? \nLa société\, notre éducation et nos pensées conditionnent notre rapport à l’argent au-delà même de ce que nous pouvons  imaginer ; nous entendons parler d’argent depuis notre enfance\, et selon notre famille\, notre culture\, la relation qu’entretenaient nos proches avec l’argent\, notre feuille de route inconsciente a été définie. Ce 1er module de 2 jours a pour objectif de visiter cette feuille de route ou votre mythe personnel. \nNous explorerons en profondeur\, vos croyances et les héritages laissés par l’entourage ou les filiations (famille\, culture\, environnement social\, idéologies…). Nous expérimenterons par des mises en situation concrètes et ludiques votre rapport à l’argent. Je vous donnerai également des clés pour comprendre et dénouer des blocages que vous rencontrez. \nCe premier module propose des pistes de solution pour rompre avec vos habitudes de pensées et amène des prises de conscience décisives sur votre façon d’envisager l’argent en clarifiant comment votre vision conditionne vos décisions et vos choix.  Dans le module suivant\, nous pourrons ensuite aborder à quoi vous consacrez votre argent et comment vous pouvez mettre en marche les synchronies de la vie pour honorer votre mission de vie. \nÀ qui s’adresse ce 1er module ? \nÀ toute personne souhaitant dépasser ses peurs sur le sujet\, y voir clair\, reprendre confiance\, comprendre en quoi et comment l’argent peut être intriqué plus largement aussi avec ses amours\, sa famille\, ses amis et son quotidien. Il constitue l’étape indispensable avant de poser vos fondamentaux de vie. \nLes modalités ?  \nLe séminaire se déroule en présentiel sur Aix en Provence centre. A noter que ce 1er module pourra se dérouler sur Zoom si les circonstances ne permettaient pas de nous retrouver tous ensemble. \nSéminaires-ateliers réservé à 6 personnes uniquement pour favoriser les échanges en petit comité et un travail sur mesure adapté à chacun.e. \nLes horaires du séminaire : 13h00 – 18h00 le samedi / 9h00-18h00 le dimanche ( soit 14h en présentiel). \nLe tarif : 230€ le module pour les particuliers et les TPE. Régler en plusieurs fois est possible sur demande.  \nL’inscription au module 1 engage pour l’ensemble du cycle. Les dates des modules 2 et 3 sont définies lors du module 1. L’ensemble du cycle varie entre 4 et 9 mois selon les groupes.  \nSi vous désirez plus d’informations  sur l’ensemble du cycle de 6 jours ?  C’est  ici  ou par mail avec vos questions en un clic via le bouton juste en-dessous. \nChaleureusement\, \nJulie \n\nJe m’inscris
URL:https://www.juliediversy.com/evenement/argent1-aix-avril-2021/
LOCATION:Aix-en-Provence\, France
CATEGORIES:Ateliers Argent
ATTACH;FMTTYPE=image/jpeg:https://www.juliediversy.com/wp-content/uploads/2017/07/pexels-photo-210574.jpeg
END:VEVENT
BEGIN:VEVENT
DTSTART;VALUE=DATE:20210424
DTEND;VALUE=DATE:20210426
DTSTAMP:20260424T041125
CREATED:20210223T144724Z
LAST-MODIFIED:20210316T101547Z
UID:6938-1619222400-1619395199@www.juliediversy.com
SUMMARY:Argent et Mission de vie  - Module 1 - Paris
DESCRIPTION:Et vous\, quelle est votre relation à l’argent ? Etes-vous gêné.e ou à l’aise avec l’argent ? Avez-vous peur d’en parler ? Rencontrez-vous des difficultés par exemple pour fixer vos tarifs en tant qu’indépendant ou thérapeute ? Avez-vous peur de manquer d’argent ou de ne pas arriver à en gagner suffisamment ? Vous sentez-vous coupable de puiser dans vos économies ? d’avoir reçu de l’argent en héritage ? \nLa société\, notre éducation et nos pensées conditionnent notre rapport à l’argent au-delà même de ce que nous pouvons  imaginer ; nous entendons parler d’argent depuis notre enfance\, et selon notre famille\, notre culture\, la relation qu’entretenaient nos proches avec l’argent\, la feuille de route de nos croyances a été définie inconsciemment. Ce 1er module de 2 jours a pour objectif de visiter cette feuille de route ou votre mythe personnel. \nNous explorerons en profondeur\, vos croyances et les héritages laissés par l’entourage ou les filiations (famille\, culture\, environnement social\, idéologies…). Nous expérimenterons par des mises en situation concrètes et ludiques votre rapport à l’argent. Je vous donnerai également des clés pour comprendre et dénouer des blocages que vous rencontrez. \nCe premier module propose des pistes de solution pour rompre avec vos habitudes de pensées et amène des prises de conscience décisives sur votre façon d’envisager l’argent en clarifiant comment votre vision conditionne vos décisions et vos choix. \nDans le module suivant\, nous pourrons ensuite aborder à quoi vous consacrez votre argent et comment vous pouvez mettre en marche les synchronies de la vie pour honorer votre mission de vie. \nÀ qui s’adresse ce 1er module ? \nÀ toute personne souhaitant dépasser ses peurs sur le sujet\, y voir clair\, reprendre confiance\, comprendre en quoi et comment l’argent peut être intriqué plus largement aussi avec ses amours\, sa famille\, ses amis et son quotidien. Il constitue l’étape indispensable avant de poser vos fondamentaux de vie. \nCe travail peut être fait également par exemple en couple ou entre amis pour mieux comprendre ce que l’argent catalyse ou cristallise dans les relations. \nLes modalités ?  \nLe séminaire se déroule en présentiel sur Paris\, à proximité de la place d’Italie. A noter que ce 1er module pourra se dérouler sur Zoom si les circonstances ne permettaient pas de nous retrouver tous ensemble. \nSéminaire-atelier réservé à 6 personnes uniquement pour favoriser les échanges en petit comité et un travail sur mesure adapté à chacun.e. \nLes horaires du séminaire : 13h00 – 18h00 le samedi / 9h00-18h00 le dimanche ( soit 14h en présentiel). \nLe tarif : 230€ le module pour les particuliers et les TPE. Régler en plusieurs fois est possible sur demande.  \nL’inscription au module 1 engage pour l’ensemble du cycle. Les dates des modules 2 et 3 sont définies lors du module 1. L’ensemble du cycle varie entre 4 et 9 mois selon les groupes.  \nSi vous désirez plus d’informations  sur l’ensemble du cycle de 6 jours ?  C’est  ici  ou/et par mail avec vos questions en un clic via le bouton juste en-dessous. \nChaleureusement\, \nJulie \n\nJe m’inscris
URL:https://www.juliediversy.com/evenement/argent1-paris-avril-2021/
LOCATION:Place d’Italie Paris\, 75013\, France
CATEGORIES:Ateliers Argent
ATTACH;FMTTYPE=image/jpeg:https://www.juliediversy.com/wp-content/uploads/2021/02/christian-dubovan-Y_x747Yshlw-unsplash-scaled.jpeg
END:VEVENT
END:VCALENDAR