BEGIN:VCALENDAR
VERSION:2.0
PRODID:-//Julie Diversy - ECPv6.15.17//NONSGML v1.0//EN
CALSCALE:GREGORIAN
METHOD:PUBLISH
X-ORIGINAL-URL:https://www.juliediversy.com
X-WR-CALDESC:Évènements pour Julie Diversy
REFRESH-INTERVAL;VALUE=DURATION:PT1H
X-Robots-Tag:noindex
X-PUBLISHED-TTL:PT1H
BEGIN:VTIMEZONE
TZID:Europe/Helsinki
BEGIN:DAYLIGHT
TZOFFSETFROM:+0200
TZOFFSETTO:+0300
TZNAME:EEST
DTSTART:20200329T010000
END:DAYLIGHT
BEGIN:STANDARD
TZOFFSETFROM:+0300
TZOFFSETTO:+0200
TZNAME:EET
DTSTART:20201025T010000
END:STANDARD
BEGIN:DAYLIGHT
TZOFFSETFROM:+0200
TZOFFSETTO:+0300
TZNAME:EEST
DTSTART:20210328T010000
END:DAYLIGHT
BEGIN:STANDARD
TZOFFSETFROM:+0300
TZOFFSETTO:+0200
TZNAME:EET
DTSTART:20211031T010000
END:STANDARD
BEGIN:DAYLIGHT
TZOFFSETFROM:+0200
TZOFFSETTO:+0300
TZNAME:EEST
DTSTART:20220327T010000
END:DAYLIGHT
BEGIN:STANDARD
TZOFFSETFROM:+0300
TZOFFSETTO:+0200
TZNAME:EET
DTSTART:20221030T010000
END:STANDARD
END:VTIMEZONE
BEGIN:VTIMEZONE
TZID:Europe/Paris
BEGIN:DAYLIGHT
TZOFFSETFROM:+0100
TZOFFSETTO:+0200
TZNAME:CEST
DTSTART:20200329T010000
END:DAYLIGHT
BEGIN:STANDARD
TZOFFSETFROM:+0200
TZOFFSETTO:+0100
TZNAME:CET
DTSTART:20201025T010000
END:STANDARD
BEGIN:DAYLIGHT
TZOFFSETFROM:+0100
TZOFFSETTO:+0200
TZNAME:CEST
DTSTART:20210328T010000
END:DAYLIGHT
BEGIN:STANDARD
TZOFFSETFROM:+0200
TZOFFSETTO:+0100
TZNAME:CET
DTSTART:20211031T010000
END:STANDARD
BEGIN:DAYLIGHT
TZOFFSETFROM:+0100
TZOFFSETTO:+0200
TZNAME:CEST
DTSTART:20220327T010000
END:DAYLIGHT
BEGIN:STANDARD
TZOFFSETFROM:+0200
TZOFFSETTO:+0100
TZNAME:CET
DTSTART:20221030T010000
END:STANDARD
END:VTIMEZONE
BEGIN:VEVENT
DTSTART;VALUE=DATE:20210823
DTEND;VALUE=DATE:20211219
DTSTAMP:20260423T175919
CREATED:20210805T194403Z
LAST-MODIFIED:20210805T202223Z
UID:7600-1629676800-1639871999@www.juliediversy.com
SUMMARY:consultation akashique - A distance sur RDV uniquement
DESCRIPTION:Akasha en sanskrit désigne l’éther\, l’essence primordiale\, vibratoire\, à la source de toute création. C’est la matrice qui sous-tend et embrasse l’Univers ; le champ d’énergie où tout se relie et s’imprime : nos actes\, nos émotions\, nos croyances\, nos pensées\, une existence après l’autre… Cette vaste bibliothèque\, cette âme du monde\, est l’espace de conscience auquel se branchent les chamans\, les mystiques\, les médiums. Cette matrice universelle est partout autour de nous\, accessible à qui sait se caler sur sa fréquence\, au-delà des frontières de nos perceptions ordinaires. \nLes Archives Akashiques constituent donc le savoir passé\, présent et futur de toute chose. Elles contiennent l’enregistrement du voyage de l’Âme depuis sa conception et les possibilités de son déploiement dans le futur. On se réfère aux Archives Akashiques dans pratiquement tous les anciens enseignements spirituels. Elles sont connues dans la Bible comme “Le Livre de Vie”. \nUne consultation consiste à ouvrir vos Archives Akashiques \, avec votre autorisation\, et à transmettre les informations de ce niveau spirituel sacré et profond. Les perceptions\, éclairages et conseils que vous recevrez de cette expérience vous seront utiles pour résoudre les défis de la vie courante. Ils amèneront votre attention et votre énergie au moment présent\, ce qui vous permettra de revenir à l’essentiel. Cette session vous aidera à gagner de la clarté dans votre croissance spirituelle et personnelle pour votre bien le plus élevé. \nJe consulte par téléphone ou skype ( ou assimilé : zoom\, hangout\, facetime…) toujours sur rdv. \nUne consultation ou un soin dure 1h30 et je vous demande de choisir votre tarif entre 75€ de l’heure et 120€ de l’heure ( nb : pour répondre souvent aux questions à ce sujet 🙂 Il n’y a pas de différence de qualité ni de temps\, juste un souhait de ma part de répondre aux bourses de chacune et chacun. Je vous laisse donc choisir en conscience dans cette fourchette \, en prêtant attention au fait qu’il sera nécessaire d’ajouter une demi-heure au tarif horaire que vous aurez choisi puisque le premier rdv dure toujours 1h30.) \nIntéressé(e) ? Alors à vos agendas 😉 Pour prendre rdv\, c’est ici : contact \nBesoin de plus d’informations et lire les témoignages soin et lecture ? Consultez ma page sur les Lectures Akashiques et sur les soins akashiques. \nBelle journée\, \nJulie \n* certifiée par « Journey2theHeart » Don Ernesto Ortiz
URL:https://www.juliediversy.com/evenement/consultation-akashique-dechezvous-sur-rdv/
LOCATION:De chez vous\, France
CATEGORIES:Ateliers Akashiques
ATTACH;FMTTYPE=image/jpeg:https://www.juliediversy.com/wp-content/uploads/2021/08/fabian-struwe-4cloovdyuvw-unsplash-scaled.jpg
END:VEVENT
BEGIN:VEVENT
DTSTART;VALUE=DATE:20211120
DTEND;VALUE=DATE:20211122
DTSTAMP:20260423T175919
CREATED:20210805T180545Z
LAST-MODIFIED:20211009T141630Z
UID:7551-1637366400-1637539199@www.juliediversy.com
SUMMARY:Le couple : mythes et réalités 1 - Aix (cursus de 3x2 jours)
DESCRIPTION:Il existe de nombreux « schémas de couple »\, le mariage en est un\, la vie en concubinage\, l’amour plurielle\, le chacun chez soi\, la vie commune\, le « de temps en temps » sont d’autres possibles… Mais au fond\, peu importe la forme que le couple revêt\, la question reste toujours la même : Qui suis-je ? et par voie de conséquence\, qu’ai-je envie de vivre et comment ? L’autre n’est qu’un miroir pour toucher à sa propre grandeur. Dans tous les cas\, le meilleur cadeau que vous pourrez vous offrir et offrir à l’autre est de vous connaitre intimement et de vous aimer sans conditions. \nQue vous soyez célibataire ou en couple\, ce séminaire de 3×2 jours débutera par l’exploration de vos premiers liens d’attachement. Le couple\, rêvé ou vécu\, quoiqu’on en pense est toujours modelé\, façonné par la relation à ses parents qu’ils aient été présents ou absents. Ces deux « figures » constituent la pierre angulaire de votre relation à l’autre\, de vos représentations du féminin et du masculin et des rôles de chacun. Ils ont été « choisis » pour vous permettre de vous rencontrer au cœur et d’embrasser totalement qui vous êtes. \nVous pourrez déposer ici vos doutes et vos peurs issues de vos croyances et de vos attentes par rapport au couple espéré\, rêvé\, vécu ou subi. Ce séminaire sera l’occasion de faire un bilan\, un point\, un arrêt sur image sur votre relation à vous-même et à l’autre. Il vous permettra également de savoir si vos polarités sont à l’équilibre et éventuellement de les ré-harmoniser\, de vous libérer de certains attachements ou dépendances et de poser les premières pierres de ce que vous voulez vivre vraiment. \nNous aborderons également les questions du couple sous l’angle de l’âme (concepts de flammes jumelles\, âmes sœurs\, rencontres karmiques\, couple du Verseau etc…) et de l’énergie (champs magnétique – électrique et sexualité). \nPour qui ? \nToute personne souhaitant dépasser ses peurs sur le sujet\, y voir clair\, sonder profondément ses représentations\, ses attentes sur le couple\, visiter ses schémas et croyances liées à l’amour et qui est prête à se défaire de patterns limitants. \nCe séminaire s’adresse aux personnes qui ont déjà mené un travail sur elles-mêmes et qui souhaitent allez encore plus loin sur ces questions peut être déjà visitées par le passé mais qui n’ont pas encore amené une réelle tranquillité d’esprit sur ce sujet. \nVoir le programme dans son ensemble et les modalités  ? c’est ici  \nLe cycle démarrera le week-end des 2 et 3 octobre. Les dates des modules 2 et 3 seront décidées ensemble à l’occasion du module 1. \nN’hésitez pas à revenir vers moi si vous avez besoin d’une adresse pour un hébergement sur Aix-en-Provence. \nChaleureusement\, \n\nJe m’inscris
URL:https://www.juliediversy.com/evenement/couple1-aix-2021/
LOCATION:Aix-en-Provence\, France
CATEGORIES:Ateliers Couple
ATTACH;FMTTYPE=image/jpeg:https://www.juliediversy.com/wp-content/uploads/2017/07/WhatsApp-Image-2021-08-03-at-21.00.49.jpeg
END:VEVENT
END:VCALENDAR