BEGIN:VCALENDAR
VERSION:2.0
PRODID:-//Julie Diversy - ECPv6.15.17//NONSGML v1.0//EN
CALSCALE:GREGORIAN
METHOD:PUBLISH
X-WR-CALNAME:Julie Diversy
X-ORIGINAL-URL:https://www.juliediversy.com
X-WR-CALDESC:Évènements pour Julie Diversy
REFRESH-INTERVAL;VALUE=DURATION:PT1H
X-Robots-Tag:noindex
X-PUBLISHED-TTL:PT1H
BEGIN:VTIMEZONE
TZID:Europe/Paris
BEGIN:DAYLIGHT
TZOFFSETFROM:+0100
TZOFFSETTO:+0200
TZNAME:CEST
DTSTART:20210328T010000
END:DAYLIGHT
BEGIN:STANDARD
TZOFFSETFROM:+0200
TZOFFSETTO:+0100
TZNAME:CET
DTSTART:20211031T010000
END:STANDARD
BEGIN:DAYLIGHT
TZOFFSETFROM:+0100
TZOFFSETTO:+0200
TZNAME:CEST
DTSTART:20220327T010000
END:DAYLIGHT
BEGIN:STANDARD
TZOFFSETFROM:+0200
TZOFFSETTO:+0100
TZNAME:CET
DTSTART:20221030T010000
END:STANDARD
BEGIN:DAYLIGHT
TZOFFSETFROM:+0100
TZOFFSETTO:+0200
TZNAME:CEST
DTSTART:20230326T010000
END:DAYLIGHT
BEGIN:STANDARD
TZOFFSETFROM:+0200
TZOFFSETTO:+0100
TZNAME:CET
DTSTART:20231029T010000
END:STANDARD
END:VTIMEZONE
BEGIN:VEVENT
DTSTART;VALUE=DATE:20220106
DTEND;VALUE=DATE:20220325
DTSTAMP:20260423T145131
CREATED:20210906T122314Z
LAST-MODIFIED:20210906T122108Z
UID:7593-1641427200-1648166399@www.juliediversy.com
SUMMARY:Cercle "Entrepreneures" Zoom
DESCRIPTION:Je vous propose une formule inédite à prix tout doux pour bien démarrer l’année : un coaching de groupe réservées aux femmes qui souhaitent sauter le pas d’entreprendre ou qui démarrent dans la voie de l’entreprenariat ou ont besoin de reprendre un nouveau souffle :  un accompagnement flash sur 4 mois sur zoom à raison de 6 rdvs de 2 heures du 6 janvier au 31 mars 2022\, certains jeudis de 11h30 à 13h30.  \nAu programme ce sera pour vous\, la possibilité de : \n\nÊtre soutenue dans votre transition\nComprendre les caractéristiques d’une transition \nSavoir comment conserver vos fondamentaux et gérer votre énergie au quotidien\nPartager vos idées de développement\, échanger sur votre projet\, vos difficultés\nProfiter d’une synergie de groupe au féminin\nVous ressourcer à l’occasion de méditations guidées\n\nAu tarif tout doux de 60€ la séance de 2 heures soit 30€ de l’heure soit un total de 360€ pour un accompagnement sur 4 mois. \nDémarrage du cercle à partir de 4 inscrites.  \nN’hésitez pas à diffuser autour de vous et à cliquer sur le bouton pour connaitre toutes les dates ! \nChaleureusement\, \n\nJe m’inscris
URL:https://www.juliediversy.com/evenement/cerclenentrepreneuresjanvier2022/
CATEGORIES:Cercle
ATTACH;FMTTYPE=image/jpeg:https://www.juliediversy.com/wp-content/uploads/2017/07/pexels-luis-del-rio-15286-scaled.jpg
END:VEVENT
BEGIN:VEVENT
DTSTART;VALUE=DATE:20220115
DTEND;VALUE=DATE:20220117
DTSTAMP:20260423T145131
CREATED:20211123T164614Z
LAST-MODIFIED:20211123T165337Z
UID:7699-1642204800-1642377599@www.juliediversy.com
SUMMARY:Le couple : mythes et réalités Module 2 - Aix (cursus de 3x2 jours)
DESCRIPTION:Il existe de nombreux « schémas de couple »\, le mariage en est un\, la vie en concubinage\, l’amour plurielle\, le chacun chez soi\, la vie commune\, le « de temps en temps » sont d’autres possibles… Mais au fond\, peu importe la forme que le couple revêt\, la question reste toujours la même : Qui suis-je ? et par voie de conséquence\, qu’ai-je envie de vivre et comment ? L’autre n’est qu’un miroir pour toucher à sa propre grandeur. Dans tous les cas\, le meilleur cadeau que vous pourrez vous offrir et offrir à l’autre est de vous connaitre intimement et de vous aimer sans conditions. \nQue vous soyez célibataire ou en couple\, ce séminaire de 3×2 jours débutera par l’exploration de vos premiers liens d’attachement. Le couple\, rêvé ou vécu\, quoiqu’on en pense est toujours modelé\, façonné par la relation à ses parents qu’ils aient été présents ou absents. Ces deux « figures » constituent la pierre angulaire de votre relation à l’autre\, de vos représentations du féminin et du masculin et des rôles de chacun. Ils ont été « choisis » pour vous permettre de vous rencontrer au cœur et d’embrasser totalement qui vous êtes. \nVous pourrez déposer ici vos doutes et vos peurs issues de vos croyances et de vos attentes par rapport au couple espéré\, rêvé\, vécu ou subi. Ce séminaire sera l’occasion de faire un bilan\, un point\, un arrêt sur image sur votre relation à vous-même et à l’autre. Il vous permettra également de savoir si vos polarités masculin-féminin sont à l’équilibre et éventuellement de les ré-harmoniser\, de vous libérer de certains attachements ou dépendances et de poser les premières pierres de ce que vous voulez vivre vraiment. \nNous aborderons également les questions du couple sous l’angle de l’âme (concepts de flammes jumelles\, âmes sœurs\, rencontres karmiques\, couple du Verseau etc…) et de l’énergie (champs magnétique – électrique et sexualité). \nPour qui ? \nToute personne souhaitant dépasser ses peurs sur le sujet\, y voir clair\, sonder profondément ses représentations\, ses attentes sur le couple\, visiter ses schémas et croyances liées à l’amour et qui est prête à se défaire de patterns limitants. \nCe séminaire s’adresse aux personnes qui ont déjà mené un travail sur elles-mêmes et qui souhaitent allez encore plus loin sur ces questions peut être déjà visitées par le passé mais qui n’ont pas encore amenées une réelle tranquillité d’esprit sur ce sujet. \nVoir le programme dans son ensemble et les modalités  ? c’est ici  \nLe cycle a démarré en octobre 2021. Les dates du module 2 ont été fixées en janvier 2022 et celles du module 3 en mars 2022.  Vous ne pouvez pas prendre ce cycle en cours de route car les 6 jours proposés offrent une progression indispensable. Si ce séminaire vous intéresse\, vous pouvez m’envoyer une demande d’informations pour connaitre les prochaines dates du module 1 qui vous permettra de monter à bord de cette belle aventure 😉 \nChaleureusement\, \n\nJe m’inscris
URL:https://www.juliediversy.com/evenement/couplemodule2-aix-janvier2022/
LOCATION:Aix-en-Provence\, France
CATEGORIES:Ateliers Couple
ATTACH;FMTTYPE=image/jpeg:https://www.juliediversy.com/wp-content/uploads/2017/07/WhatsApp-Image-2021-08-03-at-21.00.49.jpeg
END:VEVENT
BEGIN:VEVENT
DTSTART;VALUE=DATE:20220122
DTEND;VALUE=DATE:20220124
DTSTAMP:20260423T145131
CREATED:20210805T181828Z
LAST-MODIFIED:20220630T115157Z
UID:7574-1642809600-1642982399@www.juliediversy.com
SUMMARY:Argent\, Mission de vie et Astrocoaching : Module 1 - Paris (cursus de 3x2 jours)
DESCRIPTION:Et vous\, quelle est votre relation à l’argent ? Etes-vous gêné.e ou à l’aise avec l’argent ? Avez-vous peur d’en parler ? Rencontrez-vous des difficultés par exemple pour fixer vos tarifs en tant qu’indépendant ou thérapeute ? Avez-vous peur de manquer d’argent ou de ne pas arriver à en gagner suffisamment ? Vous sentez-vous coupable de puiser dans vos économies ? d’avoir reçu de l’argent en héritage ? \nLa société\, notre éducation et nos pensées conditionnent notre rapport à l’argent au-delà même de ce que nous pouvons  imaginer ; nous entendons parler d’argent depuis notre enfance\, et selon notre famille\, notre culture\, la relation qu’entretenaient nos proches avec l’argent\, la feuille de route de nos croyances a été définie inconsciemment. Ce 1er module de 2 jours a pour objectif de visiter cette feuille de route ou votre mythe personnel. \nSous le regard des étoiles\, avec\, pour cette édition spéciale\, la présence d’Ariane Tumminello spécialisée en astrocoaching\, nous explorerons en profondeur\, vos croyances et les héritages laissés par l’entourage ou les filiations (famille\, culture\, environnement social\, idéologies…). Nous identifierons votre ou vos croyances limitantes puis nous expérimenterons par des mises en situation concrètes et ludiques votre rapport à l’argent. Je vous donnerai également des clés pour comprendre et dénouer des blocages que vous rencontrez et pour ceux qui le souhaitent\, Ariane nous partagera des éclairages sur vos thèmes ainsi que sur les transits planétaires du moment.  \nCe premier module propose des pistes de solution pour rompre avec vos habitudes de pensées et amène des prises de conscience décisives sur votre façon d’envisager l’argent en clarifiant comment votre vision conditionne vos décisions et vos choix. \nDans le module suivant\, nous pourrons ensuite aborder à quoi vous consacrez votre argent et comment vous pouvez mettre en marche les synchronies de la vie pour honorer votre mission de vie. \nÀ qui s’adresse ce 1er module ? \nÀ toute personne souhaitant dépasser ses peurs sur le sujet\, y voir clair\, reprendre confiance\, comprendre en quoi et comment l’argent peut être intriqué plus largement aussi avec ses amours\, sa famille\, ses amis et son quotidien. Il constitue l’étape indispensable avant de poser vos fondamentaux de vie que nous évoquerons au module suivant. \nCe travail s’adresse également aux personnes qui ont déjà mené un travail sur elles-mêmes et qui sont ouvertes au changement. Je prendrai contact avec vous en amont si je ne vous connais pas encore pour échanger ensemble à ce sujet. \nCe cursus de 6 jours (3×2 j) peut être également suivi par exemple en couple ou entre amis afin de mieux comprendre ce que l’argent catalyse ou cristallise dans les relations. \nLes modalités ?  \nLe 3 séminaires se dérouleront sur Paris\, à proximité de la place d’Italie. \nSéminaire-atelier réservé à 6-8 personnes uniquement pour favoriser les échanges en petit comité et un travail sur mesure adapté à chacun.e. \nLes horaires du séminaire : 13h00 – 19h00 le samedi / 9h00-18h00 le dimanche ( soit 14h en présentiel). \nLe tarif : 250€ le module pour les particuliers et les TPE. \nL’inscription au module 1 engage pour l’ensemble du cycle. Les dates des modules 2 et 3 sont définies lors du module 1. L’ensemble du cycle varie entre 4 et 8 mois selon les groupes.  \nSi vous désirez plus d’informations  sur l’ensemble du cycle de 6 jours ?  C’est  ici  ou/et par mail avec vos questions en un clic via le bouton « Je m’inscris » juste en-dessous. \nChaleureusement\, \nJulie \n\nJe m’inscris
URL:https://www.juliediversy.com/evenement/argent1-paris-janvier-2022/
LOCATION:Place d’Italie Paris\, 75013\, France
CATEGORIES:Ateliers Argent
ATTACH;FMTTYPE=image/jpeg:https://www.juliediversy.com/wp-content/uploads/2017/07/WhatsApp-Image-2021-08-03-at-21.00.03.jpeg
END:VEVENT
END:VCALENDAR