BEGIN:VCALENDAR
VERSION:2.0
PRODID:-//Julie Diversy - ECPv6.15.17//NONSGML v1.0//EN
CALSCALE:GREGORIAN
METHOD:PUBLISH
X-WR-CALNAME:Julie Diversy
X-ORIGINAL-URL:https://www.juliediversy.com
X-WR-CALDESC:Évènements pour Julie Diversy
REFRESH-INTERVAL;VALUE=DURATION:PT1H
X-Robots-Tag:noindex
X-PUBLISHED-TTL:PT1H
BEGIN:VTIMEZONE
TZID:Europe/Helsinki
BEGIN:DAYLIGHT
TZOFFSETFROM:+0200
TZOFFSETTO:+0300
TZNAME:EEST
DTSTART:20210328T010000
END:DAYLIGHT
BEGIN:STANDARD
TZOFFSETFROM:+0300
TZOFFSETTO:+0200
TZNAME:EET
DTSTART:20211031T010000
END:STANDARD
BEGIN:DAYLIGHT
TZOFFSETFROM:+0200
TZOFFSETTO:+0300
TZNAME:EEST
DTSTART:20220327T010000
END:DAYLIGHT
BEGIN:STANDARD
TZOFFSETFROM:+0300
TZOFFSETTO:+0200
TZNAME:EET
DTSTART:20221030T010000
END:STANDARD
BEGIN:DAYLIGHT
TZOFFSETFROM:+0200
TZOFFSETTO:+0300
TZNAME:EEST
DTSTART:20230326T010000
END:DAYLIGHT
BEGIN:STANDARD
TZOFFSETFROM:+0300
TZOFFSETTO:+0200
TZNAME:EET
DTSTART:20231029T010000
END:STANDARD
END:VTIMEZONE
BEGIN:VTIMEZONE
TZID:Europe/Paris
BEGIN:DAYLIGHT
TZOFFSETFROM:+0100
TZOFFSETTO:+0200
TZNAME:CEST
DTSTART:20210328T010000
END:DAYLIGHT
BEGIN:STANDARD
TZOFFSETFROM:+0200
TZOFFSETTO:+0100
TZNAME:CET
DTSTART:20211031T010000
END:STANDARD
BEGIN:DAYLIGHT
TZOFFSETFROM:+0100
TZOFFSETTO:+0200
TZNAME:CEST
DTSTART:20220327T010000
END:DAYLIGHT
BEGIN:STANDARD
TZOFFSETFROM:+0200
TZOFFSETTO:+0100
TZNAME:CET
DTSTART:20221030T010000
END:STANDARD
BEGIN:DAYLIGHT
TZOFFSETFROM:+0100
TZOFFSETTO:+0200
TZNAME:CEST
DTSTART:20230326T010000
END:DAYLIGHT
BEGIN:STANDARD
TZOFFSETFROM:+0200
TZOFFSETTO:+0100
TZNAME:CET
DTSTART:20231029T010000
END:STANDARD
END:VTIMEZONE
BEGIN:VEVENT
DTSTART;VALUE=DATE:20220303
DTEND;VALUE=DATE:20220731
DTSTAMP:20260423T092942
CREATED:20220105T164240Z
LAST-MODIFIED:20220613T191328Z
UID:7723-1646265600-1659225599@www.juliediversy.com
SUMMARY:Consultation akashique - sur RDV uniquement
DESCRIPTION:Akasha en sanskrit désigne l’éther\, l’essence primordiale\, vibratoire\, à la source de toute création. C’est la matrice qui sous-tend et embrasse l’Univers ; le champ d’énergie où tout se relie et s’imprime : nos actes\, nos émotions\, nos croyances\, nos pensées\, une existence après l’autre… Cette vaste bibliothèque\, cette âme du monde\, est l’espace de conscience auquel se branchent les chamans\, les mystiques\, les médiums. Cette matrice universelle est partout autour de nous\, accessible à qui sait se caler sur sa fréquence\, au-delà des frontières de nos perceptions ordinaires. \nLes Archives Akashiques constituent donc le savoir passé\, présent et futur de toutes choses. Elles contiennent l’enregistrement du voyage de l’âme depuis sa conception et les possibilités de son déploiement dans le futur. On se réfère aux Archives Akashiques dans pratiquement tous les anciens enseignements spirituels. Elles sont connues dans la Bible comme “Le Livre de Vie”. \nUne consultation consiste à ouvrir vos Archives Akashiques\, avec votre autorisation\, et à transmettre les informations de ce niveau spirituel sacré et profond. Les perceptions\, éclairages et conseils que vous recevrez de cette expérience vous seront utiles pour résoudre les défis de la vie courante. Ils amèneront votre attention et votre énergie au moment présent\, ce qui vous permettra de revenir à l’essentiel. Cette session vous aidera à gagner de la clarté dans votre croissance spirituelle et personnelle pour votre bien le plus élevé. \nJe consulte par téléphone ou skype ( ou assimilé : zoom\, hangout\, facetime…) toujours sur rdv. \nUne première consultation ou un soin dure 1h30 et je vous demande de choisir votre tarif entre 75€ de l’heure et 120€ de l’heure ( nb : pour répondre souvent aux questions à ce sujet 🙂 Il n’y a pas de différence de qualité ni de temps\, juste un souhait de ma part de répondre aux bourses de chacune et chacun. Je vous laisse donc choisir en conscience dans cette fourchette\, en prêtant attention au fait qu’il sera nécessaire d’ajouter une demi-heure au tarif horaire que vous aurez choisi puisque le premier rdv dure toujours 1h30.) \nIntéressé(e) ? Alors à vos agendas 😉 Pour prendre rdv\, c’est ici : contact \n👉 Besoin de plus d’informations ? \nVous pouvez lire les témoignages : ici lectures akashiques et là soins akashiques. \nOu vous procurer le livre « À la découverte des mémoires akashiques » à paraitre aux éditions Eyrolles le 14 avril ici  \nBelle journée\, \nJulie \n* certifiée par « Journey2theHeart » Don Ernesto Ortiz
URL:https://www.juliediversy.com/evenement/consultation-akashique-dechezvous-sur-rdv22/
LOCATION:De chez vous\, France
CATEGORIES:Ateliers Akashiques
ATTACH;FMTTYPE=image/jpeg:https://www.juliediversy.com/wp-content/uploads/2017/07/book-2869-scaled.jpg
END:VEVENT
BEGIN:VEVENT
DTSTART;VALUE=DATE:20220430
DTEND;VALUE=DATE:20220613
DTSTAMP:20260423T092942
CREATED:20220330T164910Z
LAST-MODIFIED:20220613T191053Z
UID:7761-1651276800-1655078399@www.juliediversy.com
SUMMARY:Rencontres-dédicaces : toutes les dates et les lieux
DESCRIPTION:Chères étincelles\, \nVenez me retrouver pour échanger au sujet des archives akashiques lors de rencontres-dédicaces. \nMes 3 livres pourront être à l’honneur mais je ferai la part belle au dernier né « À la découverte des mémoires akashiques » à paraitre aux éditions Eyrolles le 14 avril 2022.  \nVous trouverez ici le calendrier des rencontres\, d’avril à août\, dans différentes régions\, dates qui s’actualiseront au fur et à mesure de mes contacts donc n’hésitez pas à refaire un petit tour sur cette page\, de temps en temps.  \n  \n📚 Agenda des rencontres 2022 \n👉 le samedi 30 avril à la Librairie Derain de 14h30 à 18h30 à Lyon \n👉 le samedi 7 mai à la Librairie L’Initié de 14h à 18h – près d’Aix-en-Provence \n👉 le vendredi 12 août à la Librairie La Chaloupe de 11h à 18h – dans le Cotentin \nParis et Montpellier sont en préparation. \n  \n📍 Les adresses où se retrouver \nLibrairie Derain – 25 Rue Bugeaud – 69006 Lyon \nLibrairie L’Initié – 60 avenue de la grande Bégude – Les terrasses du Cellier – 13770 Venelles \nLibrairie la Chaloupe – 32&35 Rue de Verrüe –  50550 Saint-Vaast-la-Hougue \n  \nA bientôt  💫 \nJulie \n\nJe me renseigne
URL:https://www.juliediversy.com/evenement/rencontresdedicaces/
LOCATION:En France\, France
CATEGORIES:Dédicaces
ATTACH;FMTTYPE=image/jpeg:https://www.juliediversy.com/wp-content/uploads/2022/03/1èrecouvertureMémoiresaak-scaled-e1650715853843.jpg
END:VEVENT
BEGIN:VEVENT
DTSTART;VALUE=DATE:20220507
DTEND;VALUE=DATE:20220508
DTSTAMP:20260423T092942
CREATED:20220403T114612Z
LAST-MODIFIED:20220403T114612Z
UID:7803-1651881600-1651967999@www.juliediversy.com
SUMMARY:Après-midi dédicaces à L'Initié à Venelles (13)
DESCRIPTION:Chères étincelles\, \nJe suis en Joie de vous retrouver à la Librairie L’Initié à Venelles pour un après-midi dédicaces le samedi 7 mai 2022 de 14h à 18h. \nJe serai heureuse d’échanger avec vous sur les mémoires akashiques et sur l’aventure de ce nouveau livre. \n📍 L’adresse de la Librairie L’Initié ainsi que leur site internet. \n 60 Avenue de la Grande Bégude \nLes terrasses du Cellier\n13770 VENELLES \nParking en bas des Terrasses. \n\n\nAccueil \n\n \nA bientôt  💫 \nJulie \n\nJe m’inscris
URL:https://www.juliediversy.com/evenement/samedi7maidecdedicaceslinitievenelles/
LOCATION:Librairie L’Initié Venelles\, France
CATEGORIES:Dédicaces
ATTACH;FMTTYPE=image/jpeg:https://www.juliediversy.com/wp-content/uploads/2022/04/Com-Dédicaces-Aaka-Linitié-scaled.jpg
END:VEVENT
END:VCALENDAR