BEGIN:VCALENDAR
VERSION:2.0
PRODID:-//Julie Diversy - ECPv6.15.17//NONSGML v1.0//EN
CALSCALE:GREGORIAN
METHOD:PUBLISH
X-ORIGINAL-URL:https://www.juliediversy.com
X-WR-CALDESC:Évènements pour Julie Diversy
REFRESH-INTERVAL;VALUE=DURATION:PT1H
X-Robots-Tag:noindex
X-PUBLISHED-TTL:PT1H
BEGIN:VTIMEZONE
TZID:Europe/Helsinki
BEGIN:DAYLIGHT
TZOFFSETFROM:+0200
TZOFFSETTO:+0300
TZNAME:EEST
DTSTART:20210328T010000
END:DAYLIGHT
BEGIN:STANDARD
TZOFFSETFROM:+0300
TZOFFSETTO:+0200
TZNAME:EET
DTSTART:20211031T010000
END:STANDARD
BEGIN:DAYLIGHT
TZOFFSETFROM:+0200
TZOFFSETTO:+0300
TZNAME:EEST
DTSTART:20220327T010000
END:DAYLIGHT
BEGIN:STANDARD
TZOFFSETFROM:+0300
TZOFFSETTO:+0200
TZNAME:EET
DTSTART:20221030T010000
END:STANDARD
BEGIN:DAYLIGHT
TZOFFSETFROM:+0200
TZOFFSETTO:+0300
TZNAME:EEST
DTSTART:20230326T010000
END:DAYLIGHT
BEGIN:STANDARD
TZOFFSETFROM:+0300
TZOFFSETTO:+0200
TZNAME:EET
DTSTART:20231029T010000
END:STANDARD
END:VTIMEZONE
BEGIN:VTIMEZONE
TZID:Europe/Paris
BEGIN:DAYLIGHT
TZOFFSETFROM:+0100
TZOFFSETTO:+0200
TZNAME:CEST
DTSTART:20210328T010000
END:DAYLIGHT
BEGIN:STANDARD
TZOFFSETFROM:+0200
TZOFFSETTO:+0100
TZNAME:CET
DTSTART:20211031T010000
END:STANDARD
BEGIN:DAYLIGHT
TZOFFSETFROM:+0100
TZOFFSETTO:+0200
TZNAME:CEST
DTSTART:20220327T010000
END:DAYLIGHT
BEGIN:STANDARD
TZOFFSETFROM:+0200
TZOFFSETTO:+0100
TZNAME:CET
DTSTART:20221030T010000
END:STANDARD
BEGIN:DAYLIGHT
TZOFFSETFROM:+0100
TZOFFSETTO:+0200
TZNAME:CEST
DTSTART:20230326T010000
END:DAYLIGHT
BEGIN:STANDARD
TZOFFSETFROM:+0200
TZOFFSETTO:+0100
TZNAME:CET
DTSTART:20231029T010000
END:STANDARD
END:VTIMEZONE
BEGIN:VEVENT
DTSTART;VALUE=DATE:20220826
DTEND;VALUE=DATE:20221217
DTSTAMP:20260423T020824
CREATED:20220630T104809Z
LAST-MODIFIED:20220701T112717Z
UID:7010-1661472000-1671235199@www.juliediversy.com
SUMMARY:Consultation akashique - sur RDV uniquement
DESCRIPTION:Akasha en sanskrit désigne l’éther\, l’essence primordiale\, vibratoire\, à la source de toute création. C’est la matrice qui sous-tend et embrasse l’Univers ; le champ d’énergie où tout se relie et s’imprime : nos actes\, nos émotions\, nos croyances\, nos pensées\, une existence après l’autre… Cette vaste bibliothèque\, cette âme du monde\, est l’espace de conscience auquel se branchent les chamanes\, les mystiques\, les médiums. Cette matrice universelle est partout autour de nous\, accessible à qui sait se caler sur sa fréquence\, au-delà des frontières de nos perceptions ordinaires. \nLes Archives Akashiques constituent donc le savoir passé\, présent et futur de toute chose. Elles contiennent l’enregistrement du voyage de l’Âme depuis sa conception et les possibilités de son déploiement dans le futur. On se réfère aux Archives Akashiques dans pratiquement tous les anciens enseignements spirituels. Elles sont connues dans la Bible comme “Le Livre de Vie”. \nUne consultation consiste à ouvrir vos Archives Akashiques \, avec votre autorisation\, et à transmettre les informations de ce niveau spirituel sacré et profond. Les perceptions\, éclairages et conseils que vous recevrez de cette expérience vous seront utiles pour résoudre les défis de la vie courante. Ils amèneront votre attention et votre énergie au moment présent\, ce qui vous permettra de revenir à l’essentiel. Cette session vous aidera à gagner de la clarté dans votre croissance spirituelle et personnelle pour votre bien le plus élevé. \nConsultante* en lecture akashique depuis plus de 12 ans\, je vous invite à venir en faire l’expérience. \nJe consulte par téléphone ou skype ( ou assimilé : zoom\, hangout\, facetime…)\, plus rarement en présentiel sur Aix-en-Provence. \nUne consultation dure 1h30 et je vous demande de choisir votre tarif entre 75€ de l’heure et 150€ de l’heure ( nb : pour répondre souvent aux questions à ce sujet 🙂 Il n’y a pas de différence de qualité ni de temps\, juste un souhait de ma part de répondre aux bourses de chacune et chacun. Je vous laisse donc choisir en conscience dans cette fourchette \, en prêtant attention au fait qu’il sera nécessaire d’ajouter une demi-heure au tarif horaire que vous aurez choisi puisque le rdv dure 1h30.) \nIntéressé(e) ? Alors à vos agendas 😉 Pour prendre rdv\, c’est ici : contact \nBesoin de plus d’informations ? \nVous pouvez vous procurer mon livre  » À la découverte des mémoires akashiques » paru aux éditions Eyrolles ou consultez ma page sur les Lectures Akashiques ainsi que les témoignages des clients. \nBelle journée\, \nJulie \n* certifiée par « Journey2theHeart » Don Ernesto Ortiz
URL:https://www.juliediversy.com/evenement/lecture-aak2022/
LOCATION:De chez vous\, France
CATEGORIES:Ateliers Akashiques
ATTACH;FMTTYPE=image/jpeg:https://www.juliediversy.com/wp-content/uploads/2020/10/debby-hudson-0LY01w8R4ew-unsplash-scaled.jpg
END:VEVENT
BEGIN:VEVENT
DTSTART;VALUE=DATE:20221008
DTEND;VALUE=DATE:20221010
DTSTAMP:20260423T020824
CREATED:20220701T112343Z
LAST-MODIFIED:20220914T215132Z
UID:7877-1665187200-1665359999@www.juliediversy.com
SUMMARY:Argent\, Mission de vie et Astrocoaching : Module 1 - Paris (cursus de 3x2 jours)
DESCRIPTION:Et vous\, quelle est votre relation à l’argent ? Etes-vous gêné.e ou à l’aise avec l’argent ? Avez-vous peur d’en parler ? Rencontrez-vous des difficultés par exemple pour fixer vos tarifs en tant qu’indépendant ou thérapeute ? Avez-vous peur de manquer d’argent ou de ne pas arriver à en gagner suffisamment ? Vous sentez-vous coupable de puiser dans vos économies ? d’avoir reçu de l’argent en héritage ? \nLa société\, notre éducation et nos pensées conditionnent notre rapport à l’argent au-delà même de ce que nous pouvons  imaginer ; nous entendons parler d’argent depuis notre enfance\, et selon notre famille\, notre culture\, la relation qu’entretenaient nos proches avec l’argent\, la feuille de route de nos croyances a été définie inconsciemment. Ce 1er module de 2 jours a pour objectif de visiter cette feuille de route et de visiter votre mythe personnel. \nSous le regard des étoiles\, avec\, pour cette édition spéciale\, la présence d’Ariane Tumminello spécialisée en astrocoaching\, nous explorerons en profondeur\, vos croyances et les héritages laissés par l’entourage ou les filiations (famille\, culture\, environnement social\, idéologies…). Nous identifierons votre ou vos croyances limitantes puis nous expérimenterons par des mises en situation concrètes et ludiques votre rapport à l’argent. Je vous donnerai également des clés pour comprendre et dénouer des blocages que vous rencontrez et pour ceux qui le souhaitent\, Ariane nous partagera des éclairages sur vos thèmes ainsi que sur les transits planétaires du moment.  \nCe premier module propose des pistes de solution pour rompre avec vos habitudes de pensées et amène des prises de conscience décisives sur votre façon d’envisager l’argent en clarifiant comment votre vision conditionne vos décisions et vos choix. \nDans le module suivant\, nous pourrons ensuite aborder à quoi vous consacrez votre argent et comment vous pouvez mettre en marche les synchronies de la vie pour honorer votre mission de vie. \nÀ qui s’adresse ce 1er module ? \nÀ toute personne souhaitant dépasser ses peurs sur le sujet\, y voir clair\, reprendre confiance\, comprendre en quoi et comment l’argent peut être intriqué plus largement aussi avec ses amours\, sa famille\, ses amis et son quotidien. Il constitue l’étape indispensable avant de poser vos fondamentaux de vie que nous évoquerons au module suivant. \nCe travail s’adresse également aux personnes qui ont déjà mené un travail sur elles-mêmes et qui sont ouvertes au changement. Je prendrai contact avec vous en amont si je ne vous connais pas encore pour échanger ensemble. \nCe cursus de 6 jours (3x2j) peut être également suivi par exemple en couple ou entre amis afin de mieux comprendre ce que l’argent catalyse ou cristallise dans les relations. Un 4ème module en résidentiel au soleil pourra être proposé au groupe\, selon leur souhait de poursuivre l’aventure quelques mois plus tard\, en consolidation. \nLes modalités ?  \nLe 3 séminaires se dérouleront sur Paris\, à proximité de la place d’Italie. \nSéminaire-atelier réservé à 6 personnes uniquement pour favoriser les échanges en petit comité et un travail sur mesure adapté à chacun.e. \nLes horaires du séminaire : 13h00 – 19h00 le samedi / 9h00-18h00 le dimanche ( soit 14h en présentiel). \nLe tarif : 255€ le module pour les particuliers et les TPE. Pour un financement « entreprise » me consulter. \nL’inscription au module 1 engage pour l’ensemble du cycle. Les dates des modules 2 et 3 sont définies lors du module 1. L’ensemble du cycle varie entre 4 et 8 mois selon les groupes. Un 4ème module pourra être proposé en option pour consolider les acquis si le groupe en a envie.  \nSi vous désirez plus d’informations  sur l’ensemble du cycle de 6 jours ?  C’est  ici  ou/et par mail avec vos questions en un clic via le bouton « Je m’inscris » juste en-dessous. \nVoici ici une petite vidéo de présentation également : https://vimeo.com/749739100 \nChaleureusement\, \nJulie \n\nJe m’inscris
URL:https://www.juliediversy.com/evenement/argent1-paris-octobre-2022/
LOCATION:Place d’Italie Paris\, 75013\, France
CATEGORIES:Ateliers Argent
ATTACH;FMTTYPE=image/jpeg:https://www.juliediversy.com/wp-content/uploads/2022/07/Astro-Argent-scaled.jpg
END:VEVENT
END:VCALENDAR