BEGIN:VCALENDAR
VERSION:2.0
PRODID:-//Julie Diversy - ECPv6.15.17//NONSGML v1.0//EN
CALSCALE:GREGORIAN
METHOD:PUBLISH
X-WR-CALNAME:Julie Diversy
X-ORIGINAL-URL:https://www.juliediversy.com
X-WR-CALDESC:Évènements pour Julie Diversy
REFRESH-INTERVAL;VALUE=DURATION:PT1H
X-Robots-Tag:noindex
X-PUBLISHED-TTL:PT1H
BEGIN:VTIMEZONE
TZID:Europe/Paris
BEGIN:DAYLIGHT
TZOFFSETFROM:+0100
TZOFFSETTO:+0200
TZNAME:CEST
DTSTART:20220327T010000
END:DAYLIGHT
BEGIN:STANDARD
TZOFFSETFROM:+0200
TZOFFSETTO:+0100
TZNAME:CET
DTSTART:20221030T010000
END:STANDARD
BEGIN:DAYLIGHT
TZOFFSETFROM:+0100
TZOFFSETTO:+0200
TZNAME:CEST
DTSTART:20230326T010000
END:DAYLIGHT
BEGIN:STANDARD
TZOFFSETFROM:+0200
TZOFFSETTO:+0100
TZNAME:CET
DTSTART:20231029T010000
END:STANDARD
BEGIN:DAYLIGHT
TZOFFSETFROM:+0100
TZOFFSETTO:+0200
TZNAME:CEST
DTSTART:20240331T010000
END:DAYLIGHT
BEGIN:STANDARD
TZOFFSETFROM:+0200
TZOFFSETTO:+0100
TZNAME:CET
DTSTART:20241027T010000
END:STANDARD
END:VTIMEZONE
BEGIN:VEVENT
DTSTART;VALUE=DATE:20230107
DTEND;VALUE=DATE:20230109
DTSTAMP:20260422T214450
CREATED:20221121T123552Z
LAST-MODIFIED:20221121T123552Z
UID:8049-1673049600-1673222399@www.juliediversy.com
SUMMARY:Le couple : mythes et réalités Module 2 - Aix (cursus de 3x2 jours)
DESCRIPTION:Il existe de nombreux « schémas de couple »\, le mariage en est un\, la vie en concubinage\, l’amour plurielle\, le chacun chez soi\, la vie commune\, le « de temps en temps » sont d’autres possibles… Mais au fond\, peu importe la forme que le couple revêt\, la question reste toujours la même : Qui suis-je ? et par voie de conséquence\, qu’ai-je envie de vivre et comment ? L’autre n’est qu’un miroir pour toucher à sa propre grandeur. Dans tous les cas\, le meilleur cadeau que vous pourrez vous offrir et offrir à l’autre est de vous connaitre intimement et de vous aimer sans conditions. \nQue vous soyez célibataire ou en couple\, ce séminaire de 3×2 jours débutera par l’exploration de vos premiers liens d’attachement. Le couple\, rêvé ou vécu\, quoiqu’on en pense est toujours modelé\, façonné par la relation à ses parents qu’ils aient été présents ou absents. Ces deux « figures » constituent la pierre angulaire de votre relation à l’autre\, de vos représentations du féminin et du masculin et des rôles de chacun. Ils ont été « choisis » pour vous permettre de vous rencontrer au cœur et d’embrasser totalement qui vous êtes. \nVous pourrez déposer ici vos doutes et vos peurs issues de vos croyances et de vos attentes par rapport au couple espéré\, rêvé\, vécu ou subi. Ce séminaire sera l’occasion de faire un bilan\, un point\, un arrêt sur image sur votre relation à vous-même et à l’autre. Il vous permettra également de savoir si vos polarités masculin-féminin sont à l’équilibre et éventuellement de les ré-harmoniser\, de vous libérer de certains attachements ou dépendances et de poser les premières pierres de ce que vous voulez vivre vraiment. \nNous aborderons également les questions du couple sous l’angle de l’âme (concepts de flammes jumelles\, âmes sœurs\, rencontres karmiques\, couple du Verseau etc…) et de l’énergie (champs magnétique – électrique et sexualité). \nPour qui ? \nToute personne souhaitant dépasser ses peurs sur le sujet\, y voir clair\, sonder profondément ses représentations\, ses attentes sur le couple\, visiter ses schémas et croyances liées à l’amour et qui est prête à se défaire de patterns limitants. \nCe séminaire s’adresse aux personnes qui ont déjà mené un travail sur elles-mêmes et qui souhaitent allez encore plus loin sur ces questions peut être déjà visitées par le passé mais qui n’ont pas encore amenées une réelle tranquillité d’esprit sur ce sujet. \nVoir le programme dans son ensemble et les modalités  ? c’est ici  \nLe cycle a démarré en novembre 2022 et terminera en mars 2023. Vous ne pouvez pas prendre ce cycle en cours de route car les 6 jours proposés offrent une progression indispensable. Si ce séminaire vous intéresse\, vous pouvez m’envoyer une demande d’informations pour connaitre les prochaines dates du module 1 qui vous permettra de monter à bord de cette belle aventure 😉 \nChaleureusement\, \n\nJe m’inscris
URL:https://www.juliediversy.com/evenement/couplemodule2-aix-janvier2023/
LOCATION:Aix-en-Provence\, France
CATEGORIES:Ateliers Couple
ATTACH;FMTTYPE=image/jpeg:https://www.juliediversy.com/wp-content/uploads/2022/02/freestocks-Y9mWkERHYCU-unsplash-scaled.jpg
END:VEVENT
END:VCALENDAR