BEGIN:VCALENDAR
VERSION:2.0
PRODID:-//Julie Diversy - ECPv6.15.17//NONSGML v1.0//EN
CALSCALE:GREGORIAN
METHOD:PUBLISH
X-ORIGINAL-URL:https://www.juliediversy.com
X-WR-CALDESC:Évènements pour Julie Diversy
REFRESH-INTERVAL;VALUE=DURATION:PT1H
X-Robots-Tag:noindex
X-PUBLISHED-TTL:PT1H
BEGIN:VTIMEZONE
TZID:Europe/Paris
BEGIN:DAYLIGHT
TZOFFSETFROM:+0100
TZOFFSETTO:+0200
TZNAME:CEST
DTSTART:20220327T010000
END:DAYLIGHT
BEGIN:STANDARD
TZOFFSETFROM:+0200
TZOFFSETTO:+0100
TZNAME:CET
DTSTART:20221030T010000
END:STANDARD
BEGIN:DAYLIGHT
TZOFFSETFROM:+0100
TZOFFSETTO:+0200
TZNAME:CEST
DTSTART:20230326T010000
END:DAYLIGHT
BEGIN:STANDARD
TZOFFSETFROM:+0200
TZOFFSETTO:+0100
TZNAME:CET
DTSTART:20231029T010000
END:STANDARD
BEGIN:DAYLIGHT
TZOFFSETFROM:+0100
TZOFFSETTO:+0200
TZNAME:CEST
DTSTART:20240331T010000
END:DAYLIGHT
BEGIN:STANDARD
TZOFFSETFROM:+0200
TZOFFSETTO:+0100
TZNAME:CET
DTSTART:20241027T010000
END:STANDARD
END:VTIMEZONE
BEGIN:VEVENT
DTSTART;VALUE=DATE:20230731
DTEND;VALUE=DATE:20230806
DTSTAMP:20260422T125456
CREATED:20220928T151146Z
LAST-MODIFIED:20230719T133237Z
UID:8005-1690761600-1691279999@www.juliediversy.com
SUMMARY:Retraite Reliance d'été (04) - Amour de soi et guérison
DESCRIPTION:S’aimer relève d’un challenge pour beaucoup de personnes. Les blessures inhérentes aux épreuves de la vie laissent des empreintes et créent des résistances aux niveaux physique\, émotionnel\, mental ou spirituel. Nous n’avons pas toujours conscience que nous nous aimons peu ou pas mais lorsque c’est effectivement le cas\, nous nous éloignons progressivement de qui nous sommes et arrivons à un moment où nous nous sentons perdus. La confusion\, l’inquiétude et la tristesse prennent le pas sur la joie et la clarté d’esprit qui dans un état normal doivent nous servir de boussole intérieure pour faire face aux aléas de la vie. Cette retraite prendra donc comme point de départ toutes vos questions\, qu’elles soient d’ordre professionnel\, sentimental\, physique\, existentiel ou spirituel pour poser véritablement les bases d’un changement à venir\, en sachant que le groupe que nous formerons en sera le reflet pluriel pour vous y aider. \nLa retraite débutera le lundi 31 juillet à partir de 16h (accueil à partir de 14h) et se terminera le samedi 5 août dans la matinée.  \nAu programme\, pour progressivement vous permettre d’aligner le corps\, le coeur et l’esprit : \nPratiques de Earthing ( d’ancrage à la Terre ) \nMéditations en mouvement \nGuidance akashique pour le groupe en présence \nSessions de Peinture Reliance \nCercle de paroles et d’échanges \nMéditations guidées d’entrée dans le coeur \nTemps d’écriture et de réflexion personnelle \nCette semaine sera l’occasion de nombreuses transmissions sur des sujets à titre d’exemple\, comme le couple\, l’amour de soi\, la confiance\, les synchronicités\, le silence\, la guérison\, l’expression professionnelle\, les voix parasites\, la foi en la vie\, les polarités : le masculin et le féminin\, l’eau et ses mystères\, la glande pinéale\, notre fonctionnement bio-électrique en lien avec la Terre et ses bienfaits pour notre équilibre psycho-corporel … \nL’été vous offrira également la possibilité de vous baigner dans la rivière\, de profiter de petites marches alentours en foret ou encore de vous reposer\, durant les temps d’intégration\, sur des transats ou à l’abri du pommier centenaire de Moonlight. \n\n\n\nÀ qui s’adresse cette retraite ? \nNous réservons cette retraite à 4 personnes uniquement. \n\n\n\n\n\n\n\nToutes les personnes qui souhaitent initier une profonde transformation\, trouver plus de sens\, plus de clarté\, plus de joie et de partage\, qui souhaitent apprendre à créer à partir du cœur et (ré)apprendre à se relier à leur inspiration ou leur guidance\, et qui souhaitent se restaurer et refaire le plein d’énergie en cette période estivale. \nAvoir déjà fait un travail sur soi est un plus. Vous apprécierez néanmoins cette retraite par votre ouverture d’esprit\, votre envie d’explorer et de vous relier à votre partie sacrée… mais il n’est absolument pas nécessaire de savoir dessiner ou peindre pour venir. \nAvoir un cristal de roche non poli vous sera demandé. Il sera un allié précieux pour vous durant la retraite et vous permettra aussi de poursuivre le travail d’alignement à l’issue. \nOù se déroulera notre séjour ? \nAttention : le lieu à changer – le groupe sera minimal. \n\n\n\n\nLe séjour se déroulera finalement à Saint Martin-Vésubie à l’entrée du Parc du Mercantour dans un écolodge haut de gamme rénové et propice au calme et à la beauté. \nD’autres modalités  ? \nLe tarif est de 600 € pour les 6 jours (5 nuits) de co-animation avec Pierre + tout le matériel de peinture et de Earthing inclus. \nUn acompte de 250 € sera demandé à la réservation et le solde sera facturé avant le début de la Retraite. \nL’hébergement et les repas seront à régler une fois sur place. Merci cependant d’indiquer dans votre mail de réservation quel type d’hébergement vous souhaiteriez de préférence. \nEn sus pour les 6 jours\, hébergement et repas : il existe différentes formules réservées à notre séjour et selon le nombre de participants ; merci de me consulter ; compter 25€/jour pour les repas (nous faisons 2 repas\, un brunch complet vers 10h et un repas du soir avec la possibilité pour vous de faire quelques courses dans le village à 2 pas pour une collation entre 2) et entre 60 et 130€nuit/personne selon le nombre de personnes\, 1 ou 2\, qui partagent un chalet. \nLa restauration est végétarienne (si vous avez des régimes spécifiques\, n’hésitez pas à nous en informer). \n\n\nÀ la carte (en supplément)\n\n\n👉 possibilité d’une lecture (ou soin) akashique individuelle d’1h ou 1h30 ( possible sur place\, dans le flux de la retraite). \n👉 possibilité de massage balinais sur place \nLa retraite débutera le lundi 31 juillet à partir de 16h (accueil à partir de 14h) et se terminera le samedi 5 août dans la matinée.  \nPour plus d’informations ou vous inscrire\, cliquer sur le bouton ci-dessous « Je m’inscris » 👇 \nPlus d’informations sur Julie et Pierre ?  \nJulie Diversy accompagne les personnes en transition depuis plus de 25 ans. Psychologue\, coach\, consultante en lectures akashiques\, artiste et photographe\, elle propose un travail tout en douceur dans le respect des personnes qu’elle accompagne. Elle a également écrit plusieurs ouvrages dont le dernier paru aux éditions Eyrolles s’intitule « À la découverte des mémoires akashiques ».  \nPierre Porta est illustrateur\, artiste peintre et artisan peintre-décorateur depuis plus de 30 ans. Pour aller voir son site d’artiste : pierreporta.com \nEnsemble\, ils ont créé le livre « Anouk et les mystères de l’eau » paru aux éditions Aluna en 2017 et\, ils animent des Ateliers sur le couple et des Retraites Reliance de Peinture en France. Ils sont appréciés pour leur bienveillance\, la joie qu’ils apportent et leur créativité qui permet de voir au-delà des limitations pour s’ouvrir avec confiance au champ de tous les possibles. \nPour plus d’informations et vous inscrire\, cliquer sur le bouton  « Je m’inscris » 👇 \nChaleureusement\, \n\nJe m’inscris
URL:https://www.juliediversy.com/evenement/retraite-ete2023/
LOCATION:Moustiers-Sainte-Marie\, Monastère de Ségriès\, 04360\, France
CATEGORIES:Ateliers Akashiques,Cercle,Méditation,Workshop créatifs
ATTACH;FMTTYPE=image/jpeg:https://www.juliediversy.com/wp-content/uploads/2021/08/IMG_0230.jpeg
END:VEVENT
END:VCALENDAR