BEGIN:VCALENDAR
VERSION:2.0
PRODID:-//Julie Diversy - ECPv6.15.17//NONSGML v1.0//EN
CALSCALE:GREGORIAN
METHOD:PUBLISH
X-WR-CALNAME:Julie Diversy
X-ORIGINAL-URL:https://www.juliediversy.com
X-WR-CALDESC:Évènements pour Julie Diversy
REFRESH-INTERVAL;VALUE=DURATION:PT1H
X-Robots-Tag:noindex
X-PUBLISHED-TTL:PT1H
BEGIN:VTIMEZONE
TZID:Europe/Paris
BEGIN:DAYLIGHT
TZOFFSETFROM:+0100
TZOFFSETTO:+0200
TZNAME:CEST
DTSTART:20230326T010000
END:DAYLIGHT
BEGIN:STANDARD
TZOFFSETFROM:+0200
TZOFFSETTO:+0100
TZNAME:CET
DTSTART:20231029T010000
END:STANDARD
BEGIN:DAYLIGHT
TZOFFSETFROM:+0100
TZOFFSETTO:+0200
TZNAME:CEST
DTSTART:20240331T010000
END:DAYLIGHT
BEGIN:STANDARD
TZOFFSETFROM:+0200
TZOFFSETTO:+0100
TZNAME:CET
DTSTART:20241027T010000
END:STANDARD
BEGIN:DAYLIGHT
TZOFFSETFROM:+0100
TZOFFSETTO:+0200
TZNAME:CEST
DTSTART:20250330T010000
END:DAYLIGHT
BEGIN:STANDARD
TZOFFSETFROM:+0200
TZOFFSETTO:+0100
TZNAME:CET
DTSTART:20251026T010000
END:STANDARD
END:VTIMEZONE
BEGIN:VEVENT
DTSTART;TZID=Europe/Paris:20240202T180000
DTEND;TZID=Europe/Paris:20240202T200000
DTSTAMP:20260422T031853
CREATED:20240119T122101Z
LAST-MODIFIED:20240119T122703Z
UID:8606-1706896800-1706904000@www.juliediversy.com
SUMMARY:Conf'échanges à La Ciotat sur les archives akashiques
DESCRIPTION:Chères étincelles\, \nVenez me rejoindre pour échanger à propos des archives akashiques\, à la Ciotat le vendredi 2 février à 18h\, soirée suivie d’un petit apéro. \nJ’évoquerai ce qu’elles sont\, comment on peut y accéder\, quelles informations peut-on en attendre et surtout je répondrai à l’ensemble de vos questions. \nMon dernier ouvrage paru chez Eyrolles  » Mon Journal akashique : 14 clés à explorer pour bien recevoir les messages de mes guides » ainsi que le précédent  » A la découverte des mémoires akashiques  » paru en 2022 chez le même éditeur seront en vente sur place. \nMerci de m’envoyer un mail via le formulaire de contact pour les inscriptions. \nEntrée libre avec une participation en conscience dont un pourcentage sera reversé à l’association qui nous accueille. \nAdresse communiquée à l’inscription. \nA bientôt\, \nJulie
URL:https://www.juliediversy.com/evenement/confechangeslaciotatfevrier2023/
LOCATION:Librairie L’Initié Venelles\, France
CATEGORIES:Ateliers Akashiques,Dédicaces
ATTACH;FMTTYPE=image/jpeg:https://www.juliediversy.com/wp-content/uploads/2023/09/Couverture-Journal-Aak-fond-orange-canva.jpg
END:VEVENT
BEGIN:VEVENT
DTSTART;TZID=Europe/Paris:20240217T130000
DTEND;TZID=Europe/Paris:20240218T173000
DTSTAMP:20260422T031853
CREATED:20231030T120655Z
LAST-MODIFIED:20231030T122420Z
UID:8462-1708174800-1708277400@www.juliediversy.com
SUMMARY:Le couple : mythes et réalités Module 1 - Aix centre (cursus de 3x2 jours)
DESCRIPTION:Il existe de nombreux « schémas de couple »\, le mariage en est un\, la vie en concubinage\, l’amour plurielle\, le chacun chez soi\, la vie commune\, le « de temps en temps » sont d’autres possibles… Mais au fond\, peu importe la forme que le couple revêt\, la question reste toujours la même : Qui suis-je ? et par voie de conséquence\, qu’ai-je envie de vivre et comment ? L’autre n’est qu’un miroir pour toucher à sa propre grandeur. Dans tous les cas\, le meilleur cadeau que vous pourrez vous offrir et offrir à l’autre est de vous connaitre intimement et de vous aimer sans conditions. \nQue vous soyez célibataire ou en couple\, ce séminaire de 3×2 jours débutera par l’exploration de vos premiers liens d’attachement. Le couple\, rêvé ou vécu\, quoiqu’on en pense est toujours modelé\, façonné par la relation à ses parents qu’ils aient été présents ou absents. Ces deux « figures » constituent la pierre angulaire de votre relation à l’autre\, de vos représentations du féminin et du masculin et des rôles de chacun. Ils ont été « choisis » pour vous permettre de vous rencontrer au cœur et d’embrasser totalement qui vous êtes. \nVous pourrez déposer ici vos doutes et vos peurs issues de vos croyances et de vos attentes par rapport au couple espéré\, rêvé\, vécu ou subi. Ce séminaire sera l’occasion de faire un bilan\, un point\, un arrêt sur image sur votre relation à vous-même et à l’autre. Il vous permettra également de savoir si vos polarités sont à l’équilibre\, de les ré-harmoniser\, de vous libérer de certains attachements ou dépendances et de poser les premières pierres de ce que vous voulez vivre vraiment. \nNous aborderons également lors des 3 modules vos questions sous l’angle de l’âme (concepts de flammes jumelles\, âmes sœurs\, rencontres karmiques\, couple du Verseau etc…) et de l’énergie (champs magnétique – électrique et sexualité) pour libérer les mémoires qui pourraient encore vous entraver. \n👉 Les dates du 1er module sont le 17 et 18 février 2024 \, celles des modules 2 et 3 seront à fixer ensemble avec nos agendas. Généralement le cycle en entier se déroule sur 4 à 6 mois. \n👉 Le cycle démarre en février 2024. Vous ne pouvez pas prendre ce cycle en cours de route car les 6 jours proposés offrent une progression indispensable. Ce séminaire s’adresse aussi bien aux célibataires qu’aux personnes déjà en couple. Pour venir en couple cependant\, une certaine maturité au niveau de la communication entre vous est nécessaire. Un entretien préalable sera demandé à cet effet. \nPour qui ? \nToute personne souhaitant dépasser ses peurs sur le sujet\, y voir clair\, sonder profondément ses représentations\, ses attentes sur le couple\, visiter ses schémas et croyances liées à l’amour et qui est prête à se défaire de patterns limitants. \nCe séminaire s’adresse aux personnes qui ont déjà mené un travail sur elles-mêmes et qui souhaitent allez encore plus loin sur ces questions peut être déjà visitées par le passé mais qui n’ont pas encore amenées une réelle tranquillité d’esprit sur ce sujet. \nVoir les modalités ?  \n👉 Voir le programme dans son ensemble et les modalités  ? c’est ici  \nChaleureusement\, \n\nJe m’inscris
URL:https://www.juliediversy.com/evenement/couplemodule1-aix-fevrier2024/
LOCATION:Aix-en-Provence\, France
CATEGORIES:Ateliers Couple,Cercle
ATTACH;FMTTYPE=image/jpeg:https://www.juliediversy.com/wp-content/uploads/2017/07/WhatsApp-Image-2021-08-03-at-21.00.49.jpeg
END:VEVENT
END:VCALENDAR