BEGIN:VCALENDAR
VERSION:2.0
PRODID:-//Julie Diversy - ECPv6.15.17//NONSGML v1.0//EN
CALSCALE:GREGORIAN
METHOD:PUBLISH
X-ORIGINAL-URL:https://www.juliediversy.com
X-WR-CALDESC:Évènements pour Julie Diversy
REFRESH-INTERVAL;VALUE=DURATION:PT1H
X-Robots-Tag:noindex
X-PUBLISHED-TTL:PT1H
BEGIN:VTIMEZONE
TZID:Europe/Paris
BEGIN:DAYLIGHT
TZOFFSETFROM:+0100
TZOFFSETTO:+0200
TZNAME:CEST
DTSTART:20230326T010000
END:DAYLIGHT
BEGIN:STANDARD
TZOFFSETFROM:+0200
TZOFFSETTO:+0100
TZNAME:CET
DTSTART:20231029T010000
END:STANDARD
BEGIN:DAYLIGHT
TZOFFSETFROM:+0100
TZOFFSETTO:+0200
TZNAME:CEST
DTSTART:20240331T010000
END:DAYLIGHT
BEGIN:STANDARD
TZOFFSETFROM:+0200
TZOFFSETTO:+0100
TZNAME:CET
DTSTART:20241027T010000
END:STANDARD
BEGIN:DAYLIGHT
TZOFFSETFROM:+0100
TZOFFSETTO:+0200
TZNAME:CEST
DTSTART:20250330T010000
END:DAYLIGHT
BEGIN:STANDARD
TZOFFSETFROM:+0200
TZOFFSETTO:+0100
TZNAME:CET
DTSTART:20251026T010000
END:STANDARD
END:VTIMEZONE
BEGIN:VEVENT
DTSTART;TZID=Europe/Paris:20240425T160000
DTEND;TZID=Europe/Paris:20240428T160000
DTSTAMP:20260422T002256
CREATED:20231030T112608Z
LAST-MODIFIED:20240329T113316Z
UID:8451-1714060800-1714320000@www.juliediversy.com
SUMMARY:Retraite Reliance de Printemps (06) - Vivre en 5D
DESCRIPTION:Durant cette Retraite\, nous vous proposons d’identifier les éléments de base de la vie en 5D pour sortir de vos schémas et habitudes limitantes. Par la peinture notamment\, vous inviterez votre connexion à un plan d’informations non ordinaire qu’est l’âme à se manifester en mettant de côté les questions du mental et en retrouvant une présence à vous-même claire et sereine. \nCette expérience transformatrice vous offrira la possibilité de développer votre intuition et votre écoute\, de vous rencontrer autrement\, d’harmoniser vos polarités féminin-masculin\, et vos corps subtils afin de (vous) faire (plus) confiance et repartir plus ancré et joyeux pour la suite. \nL’observation\, l’émerveillement\, le lâcher prise seront au coeur de vos explorations avec les couleurs\, le corps\, et le mouvement pour comprendre et installer\, à votre mesure\, les éléments de base d’une vie en 5D où les synchronicités\, la simplicité et la fluidité demeurent pour vivre avec magie\, au-delà des difficultés du quotidien et de ce que le collectif nous propose majoritairement d’entendre ou de voir. \n👉 Nous réservons cette retraite à 6 personnes uniquement. \nChaque journée démarre par une pratique corporelle douce et s’ajuste en fonction des besoins des personnes en présence. Des temps d’intégration seront également proposés. Moonlight se situe près d’une rivière et offre de belles balades à faire à pied sur des sentiers praticables. \n👉 La retraite débutera le jeudi 25 avril à partir de 16 h et se terminera le dimanche 28 avril à 16h. \n\n\n\nÀ qui s’adresse cette retraite ? \n\n\n\n\n\n\n\nÀ toutes les personnes qui souhaitent sortir de leurs schémas\, créer à partir du cœur et (ré)apprendre à se relier à leur inspiration ou leur guidance\, et qui souhaite refaire le plein d’énergie en cette période printanière. \nIl n’est absolument pas nécessaire de savoir dessiner ou peindre pour suivre la retraite. Seule votre envie d’explorer et de vous relier à votre partie sacrée\, compte. \n\n\n\n\nOù se déroulera notre séjour ? \nLe séjour se déroulera à Saint Martin-Vésubie à l’entrée du Parc du Mercantour dans un écolodge haut de gamme rénové et propice au calme et à la beauté. \nWebsite de notre partenaire : Moonlightchalet \nComment venir ? \nPossibilité de co-voiturage à organiser entre les participants ; Navettes régulières à partir de Nice gare et aéroport + taxi à la demande. \nD’autres modalités  ? \nLe tarif est de 450 € pour les 4 jours (3 nuits) de co-animation avec Pierre + tout le matériel inclus de peinture. \nUn acompte sera demandé à la réservation et le solde sera facturé 1 mois avant le début de la Retraite ou plus tard\, selon votre date d’inscription. \nEn sus hébergement et repas : il existe différentes formules réservées à notre séjour et selon le nombre de participants ; merci de me consulter ; compter environ 25€/jour pour les repas (nous faisons 2 repas\, un brunch complet vers 10h et un repas du soir avec la possibilité pour vous de faire quelques courses dans le village à 2 pas pour une collation entre 2) et entre 60 et 130€nuit/personne selon le nombre de personnes\, 1 ou 2\, qui partagent un chalet. \nLa restauration est végétarienne (si vous avez des régimes spécifiques\, n’hésitez pas à nous en informer). \nLes lits sont faits à l’arrivée ; les serviettes sont fournies ; les chalets disposent d’un mini frigo et d’un coin kitchenette ou salon (avec bouilloire\, thé et tisane à disposition)\, de toilettes séparés et d’une salle de bain privative. \nÀ la carte \n👉 possibilité d’une lecture akashique (à réserver à l’avance : possible dès le 25 avril à partir de 14h00 ou sur place\, dans le flux de la retraite). Attention selon votre organisation de bien réserver auprès de Moonlight Chalet une nuit supplémentaire pour une arrivée la veille le cas échéant ou si vous voulez rester plus longtemps sur place une fois la retraite terminée. \n👉 possibilité d’un massage balinais (à réserver sur place). \nLa retraite débutera le jeudi 25 avril à partir de 16 h et se terminera le dimanche 28 avril à 16h.  \nPour plus d’informations ou vous inscrire\, cliquer sur le bouton ci-dessous « Je m’inscris » 👇 \nPlus d’informations sur Julie et Pierre ?  \nJulie Diversy accompagne les personnes en transition depuis plus de 25 ans. Psychologue\, coach\, consultante en lectures akashiques\, artiste et photographe\, elle propose un travail en profondeur et en douceur dans le respect des personnes qu’elle accompagne. Elle a également écrit plusieurs ouvrages aux éditions Eyrolles en 2022 « À la découverte des mémoires akashiques » et en 2023  » Mon journal akashique : 14 clés à explorer pour bien recevoir les messages de mes guides ». \nPierre Porta est illustrateur\, artiste peintre et artisan peintre-décorateur depuis plus de 30 ans. \nEnsemble\, ils ont créé le livre « Anouk et les mystères de l’eau » paru aux éditions Aluna en 2017 et\, ils animent des Ateliers et Retraites Reliance en France. Ils sont appréciés pour leur bienveillance\, la joie qu’ils apportent et leur créativité qui permet de voir au-delà des limitations pour s’ouvrir avec confiance au champ de tous les possibles. \nPour lire des témoignages et vous aussi venir vivre cette expérience ? c’est ici  \nPour plus d’informations et vous inscrire\, cliquer sur le bouton  « Je m’inscris » 👇 \nChaleureusement\, \n\nJe m’inscris
URL:https://www.juliediversy.com/evenement/retraiteprintemps2024/
LOCATION:Moonlight Chalet\, 8 Rue Rumpelmayer\, Saint Martin Vésubie\, 06450\, France
CATEGORIES:Ateliers Akashiques,Méditation,Workshop créatifs
ATTACH;FMTTYPE=image/jpeg:https://www.juliediversy.com/wp-content/uploads/2019/09/IMG_0463-scaled.jpg
END:VEVENT
END:VCALENDAR